BEGIN:VCALENDAR
VERSION:2.0
PRODID:-//ChamberMaster//Event Calendar 2.0//EN
METHOD:PUBLISH
X-PUBLISHED-TTL:P3D
REFRESH-INTERVAL:P3D
CALSCALE:GREGORIAN
BEGIN:VEVENT
DTSTART:20111207T230000Z
DTEND:20111208T020000Z
X-MICROSOFT-CDO-ALLDAYEVENT:FALSE
SUMMARY:2011 Annual Holiday Party\, December 7\, Play Book Sports Bar
DESCRIPTION:Join us for our\n\nAnnual Holiday Party \n\n\n\nWednesday\, December 7th\n\n5:00 p.m. - 8:00 p.m.\n\nPlay Book Sports Bar\,\n\n6913 Milwaukee Avenue\, Niles\n\n\n\nThis year end celebration is our Annual Meeting\, the Installation of Officers\,\n\nplus enjoy delicious food\, drinks\, Beat The Clock raffle and our Wine Raffle! \n\n \n\nEntrance Fee: \n\n$10 In Advance (BEFORE December 5th)\n\n$15 At the Door\n\nIncludes 3 drink tickets\, heavy hors 'doeuvres and a complimentary champagne bar\n\n\n\nFor Event Invitation: Click Here\n\n\n\n2012 Board of Directors Slate is as follows:\n\nPresident\n\nIwona Filipiak\, Koenig & Strey Real Living\n\nFirst Vice President\n\nBarb Kruser\, Niles Public Library\n\nSecond Vice President\n\nJoe Penze\, Niles Police Department\n\nTreasurer\n\nBill Kivit\, NorthSide Community Bank\n\nImmediate Past President\n\nVince Scaletta\, Aflac\n\n\n\n2012 Directors\n\nKaty Elster\, Resurrection Senior Services\n\nBill Griffis\, Edward Jones\n\nMonika Kalicki\, Golf Mill Shopping Center\n\nKrystyna Koda\, RidgewoodGardens\n\nRich Mangold\, RCM Home Inspections\, LLC\n\nChris Schyvinck\, Shure Incorporated\n\nJohn Skaja\, Skaja Terrace Funeral Home\n\n \n\n \n\nPromote Your Business and Donate...\n\nWe are expecting more than 100 people to attend this event and recognize your generosity. We kindly request that businesses and organizations consider one of the following:\n\n\n	Beat The Clock Raffle. Donate a gift certificate or be creative with a gift basket promoting your company. Or purchase popular items and note it is a gift from your business. We will accept any gift\, any value! In addition to visibility from your gift\, all donors will be listed in the evening program\, the Niles Chamber Vantage Point newsletter and announced throughout the evening.\n	Wine Raffle. We kindly request individual wine bottles from your collection valued $10 or higher. Any amount is appreciated. (Please indicate the value per bottle). Ideally we would like avariety of wines. All donors will be listed on signage at the event\, in the evening program\, the Niles Chamber Vantage Point newsletter and announced throughout the evening.\n\n\nClick Here for Donation Letter
X-ALT-DESC;FMTTYPE=text/html:<div style="text-align: center\;">\n<p><span style="font-size: 14px\;"><strong><span style="font-family: verdana\;">Join us for our<br />\n<span style="color: rgb(178\, 34\, 34)\;"><span style="font-size: 18px\;">Annual Holiday Party </span></span><br />\n<br />\nWednesday\, December 7th<br />\n5:00 p.m. - 8:00 p.m.<br />\nPlay Book Sports Bar\,<br />\n6913 Milwaukee Avenue\, Niles</span></strong></span></p>\n</div>\n\n<div>\n<p style="text-align: center\;"><span style="font-size: 12px\;"><span style="font-family: verdana\;">This year end celebration is our Annual Meeting\, the Installation of Officers\,<br />\nplus enjoy delicious food\, drinks\,&nbsp\;Beat The Clock raffle and our Wine Raffle! </span></span><br />\n&nbsp\;</p>\n\n<p style="text-align: center\;"><strong><span style="font-size: 12px\;"><span style="font-family: verdana\;"><u>Entrance Fee: </u><br />\n$</span></span></strong><span style="font-size: 12px\;"><span style="font-family: verdana\;"><strong>10 In Advance (BEFORE December 5th)<br />\n$15 At the Door</strong><br />\n<em>Includes 3 drink tickets\, heavy hors &#39\;doeuvres and a complimentary champagne bar</em><br />\n<br />\nFor Event Invitation: <em><a href="http://cloud.chambermaster.com/userfiles/UserFiles/chambers/151/File/HolidayInvite2011.pdf">Click Here</a></em><br />\n<br />\n<strong>2012 Board of Directors Slate is as follows:</strong></span></span></p>\n\n<p style="text-align: center\;"><span style="font-size: 12px\;"><span style="font-family: verdana\;"><strong>President</strong><br />\n<font face="Verdana">Iwona Filipiak\, Koenig &amp\; Strey Real Living</font><br />\n<strong>First Vice President</strong><br />\n<font face="Verdana">Barb Kruser\, Niles Public Library</font><br />\n<strong>Second Vice President</strong><br />\n<font face="Verdana">Joe Penze\, Niles Police Department</font><br />\n<strong>Treasurer</strong><br />\nBill Kivit\, NorthSide Community Bank<br />\n<strong>Immediate Past President</strong><br />\n<font face="Verdana">Vince Scaletta\, Aflac</font><br />\n<br />\n<strong>2012 Directors</strong><br />\nKaty Elster\, Resurrection Senior Services<br />\nBill Griffis\, Edward Jones<br />\nMonika Kalicki\, Golf Mill Shopping Center<br />\nKrystyna Koda\, RidgewoodGardens<br />\nRich Mangold\, RCM Home Inspections\, LLC<br />\nChris Schyvinck\, Shure Incorporated<br />\nJohn Skaja\, Skaja Terrace Funeral Home</span></span><br />\n<font face="Verdana" size="2">&nbsp\;</font></p>\n</div>\n&nbsp\;\n\n<div><span style="font-size: 16px\;"><strong><span style="font-family: comic sans ms\;">Promote Your Business and Donate...</span></strong></span><br />\n<span style="font-size: 12px\;"><span style="font-family: verdana\;">We are expecting more than 100 people to attend this event and recognize your generosity. We kindly request that businesses and organizations consider one of the following:</span></span></div>\n\n<ul>\n	<li><span style="font-size: 12px\;"><span style="font-family: verdana\;"><strong>Beat The Clock&nbsp\;Raffle.</strong> Donate a gift certificate or be creative with a gift basket promoting your company. Or purchase popular items and note it is a gift from your business. We will accept any gift\, any value! In addition to visibility from your gift\, all donors will be listed in the evening program\, the Niles Chamber Vantage Point newsletter and announced throughout the evening.</span></span></li>\n	<li><span style="font-size: 12px\;"><span style="font-family: verdana\;"><strong>Wine Raffle. </strong>We kindly request individual wine bottles from your collection valued $10 or higher. Any amount is appreciated. (Please indicate the value per bottle). Ideally we would like avariety of wines. All donors will be listed on signage at the event\, in the evening program\, the Niles Chamber Vantage Point newsletter and announced throughout the evening.</span></span></li>\n</ul>\n\n<p style="text-align: center\;"><strong><em><a href="http://cloud.chambermaster.com/userfiles/UserFiles/chambers/151/File/NCCI_HPDonation.pdf"><span style="font-size: 12px\;"><span style="font-family: verdana\;">Click Here for Donation Letter</span></span></a></em></strong></p>\n
LOCATION:Play Book Sports Bar 6913 Milwaukee Avenue\, Niles
UID:e.151.713
SEQUENCE:3
DTSTAMP:20260420T014808Z
URL:https://business.nileschamber.com/events/details/2011-annual-holiday-party-december-7-play-book-sports-bar-12-07-2011-713
END:VEVENT

END:VCALENDAR
