BEGIN:VCALENDAR
VERSION:2.0
PRODID:-//ChamberMaster//Event Calendar 2.0//EN
METHOD:PUBLISH
X-PUBLISHED-TTL:P3D
REFRESH-INTERVAL:P3D
CALSCALE:GREGORIAN
BEGIN:VEVENT
DTSTART:20110719T160000Z
DTEND:20110720T013000Z
X-MICROSOFT-CDO-ALLDAYEVENT:FALSE
SUMMARY:2011 Annual Golf Outing & Dinner Fundraiser
DESCRIPTION:Join Niles Chamber of Commerce members and guests for our Annual Golf Outing. This event is the Chamber's largest fund-raiser and "fun"-raiser. Meet new contacts and greet old friends while enjoying a day of golf\, games and give-aways.  Bring your colleagues and clients as a foursome\, or take your employees as a show of gratitude for their hard work.  Many people golf as a single or double so we would be happy to pair people up. If you are not a golfer\, join us for cocktails\, dinner and raffle prizes.\n\n	 \n\n	Tuesday\, July 19\n\n	Old Orchard Country Club\n\n	700 W. Rand Road\, Mount Prospect\, IL 60056\n\n	\n\n	11:00 a.m.   Check-In & Lunch\n\n	12:00 Noon  Shotgun Start*\n\n	5:00 p.m      Cocktail Hour - Open Bar\n\n	6:30 p.m.     Dinner & Raffle\n\n	* Play format this year will be a scramble.\n\n	 \n\n	 To download Registration Form Click Here\n\n	\n		 To download Sponsorship Form Click Here\n\n\n	 \n\n	Golf Packages $150\n\n	Includes: Lunch\, TWO Complimentary Beverage Tickets\, \n\n	Golf Cart\, Goodie Bag\, Locker Room Service\, Cocktail Hour & Dinner\n\n	 \n\n	Raffle Ticket $50\n\n	This is our famous Reverse Draw Raffle\, \n\n	take the chance at winning $5\,000\, plus other great prizes.
X-ALT-DESC;FMTTYPE=text/html:<div>\n	<span style="font-family: verdana"><font size="2">Join Niles Chamber of Commerce members and guests for our Annual Golf Outing. This event is the Chamber&rsquo\;s largest fund-raiser and &quot\;fun&quot\;-raiser. Meet new contacts and greet old friends while enjoying a day of golf\, games and give-aways.&nbsp\; Bring your colleagues and clients&nbsp\;as a foursome\, or take your employees as a show of gratitude for their hard work.&nbsp\; Many people golf as a single or double so we would be happy to pair people up. If you are not a golfer\, join us for cocktails\, dinner and raffle prizes.</font></span></div>\n<div>\n	<span style="font-family: verdana"><font size="2">&nbsp\;</font></span></div>\n<div align="center">\n	<span style="font-family: verdana"><span style="font-size: x-large"><font color="#333399"><strong>Tuesday\, July 19</strong></font></span></span></div>\n<div align="center">\n	<span style="font-family: verdana"><span style="color: rgb(0\,102\,0)"><strong><span style="font-size: medium">Old Orchard&nbsp\;Country Club</span></strong></span></span></div>\n<div align="center">\n	<span style="font-family: verdana"><span style="color: rgb(0\,102\,0)"><strong><span style="font-size: medium">700 W. Rand Road\, Mount Prospect\, IL 60056</span></strong></span></span></div>\n<div align="left">\n	<br />\n	<span style="font-family: verdana"><font size="2">11:00 a.m.&nbsp\;&nbsp\; Check-In &amp\; Lunch</font></span></div>\n<div align="left">\n	<span style="font-family: verdana"><font size="2">12:00 Noon&nbsp\; Shotgun Start*</font></span></div>\n<div align="left">\n	<span style="font-family: verdana"><font size="2">5:00&nbsp\;p.m&nbsp\;&nbsp\;&nbsp\; &nbsp\; Cocktail Hour - Open Bar</font></span></div>\n<div align="left">\n	<span style="font-family: verdana"><font size="2">6:30 p.m.&nbsp\;&nbsp\;&nbsp\;&nbsp\; Dinner &amp\; Raffle</font></span></div>\n<div>\n	<span style="font-family: verdana"><font size="2"><font size="1">* Play format this year will be a scramble.</font></font></span></div>\n<div>\n	<span style="font-family: verdana">&nbsp\;</span></div>\n<div>\n	<span style="font-family: verdana"><em><strong><span style="font-size: small">&nbsp\;To download Registration Form</span> </strong></em><a href="http://cloud.chambermaster.com/userfiles/UserFiles/chambers/151/File/Golf_Registration2011%281%29.pdf"><span style="color: rgb(0\,0\,255)"><em><u><strong>Click Here</strong></u></em></span></a></span></div>\n<div>\n	<div>\n		<span style="font-family: verdana"><em><strong><span style="font-size: small">&nbsp\;To download Sponsorship&nbsp\;Form </span></strong></em><span style="font-size: small"><a href="http://cloud.chambermaster.com/userfiles/UserFiles/chambers/151/File/Golf_Sponsor%202011.pdf"><em><strong>Click&nbsp\;Here</strong></em></a></span></span></div>\n</div>\n<div>\n	<span style="font-family: verdana">&nbsp\;</span></div>\n<div>\n	<span style="font-family: verdana"><strong><font color="#333399" size="2">Golf Packages $150</font></strong></span></div>\n<div>\n	<span style="font-family: verdana"><font size="2">Includes: Lunch\, TWO Complimentary Beverage Tickets\, </font></span></div>\n<div>\n	<span style="font-family: verdana"><font size="2">Golf Cart\, Goodie Bag\, Locker Room Service\, </font><font size="2">Cocktail Hour &amp\; Dinner</font></span></div>\n<div>\n	<span style="font-family: verdana">&nbsp\;</span></div>\n<div>\n	<span style="font-family: verdana"><strong><font color="#333399" size="2">Raffle Ticket $50</font></strong></span></div>\n<div>\n	<span style="font-family: verdana"><font size="2">This is our famous Reverse Draw Raffle\, </font></span></div>\n<div>\n	<span style="font-family: verdana"><font size="2">take the chance at winning $5\,000\, plus other great prizes.</font></span></div>\n
LOCATION:Old Orchard Country Club 700 W. Rand Road\, Mount Prospect\, 60056
UID:e.151.680
SEQUENCE:3
DTSTAMP:20260420T100940Z
URL:https://business.nileschamber.com/events/details/2011-annual-golf-outing-dinner-fundraiser-07-19-2011-680
END:VEVENT

END:VCALENDAR
