BEGIN:VCALENDAR
VERSION:2.0
PRODID:-//ChamberMaster//Event Calendar 2.0//EN
METHOD:PUBLISH
X-PUBLISHED-TTL:P3D
REFRESH-INTERVAL:P3D
CALSCALE:GREGORIAN
BEGIN:VEVENT
DTSTART:20110210T230000Z
DTEND:20110211T000000Z
X-MICROSOFT-CDO-ALLDAYEVENT:FALSE
SUMMARY:2011 Ambassador Committee Meeting
DESCRIPTION:Ambassador Committee Meeting
X-ALT-DESC;FMTTYPE=text/html:Ambassador Committee Meeting
LOCATION:Graziano's Brick Oven Pizza 5960 W. Touhy Avenue Niles\, IL 60714
UID:e.151.664
SEQUENCE:3
DTSTAMP:20260420T174901Z
URL:https://business.nileschamber.com/events/details/2011-ambassador-committee-meeting-02-10-2011-664
END:VEVENT

END:VCALENDAR
