BEGIN:VCALENDAR
VERSION:2.0
PRODID:-//ChamberMaster//Event Calendar 2.0//EN
METHOD:PUBLISH
X-PUBLISHED-TTL:P3D
REFRESH-INTERVAL:P3D
CALSCALE:GREGORIAN
BEGIN:VEVENT
DTSTART:20100612T140000Z
DTEND:20100612T200000Z
X-MICROSOFT-CDO-ALLDAYEVENT:FALSE
SUMMARY:2010 Spring Cleaning\, Golf Mill Shopping Center
DESCRIPTION:Spring Cleaning 2010\n\nSaturday\, June 12th\n\n9:00 a.m. - 3:00 p.m. \n\n \n\nGolf Mill Shopping Center\n\nGolf Road and Milwaukee Ave.\n\nEntrance next to XSport Fitness on Milwaukee Avenue.\n\n \n\nRecycle and Donate\n\nDonate clothing and gently used furniture to W.I.N.G.S. (Women In Need Growing Stronger)\n\n \n\n  RECYCLABLE ITEMS ACCEPTED INCLUDE:\n\n\n	Computers\n	Fax Machines\n	Computer Monitors\n	MP3 Players\n	Televisions   \n	PDA's\n	Printers      \n	Video Game Consoles\n	Cell Phones     \n	VCR's/DVD Players\n	Computer Cables     \n	Zip Drives\n	Keyboards/MICE \n	Scanners\n\n\n  \n\n* Limit 10 electronic items per individual \n\n* Items not listed above will not be accepted\n\n \n\nFor more information\, please contact the Management Office at 847-699-1070 or visit www.golfmill.com
X-ALT-DESC;FMTTYPE=text/html:<div style="text-align: center\;"><span style="color: rgb(0\, 153\, 51)\;"><strong><span style="font-size: x-large\;"><span style="font-family: Verdana\;">Spring Cleaning 2010</span></span></strong></span></div>\n\n<div style="text-align: center\;"><span style="color: rgb(0\, 0\, 255)\;"><strong><span style="font-size: large\;"><span style="font-family: Verdana\;">Saturday\, June 12th</span></span></strong></span></div>\n\n<div style="text-align: center\;"><span style="color: rgb(0\, 0\, 255)\;"><strong><span style="font-size: large\;"><span style="font-family: Verdana\;">9:00 a.m. - 3:00&nbsp\;p.m. </span></span></strong></span></div>\n\n<div style="text-align: center\;"><span style="color: rgb(0\, 0\, 255)\;">&nbsp\;</span></div>\n\n<div style="text-align: center\;"><span style="color: rgb(0\, 0\, 255)\;"><span style="font-family: Verdana\;"><strong><span style="font-size: large\;">Golf Mill Shopping Center</span></strong></span></span></div>\n\n<div style="text-align: center\;"><span style="color: rgb(0\, 0\, 255)\;"><span style="font-size: small\;"><span style="font-family: Verdana\;">Golf Road and Milwaukee Ave.</span></span></span></div>\n\n<div style="text-align: center\;"><span style="color: rgb(0\, 0\, 255)\;"><span style="font-size: small\;"><span style="font-family: Verdana\;">Entrance next to XSport Fitness on Milwaukee Avenue.</span></span></span></div>\n\n<div style="text-align: center\;"><span style="color: rgb(0\, 0\, 255)\;"><span style="font-family: Verdana\;">&nbsp\;</span></span></div>\n\n<div style="text-align: center\;"><span style="color: rgb(0\, 0\, 255)\;"><strong><span style="font-size: x-large\;"><span style="font-family: Verdana\;">Recycle and Donate</span></span></strong></span></div>\n\n<div style="text-align: center\;"><span style="color: rgb(0\, 0\, 255)\;"><span style="font-size: small\;"><span style="font-family: Verdana\;">Donate clothing and gently used furniture to W.I.N.G.S. (Women In Need Growing Stronger)</span></span></span></div>\n\n<div style="text-align: center\;"><span style="color: rgb(0\, 0\, 255)\;"><span style="font-size: small\;"><span style="font-family: Verdana\;">&nbsp\;</span></span></span></div>\n\n<div style="text-align: left\;"><span style="color: rgb(0\, 0\, 255)\;"><strong><span style="font-size: small\;"><span style="font-family: Verdana\;">&nbsp\; RECYCLABLE ITEMS ACCEPTED INCLUDE:</span></span></strong></span></div>\n\n<ul>\n	<li style="text-align: left\;"><span style="color: rgb(0\, 0\, 255)\;"><span style="font-size: small\;"><span style="font-family: Verdana\;">Computers</span></span></span></li>\n	<li style="text-align: left\;"><span style="color: rgb(0\, 0\, 255)\;"><span style="font-size: small\;"><span style="font-family: Verdana\;">Fax Machines</span></span></span></li>\n	<li style="text-align: left\;"><span style="color: rgb(0\, 0\, 255)\;"><span style="font-size: small\;"><span style="font-family: Verdana\;">Computer Monitors</span></span></span></li>\n	<li style="text-align: left\;"><span style="color: rgb(0\, 0\, 255)\;"><span style="font-size: small\;"><span style="font-family: Verdana\;">MP3 Players</span></span></span></li>\n	<li style="text-align: left\;"><span style="color: rgb(0\, 0\, 255)\;"><span style="font-size: small\;"><span style="font-family: Verdana\;">Televisions&nbsp\;&nbsp\;&nbsp\;</span></span></span></li>\n	<li style="text-align: left\;"><span style="color: rgb(0\, 0\, 255)\;"><span style="font-size: small\;"><span style="font-family: Verdana\;">PDA&rsquo\;s</span></span></span></li>\n	<li style="text-align: left\;"><span style="color: rgb(0\, 0\, 255)\;"><span style="font-size: small\;"><span style="font-family: Verdana\;">Printers&nbsp\;&nbsp\;&nbsp\;&nbsp\;&nbsp\;&nbsp\;</span></span></span></li>\n	<li style="text-align: left\;"><span style="color: rgb(0\, 0\, 255)\;"><span style="font-size: small\;"><span style="font-family: Verdana\;">Video Game Consoles</span></span></span></li>\n	<li style="text-align: left\;"><span style="color: rgb(0\, 0\, 255)\;"><span style="font-size: small\;"><span style="font-family: Verdana\;">Cell Phones&nbsp\;&nbsp\;&nbsp\;&nbsp\;&nbsp\;</span></span></span></li>\n	<li style="text-align: left\;"><span style="color: rgb(0\, 0\, 255)\;"><span style="font-size: small\;"><span style="font-family: Verdana\;">VCR&rsquo\;s/DVD Players</span></span></span></li>\n	<li style="text-align: left\;"><span style="color: rgb(0\, 0\, 255)\;"><span style="font-size: small\;"><span style="font-family: Verdana\;">Computer Cables&nbsp\;&nbsp\;&nbsp\;&nbsp\;&nbsp\;</span></span></span></li>\n	<li style="text-align: left\;"><span style="color: rgb(0\, 0\, 255)\;"><span style="font-size: small\;"><span style="font-family: Verdana\;">Zip Drives</span></span></span></li>\n	<li style="text-align: left\;"><span style="color: rgb(0\, 0\, 255)\;"><span style="font-size: small\;"><span style="font-family: Verdana\;">Keyboards/MICE&nbsp\;</span></span></span></li>\n	<li style="text-align: left\;"><span style="color: rgb(0\, 0\, 255)\;"><span style="font-size: small\;"><span style="font-family: Verdana\;">Scanners</span></span></span></li>\n</ul>\n\n<div style="text-align: center\;"><span style="font-size: small\;">&nbsp\;</span><span style="font-family: Verdana\;"><span style="font-size: small\;">&nbsp\;</span></span></div>\n\n<div style="text-align: center\;"><span style="font-size: large\;"><strong><span style="color: rgb(0\, 153\, 51)\;"><span style="font-family: Verdana\;">* Limit 10 electronic items per individual&nbsp\;</span></span></strong></span></div>\n\n<div style="text-align: center\;"><span style="font-size: large\;"><strong><span style="color: rgb(0\, 153\, 51)\;"><span style="font-family: Verdana\;">* Items not listed above will not be accepted</span></span></strong></span></div>\n\n<div style="text-align: center\;"><strong><span style="font-size: medium\;"><span style="font-family: Verdana\;">&nbsp\;</span></span></strong></div>\n\n<div style="text-align: center\;"><strong><span style="font-family: Verdana\;"><span style="font-size: small\;">For more information\, please contact the Management Office at 847-699-1070 or visit </span></span></strong><a href="http://www.golfmill.com"><strong><span style="font-family: Verdana\;"><span style="font-size: small\;">www.golfmill.com</span></span></strong></a></div>\n
LOCATION:Golf Mill Shopping Center Entrance next to XSport Fitness on Milwaukee Avenue
UID:e.151.196
SEQUENCE:3
DTSTAMP:20260421T050828Z
URL:https://business.nileschamber.com/events/details/2010-spring-cleaning-golf-mill-shopping-center-06-12-2010-196
END:VEVENT

END:VCALENDAR
