BEGIN:VCALENDAR
VERSION:2.0
PRODID:-//ChamberMaster//Event Calendar 2.0//EN
METHOD:PUBLISH
X-PUBLISHED-TTL:P3D
REFRESH-INTERVAL:P3D
CALSCALE:GREGORIAN
BEGIN:VEVENT
DTSTART:20100514T150000Z
DTEND:20100514T200000Z
X-MICROSOFT-CDO-ALLDAYEVENT:FALSE
SUMMARY:2010 NorthShore Women's Conference - Lincolnshire Marriott
DESCRIPTION:Third Annual \n\nNorth Shore Women's Conference\n\nFeaturing the North Shore's Largest Networking Luncheon\n\n \n\n \n\n\nKeynote Speaker\, Beth Rosen\, 4 Keys Media\n\n"The Social Media Phenom"\n\nI'm too Busy for Social Media\, \n\nbut I Know I Have to Use It!\n\n\n \n\nAfter the keynote address\, we'll begin our networking session\, complete with three (3) small group rotations.  You'll have the opportunity to spend quality time introducing your company to nearly 30 other businesswomen!\n\nWomen's networking groups have increased in numbers and popularity in every chamber on the North Shore. Because of this\, we know this event is going to be a huge and you'll want to be a part of it!\n\n \n\nSign up today for the Luncheon and Keynote Speaker $25 \n\nCall the DBR Chamber (847) 945-4660 \n\nor the Niles Chamber (847) 268-8180 for more information.\n\n\n \n\nTo download registration form CLICK HERE\n\n\n \n\n \n\nExhibitor and Sponsorship Information\n\n \n\nPresenting Sponsors: $500 (Limit 5)\n\n~ Listing as Presenting Sponsor with logo on all promotional materials and program book\n\n~ Expo booth in prime location including 6' exhibit table and skirting\n\n~ Four luncheon tickets\n\n \n\nExhibitors: Chamber Members $250\, Non Members $350\n\n~ 6' exhibit table including skirting\n\n~ Listing in Program Book\n\n~ One luncheon ticket \n\n(Shared space for Chamber Members only\, both participants $275)
X-ALT-DESC;FMTTYPE=text/html:<div style="text-align: center\;"><span style="color: rgb(204\, 0\, 0)\;"><span style="font-size: medium\;"><strong><span style="font-family: Verdana\;">Third Annual </span></strong></span></span></div>\n\n<div style="text-align: center\;"><span style="font-size: x-large\;"><span style="color: rgb(204\, 0\, 0)\;"><span style="font-family: Verdana\;"><strong>North Shore Women&rsquo\;s Conference</strong></span></span></span></div>\n\n<div style="text-align: center\;"><span style="color: rgb(204\, 0\, 0)\;"><span style="font-size: medium\;"><span style="font-family: Verdana\;"><strong>Featuring the North Shore&rsquo\;s Largest Networking Luncheon</strong></span></span></span></div>\n\n<div style="text-align: center\;">&nbsp\;</div>\n\n<div style="text-align: center\;">&nbsp\;</div>\n\n<div>\n<div style="text-align: center\;"><font face="Verdana" size="2"><font size="2"><font face="Verdana"><strong>Keynote Speaker\, Beth Rosen\, 4 Keys Media</strong></font></font></font></div>\n\n<div style="text-align: center\;"><font face="Verdana" size="2"><font size="2"><font face="Verdana"><strong>&quot\;The Social Media Phenom&quot\;</strong></font></font></font></div>\n\n<div style="text-align: center\;"><font face="Verdana" size="2"><strong><em><span style="font-family: Verdana\;">I&rsquo\;m too Busy for Social Media\, </span></em></strong></font></div>\n\n<div style="text-align: center\;"><font face="Verdana" size="2"><strong><em><span style="font-family: Verdana\;">but I Know I Have to Use It!</span></em></strong></font></div>\n\n<div>\n<div style="text-align: left\;"><font face="Verdana" size="2">&nbsp\;</font></div>\n\n<div style="text-align: left\;"><font face="Verdana" size="2"><font face="Verdana" size="2">After the keynote address\, we&rsquo\;ll begin our networking session\, complete with three (3) small group rotations.&nbsp\; You&rsquo\;ll have the opportunity to spend quality time introducing your company to nearly 30 other businesswomen!</font></font></div>\n\n<div style="text-align: left\;"><font face="Verdana" size="2"><font face="Verdana" size="2">Women&rsquo\;s networking groups have increased in numbers and popularity in every chamber on the North Shore. Because of this\, we know this event is going to be a huge&nbsp\;and&nbsp\;you&rsquo\;ll want to be a part of it!</font></font></div>\n\n<div style="text-align: left\;"><font face="Verdana" size="2">&nbsp\;</font></div>\n\n<div style="text-align: center\;"><font face="Verdana" size="2"><strong><em>Sign up today for the Luncheon and Keynote Speaker $25 </em></strong></font></div>\n\n<div style="text-align: center\;"><font face="Verdana" size="2"><font face="Verdana" size="2"><strong><em>Call the DBR Chamber (847) 945-4660 </em></strong></font></font></div>\n\n<div style="text-align: center\;"><font face="Verdana" size="2"><font face="Verdana" size="2"><strong><em>or the Niles Chamber (847) 268-8180 for more information.</em></strong></font></font></div>\n</div>\n\n<div style="text-align: center\;"><font face="Verdana" size="2">&nbsp\;</font></div>\n\n<div style="text-align: center\;"><font face="Verdana" size="2"><em>To download registration form </em><a href="https://secure.chambermaster.com/FCKeditor/UserFiles/chambers/151/File/Women?s%20Conference%20Registration.pdf"><em>CLICK&nbsp\;HERE</em></a></font></div>\n\n<div>\n<div><font face="Verdana" size="2"><font face="Verdana" size="4">&nbsp\;</font></font></div>\n\n<div><font face="Verdana" size="2"><font face="Verdana" size="4">&nbsp\;</font></font></div>\n\n<div><font face="Verdana" size="2"><font face="Verdana" size="4"><font face="Verdana" size="2"><font face="Verdana" size="4"><strong>Exhibitor and Sponsorship Information</strong></font></font></font></font></div>\n\n<div><font face="Verdana" size="2"><font face="Verdana" size="4">&nbsp\;</font></font></div>\n\n<div><font face="Verdana" size="2"><font face="Verdana" size="4"><u><font face="Verdana"><font size="2"><strong>Presenting Sponsors:</strong> $500 (Limit 5)</font></font></u></font></font></div>\n\n<div><font face="Verdana" size="2"><font face="Verdana" size="4"><span style="font-size: small\;"><font face="Verdana"><span style="font-family: Verdana\;">~ Listing as Presenting Sponsor with logo on all promotional materials and program book</span></font></span></font></font></div>\n\n<div><font face="Verdana" size="2"><font face="Verdana" size="4"><span style="font-size: small\;"><font face="Verdana"><span style="font-family: Verdana\;">~ Expo booth in prime location including 6&rsquo\; exhibit table and skirting</span></font></span></font></font></div>\n\n<div><font face="Verdana" size="2"><font face="Verdana" size="4"><span style="font-size: small\;"><font face="Verdana"><font face="Verdana"><font face="Verdana"><span style="font-family: Verdana\;">~ Four luncheon tickets</span></font></font></font></span></font></font></div>\n\n<div><font face="Verdana" size="2"><font face="Verdana" size="4">&nbsp\;</font></font></div>\n\n<div><font face="Verdana" size="2"><font face="Verdana" size="4"><u><font face="Verdana"><font size="2"><strong>Exhibitors:</strong> Chamber Members $250\, Non Members $350</font></font></u></font></font></div>\n\n<div><font face="Verdana" size="2"><font face="Verdana" size="4"><span style="font-size: small\;"><font face="Verdana"><span style="font-family: Verdana\;">~ 6&rsquo\; exhibit table including skirting</span></font></span></font></font></div>\n\n<div><font face="Verdana" size="2"><font face="Verdana" size="4"><span style="font-size: small\;"><font face="Verdana"><span style="font-family: Verdana\;">~ Listing in Program Book</span></font></span></font></font></div>\n\n<div><font face="Verdana" size="2"><font face="Verdana" size="4"><span style="font-size: small\;"><font face="Verdana"><font face="Verdana"><font face="Verdana"><span style="font-family: Verdana\;">~ One luncheon ticket</span></font></font></font><font face="Verdana"><font face="Verdana"><font face="Verdana"><font face="Verdana"><font face="Verdana"><span style="font-family: Verdana\;"> </span></font></font></font></font></font></span></font></font></div>\n\n<div><span style="font-size: small\;"><font face="Verdana"><font face="Verdana"><font face="Verdana"><font face="Verdana"><font face="Verdana"><span style="font-family: Verdana\;">(Shared space for Chamber Members only\, both participants $275)</span></font></font></font></font></font></span></div>\n</div>\n</div>\n
LOCATION:Lincolnshire Marriott Resort 10 Marriott Drive\, Lincolnshire
UID:e.151.173
SEQUENCE:3
DTSTAMP:20260421T082232Z
URL:https://business.nileschamber.com/events/details/2010-northshore-women-s-conference-lincolnshire-marriott-05-14-2010-173
END:VEVENT

END:VCALENDAR
