BEGIN:VCALENDAR
VERSION:2.0
PRODID:-//ChamberMaster//Event Calendar 2.0//EN
METHOD:PUBLISH
X-PUBLISHED-TTL:P3D
REFRESH-INTERVAL:P3D
CALSCALE:GREGORIAN
BEGIN:VEVENT
DTSTART:20100429T130000Z
DTEND:20100429T143000Z
X-MICROSOFT-CDO-ALLDAYEVENT:FALSE
SUMMARY:2010 NAC Showcase Exhibitor Seminar
DESCRIPTION:EXHIBITOR ONE HOUR SEMINARHOW TO MAKE THE MOST OF YOUR EXHIBITOR OPPORTUNITY!Attend a one hour seminar on the do's and don'ts of exhibiting at an event like the NAC Showcase. No matter the budget\, no matter the exhibitor space\, learn how to best utilize the event to increase your customer base and gain exposure in the community. Click here to Download Exhibitor Form
X-ALT-DESC;FMTTYPE=text/html:<div style="text-align: left\;"><span style="font-size: large\;"><span style="font-family: Verdana\;"><strong>EXHIBITOR ONE HOUR SEMINAR</strong></span></span></div><div style="text-align: left\;"><span style="font-size: large\;"><span style="font-family: Verdana\;">HOW TO MAKE THE MOST OF YOUR EXHIBITOR OPPORTUNITY</span><strong><span style="font-family: Verdana\;">!</span></strong></span></div><div style="text-align: left\;"><span style="font-size: small\;"><span style="font-family: Verdana\;">Attend a one hour seminar on the do&rsquo\;s and don&rsquo\;ts of exhibiting at an event like the NAC Showcase. No matter the budget\, no matter the exhibitor space\, learn how to best utilize the event to increase your customer base and gain exposure in the community.</span></span></div><div style="text-align: left\;">&nbsp\;</div><div style="text-align: left\;"><a href="https://secure.chambermaster.com/FCKeditor/UserFiles/chambers/151/File/NAC%20Showcase%20Exhibit%20SignUp%2010.pdf"><strong><em><span style="font-size: small\;"><span style="font-family: Verdana\;">Click here to Download Exhibitor Form</span></span></em></strong></a></div>
LOCATION:Niles Public Library6960 W. Oakton StreetNiles
UID:e.151.188
SEQUENCE:3
DTSTAMP:20260421T075639Z
URL:https://business.nileschamber.com/events/details/2010-nac-showcase-exhibitor-seminar-04-29-2010-188
END:VEVENT

END:VCALENDAR
