BEGIN:VCALENDAR
VERSION:2.0
PRODID:-//ChamberMaster//Event Calendar 2.0//EN
METHOD:PUBLISH
X-PUBLISHED-TTL:P3D
REFRESH-INTERVAL:P3D
CALSCALE:GREGORIAN
BEGIN:VEVENT
DTSTART:20100624T120000Z
DTEND:20100624T143000Z
X-MICROSOFT-CDO-ALLDAYEVENT:FALSE
SUMMARY:2010 Multi-Chamber Networking Sam's Club Event
DESCRIPTION:Multi Chamber Networking Event On behalf of the Des Plaines Sam's Club\, Des Plaines\, Mount Prospect\, Niles\,   Rosemont\, and Rolling Meadows Chambers of Commerce We cordially invite you to a Roundtable Networking event on Thursday\, June 24 from 7:00 a.m. to 9:30 a.m. This is a free event for all Chamber members and Sam's Club Business Members. We will be having a few guest speakers from local businesses talking about how relationships are key to the success of small businesses. Breakfast will be served at 7:00 a.m. Click Here for Regisration Form
X-ALT-DESC;FMTTYPE=text/html:<div style="text-align: center\;"><strong><span style="font-size: large\;"><span style="font-family: Verdana\;">Multi Chamber Networking Event</span></span></strong></div><div style="text-align: center\;"><span style="font-family: Verdana\;">&nbsp\;</span></div><div style="text-align: center\;"><span style="font-size: small\;"><em><span style="font-family: Verdana\;">On behalf of the Des Plaines Sam&rsquo\;s Club\, Des Plaines\, Mount Prospect\, Niles\,&nbsp\;</span></em></span><span style="font-size: small\;"><em><span style="font-family: Verdana\;">  Rosemont\, and Rolling Meadows</span></em></span><span style="font-size: small\;"><em><span style="font-family: Verdana\;"> Chambers of Commerce</span></em></span></div><div style="text-align: center\;"><span style="font-size: small\;"><span style="font-family: Verdana\;">&nbsp\;</span></span></div><div style="text-align: center\;"><span style="font-size: small\;"><span style="font-family: Verdana\;">We cordially invite you to a Roundtable Networking event on Thursday\, June 24 from 7:00 a.m. to 9:30 a.m. This is a free event for all Chamber members and Sam&rsquo\;s Club Business Members. We will be having a few guest speakers from local businesses talking about how relationships are key to the success of small businesses.</span></span></div><div style="text-align: center\;"><span style="font-size: small\;"><span style="font-family: Verdana\;">&nbsp\;</span></span></div><div style="text-align: center\;"><span style="font-size: small\;"><span style="font-family: Verdana\;">Breakfast will be served at 7:00 a.m.</span></span></div><div style="text-align: center\;">&nbsp\;</div><div style="text-align: center\;"><a href="https://secure.chambermaster.com/FCKeditor/UserFiles/chambers/151/File/Sams%20Club_Jun%2024.pdf"><strong><span style="font-size: medium\;"><em><span style="font-family: Verdana\;">Click Here for Regisration Form</span></em></span></strong></a></div>
LOCATION:Sam's Club101 W. Oakton StreetDes Plaines\, IL 60018
UID:e.151.198
SEQUENCE:3
DTSTAMP:20260421T050720Z
URL:https://business.nileschamber.com/events/details/2010-multi-chamber-networking-sam-s-club-event-06-24-2010-198
END:VEVENT

END:VCALENDAR
