BEGIN:VCALENDAR
VERSION:2.0
PRODID:-//ChamberMaster//Event Calendar 2.0//EN
METHOD:PUBLISH
X-PUBLISHED-TTL:P3D
REFRESH-INTERVAL:P3D
CALSCALE:GREGORIAN
BEGIN:VEVENT
DTSTART:20101021T200000Z
DTEND:20101021T230000Z
X-MICROSOFT-CDO-ALLDAYEVENT:FALSE
SUMMARY:2010 Multi-Chamber Business to Business Expo & Taste\, Oct 21\, Bristol Courts
DESCRIPTION:Multi-Chamber Business-to-Business\n\nExpo & Taste\n\n \n\nPresented by:\n\nDes Plaines\, Edison Park\, Mount Prospect\, Niles\, Park Ridge\,\n\nSkokie\, and Wheeling/Prospect Heights\n\n\n\nThursday\, October 21\n\n3:00 - p.m. - 6:00 p.m.\n\nBristol Court Banquets\, 828 E. Rand Road\, Mount Prospect\n\nFree Admission and Free Parking\n\n\n\nLooking for ways to improve your bottom line? Need better marketing tools? How about vendors that can save you money? For these answers and more\, visit our Annual Business to Business Expo and Taste. Business owners\, managers\, employees and home based businesses from the area are invited to attend at no charge\, with a business card the only requirement for entry.\n\n\n\nPlus enjoy samples from these great\n\narea restaurants/caterers and more:\n\n\n\nBristol Court Banquets/Legendary Catering\n\nBuca di Beppo\n\nCalifornia Pizza Kitchen\n\nGibson's Steakhouse\n\nGullivers Pizzeria & Restaurant\n\nHilton Chicago Northbrook\n\nIllinois Nut and Candy\n\nJason's Deli\n\nKatie's Kitchen\n\nLisa's Homemade Italian Ice\n\nLynfred Winery-Wheeling\n\nMaggiano's Little Italy\n\nWa-Pa-Ghetti's Pizza
X-ALT-DESC;FMTTYPE=text/html:<div>\n<div style="margin: 0in 0in 0pt\;">\n<div style="margin: 0in 0in 0pt\; text-align: center\;"><span style="font-size: medium\;"><span style="font-size: large\;"><font face="Verdana">&nbsp\;<strong>Multi-Chamber Business-to-Business</strong></font></span></span></div>\n\n<div style="margin: 0in 0in 0pt\; text-align: center\;"><span style="font-size: medium\;"><span style="font-size: x-large\;"><font face="Verdana"><strong>Expo &amp\;&nbsp\;Taste</strong></font></span></span></div>\n\n<div style="margin: 0in 0in 0pt\; text-align: center\;"><span style="font-size: medium\;"><span style="font-size: small\;"><span style="font-family: Verdana\;"><font face="Verdana">&nbsp\;</font></span></span></span></div>\n\n<div style="margin: 0in 0in 0pt\; text-align: center\;"><span style="font-family: verdana\;"><span style="font-size: 14px\;">Presented by:</span></span></div>\n\n<div style="margin: 0in 0in 0pt\; text-align: center\;"><span style="font-family: verdana\;"><span style="font-size: 14px\;">Des Plaines\, Edison&nbsp\;Park\, Mount Prospect\, Niles\, Park Ridge\,<br />\nSkokie\, and Wheeling/Prospect Heights</span><br />\n<br />\n<strong><span style="font-size: 16px\;">Thursday\, October 21<br />\n3:00 - p.m. - 6:00 p.m.</span></strong><br />\n<span style="font-size: 14px\;">Bristol Court Banquets\, 828 E. Rand Road\, Mount Prospect<br />\nFree Admission and Free Parking<br />\n<br />\nLooking for ways to improve your bottom line? Need better marketing tools? How about vendors that can save you money? For these answers and more\, visit our Annual Business to Business Expo and Taste. Business owners\, <span style="font-size: 12px\;">ma</span>nagers\, employees and home based businesses from the area are invited to attend at no charge\, with a business card the only requirement for entry.<br />\n<br />\n<strong>Plus enjoy samples from these great<br />\narea restaurants/caterers and more:</strong></span></span><br />\n<br />\n<span style="font-size: 14px\;"><span style="font-family: verdana\;">Bristol Court Banquets/Legendary Catering<br />\nBuca di Beppo<br />\nCalifornia Pizza Kitchen<br />\nGibson&rsquo\;s Steakhouse<br />\nGullivers Pizzeria &amp\; Restaurant<br />\nHilton Chicago Northbrook<br />\nIllinois Nut and Candy<br />\nJason&rsquo\;s Deli<br />\nKatie&rsquo\;s Kitchen<br />\nLisa&rsquo\;s Homemade Italian Ice<br />\nLynfred Winery-Wheeling<br />\nMaggiano&#39\;s Little Italy<br />\nWa-Pa-Ghetti&rsquo\;s Pizza</span></span></div>\n\n<div style="margin: 0in 0in 0pt\;"><span style="font-size: 14px\;"><span style="font-family: verdana\;">&nbsp\;</span></span></div>\n</div>\n</div>\n
LOCATION:Bristol Court Banquets 828 Rand Road Mt. Prospect\, IL 60056
UID:e.151.202
SEQUENCE:3
DTSTAMP:20260420T231027Z
URL:https://business.nileschamber.com/events/details/2010-multi-chamber-business-to-business-expo-taste-oct-21-bristol-courts-10-21-2010-202
END:VEVENT

END:VCALENDAR
