BEGIN:VCALENDAR
VERSION:2.0
PRODID:-//ChamberMaster//Event Calendar 2.0//EN
METHOD:PUBLISH
X-PUBLISHED-TTL:P3D
REFRESH-INTERVAL:P3D
CALSCALE:GREGORIAN
BEGIN:VEVENT
DTSTART:20100728T220000Z
DTEND:20100729T000000Z
X-MICROSOFT-CDO-ALLDAYEVENT:FALSE
SUMMARY:2010 Multi-Chamber After Hours Networking event\, July 28\, Resurrection Medical Center
DESCRIPTION:Please mark your calendars for a special Multi-Chamber After Hours Networking Event to celebrate the opening of Resurrection Medical Center's new Patient Care Addition. Food\, refreshments\, gift bags and information about the wellness programs will be provided.\n\n \n\nResurrection Medical Center wants to be your partner in promoting the health of your employees. Our state of the art Patient Care Addition features four new patient floors with all private rooms. A cardiodiagnostics center\, new intensive care\, medical/surgical and rehabilitation units as well as a healing garden are all included in the design. Because loved ones are vital to the healing process\, family and friends are supported with a sleeper sofa\, flat-screen televison\, internet workstaiton and a loung on every floor.
X-ALT-DESC;FMTTYPE=text/html:<div>Please mark your calendars for a special Multi-Chamber After Hours Networking Event to celebrate the opening of Resurrection Medical Center&rsquo\;s new Patient Care Addition. Food\, refreshments\, gift bags and information about the wellness programs will be provided.</div>\n\n<div>&nbsp\;</div>\n\n<div>Resurrection Medical Center wants to be your partner in promoting the health of your employees. Our state of the art Patient Care Addition features four new patient floors with all private rooms. A cardiodiagnostics center\, new intensive care\, medical/surgical and rehabilitation units as well as a healing garden are all included in the design. Because loved ones are vital to the healing process\, family and friends are supported with a sleeper sofa\, flat-screen televison\, internet workstaiton and a loung on every floor.</div>\n
LOCATION:Resurrection Medical Center 7435 W. Talcott Avenue Chicago\, IL 60631 Please park in lot B. Valet parking is available.
UID:e.151.204
SEQUENCE:3
DTSTAMP:20260421T034523Z
URL:https://business.nileschamber.com/events/details/2010-multi-chamber-after-hours-networking-event-july-28-resurrection-medical-center-07-28-2010-204
END:VEVENT

END:VCALENDAR
