BEGIN:VCALENDAR
VERSION:2.0
PRODID:-//ChamberMaster//Event Calendar 2.0//EN
METHOD:PUBLISH
X-PUBLISHED-TTL:P3D
REFRESH-INTERVAL:P3D
CALSCALE:GREGORIAN
BEGIN:VEVENT
DTSTART:20100409T120000Z
DTEND:20100409T140000Z
X-MICROSOFT-CDO-ALLDAYEVENT:FALSE
SUMMARY:2010 LinkedIn Town Hall Meeting\, April 9\, Skokie Public Library
DESCRIPTION:LinkedIn Town Hall Meeting\n\n \n\nJoin noted LinkedIn super-strategist J.D. Gershbein of Owlish Communications as he presides over a Town Hall Meeting dedicated to LinkedIn.\n\n \n\nWhatever your current level of fluency - from basic navigation to profile specifics to mastering the interactive space - he will address the challenges you face in using LinkedIn to its full potential and take you to the next level.\n\n \n\nYou'll also have the chance to network with Niles and Skokie Chamber of Commerce members.\n\n \n\nTo download registration form CLICK HERE\n\n \n\nWho: Those looking to start using LinkedIn\, have specific questions about LinkedIn or want information to get the best use out of LinkedIn.\n\n \n\nWhat: A Town Hall Meeting with networking\, a light breakfast and information about LinkedIn provided by J.D. Gershbein of Owlish Communications.
X-ALT-DESC;FMTTYPE=text/html:<div><span style="font-size: x-large\;"><strong><span style="font-family: Verdana\;">LinkedIn Town Hall Meeting</span></strong></span></div>\n\n<div><span style="font-family: Verdana\;">&nbsp\;</span></div>\n\n<div><span style="font-size: medium\;"><span style="font-family: Verdana\;">Join noted LinkedIn super-strategist J.D. Gershbein of Owlish Communications as he presides over a Town Hall Meeting dedicated to LinkedIn.</span></span></div>\n\n<div><span style="font-family: Verdana\;">&nbsp\;</span></div>\n\n<div><span style="font-size: small\;"><span style="font-family: Verdana\;">Whatever your current level of fluency - from basic navigation to profile specifics to mastering the interactive space - he will address the challenges you face in using LinkedIn to its full potential and take you to the next level.</span></span></div>\n\n<div><span style="font-size: small\;"><span style="font-family: Verdana\;">&nbsp\;</span></span></div>\n\n<div><span style="font-size: small\;"><span style="font-family: Verdana\;">You&rsquo\;ll also have the chance to network with Niles and Skokie Chamber of Commerce members.</span></span></div>\n\n<div>&nbsp\;</div>\n\n<div><span style="font-size: small\;"><span style="font-family: Verdana\;">To download registration form </span></span><span style="font-family: Verdana\;"><a href="https://secure.chambermaster.com/FCKeditor/UserFiles/chambers/151/File/LinkedIn%20Seminar%20Apr10.pdf"><span style="font-size: small\;"><em>CLICK&nbsp\;HERE</em></span></a></span></div>\n\n<div>&nbsp\;</div>\n\n<div><span style="font-size: small\;"><strong><span style="font-family: Verdana\;">Who:</span></strong> <span style="font-family: Verdana\;">Those looking to start using LinkedIn\, have specific questions about LinkedIn or want information to get the best use out of LinkedIn.</span></span></div>\n\n<div><span style="font-size: small\;"><span style="font-family: Verdana\;">&nbsp\;</span></span></div>\n\n<div><span style="font-size: small\;"><strong><span style="font-family: Verdana\;">What:</span></strong> <span style="font-family: Verdana\;">A Town Hall Meeting with networking\, a light breakfast and information about LinkedIn provided by J.D. Gershbein of Owlish Communications.</span></span></div>\n
LOCATION:Skokie Public Library 5215 Oakton Street Skokie Enter on East side.
UID:e.151.177
SEQUENCE:3
DTSTAMP:20260421T082219Z
URL:https://business.nileschamber.com/events/details/2010-linkedin-town-hall-meeting-april-9-skokie-public-library-04-09-2010-177
END:VEVENT

END:VCALENDAR
