BEGIN:VCALENDAR
VERSION:2.0
PRODID:-//ChamberMaster//Event Calendar 2.0//EN
METHOD:PUBLISH
X-PUBLISHED-TTL:P3D
REFRESH-INTERVAL:P3D
CALSCALE:GREGORIAN
BEGIN:VEVENT
DTSTART:20101005T133000Z
DTEND:20101005T173000Z
X-MICROSOFT-CDO-ALLDAYEVENT:FALSE
SUMMARY:2010 Growth through Global Trade\, October 5\, Evanston Chamber
DESCRIPTION:Seminar sponsored by UPS. Presentations by Jim Beach and Chris Hanks\, founders\, The Entrepreneur School. Topics include: How to recognize & reduce risk\; Ways to identify new international business opportunities\; Resources to locate suppliers\, buyers and other overseas partners\; Tools to avoid customs errors and delays\; Efficient ways to manage\n\nexport inventories. 8:30 a.m. ? 12:30 p.m.\, Evanston Chamber of Commerce\, 1560 Sherman\n\nAvenue\, Evanston\, IL. No charge\; advance registration required. For information & registration\,\n\nplease see: www.international.ups.com/seminar
X-ALT-DESC;FMTTYPE=text/html:Seminar sponsored by UPS. Presentations by Jim Beach and Chris Hanks\, founders\, The Entrepreneur School. Topics include: How to recognize &amp\; reduce risk\; Ways to identify new international business opportunities\; Resources to locate suppliers\, buyers and other overseas partners\; Tools to avoid customs errors and delays\; Efficient ways to manage<br />\nexport inventories. 8:30 a.m. ? 12:30 p.m.\, Evanston Chamber of Commerce\, 1560 Sherman<br />\nAvenue\, Evanston\, IL. No charge\; advance registration required. For information &amp\; registration\,<br />\nplease see: www.international.ups.com/seminar
LOCATION:Evanston Chamber of Commerce\, 1560 Sherman Avenue\, Evanston\, IL. 3rd Floor Auditorium.
UID:e.151.212
SEQUENCE:3
DTSTAMP:20260421T002418Z
URL:https://business.nileschamber.com/events/details/2010-growth-through-global-trade-october-5-evanston-chamber-10-05-2010-212
END:VEVENT

END:VCALENDAR
