BEGIN:VCALENDAR
VERSION:2.0
PRODID:-//ChamberMaster//Event Calendar 2.0//EN
METHOD:PUBLISH
X-PUBLISHED-TTL:P3D
REFRESH-INTERVAL:P3D
CALSCALE:GREGORIAN
BEGIN:VEVENT
DTSTART:20100218T230000Z
DTEND:20100219T013000Z
X-MICROSOFT-CDO-ALLDAYEVENT:FALSE
SUMMARY:2010 Conversations with Teddy Roosevelt\, Skokie Theater
DESCRIPTION:Conversations with Teddy Roosevelt\n\nA Multi-Chamber Event\n\nCelebrate President's Day by getting close and personal with one of America's greatest heroes\, Teddy Roosevelt. The only president to be awarded the Noble Peace Prize and to have earned the Congressional Medal of Honor\, Teddy Roosevelt was a true visionary\, creating our national parks and many other important aspects of American life.\n\n \n\nJoin members of Niles\, Lincolnwood\, Skokie\, Edgebrook\, Sauganash and the Chicago Area Gay and Lesbian Chambers of Commerce for networking and a brief 30 minute address by President Roosevelt (as presented by Joe Wiegand) to be followed by a meet-and-greet with the actor.\n\n \n\nThursday\, February 18th\n\n5:00 p.m. - 7:30 p.m.\n\n$15 per person\n\n \n\nPrice includes show\, appetizers from Doubletree Hotel and Conference Center and desserts from Illinois Nut and Candy.
X-ALT-DESC;FMTTYPE=text/html:<div style="text-align: center\;"><strong><span style="font-size: large\;"><span style="font-family: Verdana\;">Conversations with Teddy&nbsp\;Roosevelt</span></span></strong></div>\n\n<div style="text-align: center\;"><span style="font-size: large\;"><span style="font-family: Verdana\;">A Multi-Chamber Event</span></span></div>\n\n<div style="text-align: center\;"><span style="font-size: small\;"><span style="font-family: Verdana\;">Celebrate President&rsquo\;s Day by getting close and personal with one of America&rsquo\;s greatest heroes\, Teddy Roosevelt. The only president to be awarded the Noble Peace Prize and to have earned the Congressional Medal of Honor\, Teddy Roosevelt was a true visionary\, creating our national parks and many other important aspects of American life.</span></span></div>\n\n<div style="text-align: center\;">&nbsp\;</div>\n\n<div style="text-align: center\;"><span style="font-size: small\;"><span style="font-family: Verdana\;">Join members of Niles\, Lincolnwood\, Skokie\, Edgebrook\, Sauganash and the Chicago&nbsp\;Area Gay and Lesbian Chambers of Commerce for networking and a brief 30 minute address by President Roosevelt (as presented by Joe Wiegand) to be followed by a meet-and-greet with the actor.</span></span></div>\n\n<div style="text-align: center\;">&nbsp\;</div>\n\n<div style="text-align: center\;"><strong><span style="font-size: medium\;"><span style="font-family: Verdana\;">Thursday\, February 18th</span></span></strong></div>\n\n<div style="text-align: center\;"><span style="font-size: medium\;"><span style="font-family: Verdana\;">5:00 p.m. - 7:30 p.m.</span></span></div>\n\n<div style="text-align: center\;"><span style="font-size: medium\;"><span style="font-family: Verdana\;">$15 per person</span></span></div>\n\n<div style="text-align: center\;">&nbsp\;</div>\n\n<div style="text-align: center\;"><span style="font-size: small\;"><span style="font-family: Verdana\;">Price includes show\, appetizers from Doubletree Hotel and Conference Center and desserts from Illinois Nut and Candy.</span></span></div>\n
LOCATION:Doubletree Hotel and Conference Center 9599 Skokie Blvd.\, Skokie 60077
UID:e.151.164
SEQUENCE:3
DTSTAMP:20260421T113517Z
URL:https://business.nileschamber.com/events/details/2010-conversations-with-teddy-roosevelt-skokie-theater-02-18-2010-164
END:VEVENT

END:VCALENDAR
