BEGIN:VCALENDAR
VERSION:2.0
PRODID:-//ChamberMaster//Event Calendar 2.0//EN
METHOD:PUBLISH
X-PUBLISHED-TTL:P3D
REFRESH-INTERVAL:P3D
CALSCALE:GREGORIAN
BEGIN:VEVENT
DTSTART:20100922T220000Z
DTEND:20100923T000000Z
X-MICROSOFT-CDO-ALLDAYEVENT:FALSE
SUMMARY:2010 Business After Hours\, September - Boutique Unique
DESCRIPTION:September Business After Hours hosted by:\n\nBoutique Unique/Bonjour Madame\n\n \n\nBusiness After Hours are a great way to network and meet area business owners and company representatives. Remember that networking is not only a resource to gain customers and generate leads\, but also a chance to find new vendors\, share new ideas\, or find new ways to offer benefits to your employees. \n\n \n\n\nEvent Registration posted online*. \n\nCheck out who is attending the event. Any Chamber member that registers will be listed below. *Registrations are posted from the Chamber office and NOT automatic. \n \n\nName (Company):\n\nJacob Ehrensaft - Law Offices of Jacob Ehrensaft\n\nBarb Kruser - Niles Public Library\n\nCommissioner Elaine Heinen - Niles Park District\n\nDennis Vaccaro - RV Enterprises\, Ltd.\n\nRoberta Koch - Amway Global Independent Business Owner\n\nMarzena Redo - Ambit Energy\n\nColette Celaya - D&C Chem-Dry Carpet & Upholstery Cleaning\n\nJohn Koelig - Koelig & Associates\n\nDean Strzelecki - Niles Police Department\n\nKris Hansen - The Bethany Terrace\n\nDenise McCreery - Village of Niles\n\nJoe Penze - Niles Police Department\n\nBill Griffis - Edward Jones\n\nRakesh Gangwani - Big Cinema\n\nDick Barton - Barton & Barton\, Ltd.\n\nMarty Adelberg - Electronic Merchant Systems\n\nJoanne Cwynar - Ambassador\n\nVince Scaletta - Aflac\n\nCarol Himml - Erich's Lehigh Auto Body\, Inc.\n\nJoel Pollak - Pollak for Congress\n\nJulia Pollak - Pollak for Congress\n\nDr. Bruce Hertz - Aikens-Hertz Medical Center\n\nLillian Otero - Americas Best Value Inn Hotel\n\nFong Eng - Certified Tax Accountants\n\nDale Ashcraft - Lin-Mar Motors\, Inc.\n\nRich Mangold - RCM Home Inspections\, LLC\n\nMike Molitor - Allstate Insurance\n\nIrv Loundy - Devon Bank\n\nSimona Sabu - Devon Bank \n\nTina Senska - John Senska & Sons\, Inc. \n\nJohn Senska - John Senska & Sons\, Inc. \n\n\n\nJohnJohn
X-ALT-DESC;FMTTYPE=text/html:<div>&nbsp\;</div>\n\n<div align="center"><span style="font-size: large\;"><strong><span style="color: black\; font-style: normal\;"><font face="Verdana"><em>September&nbsp\;Business After Hours hosted by:</em></font></span></strong></span></div>\n\n<div align="center"><span style="font-family: verdana\;"><span style="font-size: x-large\;"><span style="color: black\; font-style: normal\;"><font color="#ff0000"><strong>Boutique Unique/Bonjour Madame</strong></font></span></span></span></div>\n\n<div>&nbsp\;</div>\n\n<div><span style="color: black\; font-size: 10pt\; font-style: normal\;"><font face="Verdana">Business After Hours are a great way to network and meet area business owners and company representatives. Remember that networking is not only a resource to gain customers and generate leads\, but also a chance to find new vendors\, share new ideas\, or find new ways to offer benefits to your employees. </font></span></div>\n\n<div><font face="Verdana" size="2">&nbsp\;</font></div>\n\n<div>\n<div><span style="color: black\; font-size: 10pt\; font-style: normal\;"><font face="Verdana"><strong><font color="#000080"><span style="color: black\; font-size: 10pt\; font-style: normal\;"><font face="Verdana"><strong><font color="#000080">Event Registration posted online*.</font></strong>&nbsp\;</font></span></font></strong></font></span></div>\n\n<div><span style="color: black\; font-size: 10pt\; font-style: normal\;"><font face="Verdana"><strong><font color="#000080"><span style="font-family: verdana\;"><span style="font-size: small\;"><span style="color: black\; font-style: normal\;">Check out&nbsp\;who is attending the event. Any Chamber member that registers will be listed below. <em>*Registrations are posted from the Chamber office and NOT automatic.</em>&nbsp\;</span></span></span></font></strong></font></span></div>\n<font face="Verdana" size="2">&nbsp\;</font></div>\n\n<div><span style="color: black\; font-size: 10pt\; font-style: normal\;"><u><strong><font face="Verdana">Name&nbsp\;(Company):</font></strong></u><br />\n<font face="Verdana">Jacob Ehrensaft - Law Offices of Jacob Ehrensaft<br />\nBarb Kruser - Niles Public Library<br />\nCommissioner Elaine Heinen - Niles Park District<br />\nDennis Vaccaro - RV Enterprises\, Ltd.<br />\nRoberta Koch - <font color="#000000" face="Verdana" size="2">Amway Global Independent Business Owner<br />\nMarzena Redo - Ambit Energy<br />\nColette Celaya - D&amp\;C Chem-Dry Carpet &amp\; Upholstery Cleaning<br />\nJohn Koelig - Koelig &amp\; Associates<br />\nDean Strzelecki - Niles Police Department<br />\nKris Hansen - The Bethany Terrace<br />\nDenise McCreery - Village of Niles<br />\nJoe Penze - Niles Police Department<br />\nBill Griffis - Edward Jones<br />\nRakesh Gangwani - Big Cinema<br />\nDick Barton - Barton &amp\; Barton\, Ltd.<br />\nMarty <font color="#000000" face="Verdana" size="2">Adelberg</font> - Electronic Merchant Systems<br />\nJoanne Cwynar - Ambassador<br />\nVince Scaletta - Aflac<br />\nCarol Himml - Erich&#39\;s Lehigh Auto Body\, Inc.<br />\nJoel Pollak - Pollak for Congress<br />\nJulia Pollak - Pollak for Congress<br />\nDr. Bruce Hertz - Aikens-Hertz Medical Center<br />\nLillian Otero - <font color="#000000" face="Verdana" size="2">Americas Best Value Inn Hotel<br />\nFong Eng - Certified Tax Accountants<br />\nDale Ashcraft - Lin-Mar Motors\, Inc.<br />\nRich Mangold - RCM Home Inspections\, LLC<br />\nMike Molitor - Allstate Insurance<br />\nIrv Loundy - Devon&nbsp\;Bank<br />\nSimona Sabu&nbsp\;- Devon Bank</font>&nbsp\;<br />\nTina Senska - John Senska &amp\; Sons\, Inc.&nbsp\;<br />\nJohn Senska - John Senska &amp\; Sons\, Inc.&nbsp\;<br />\n<br />\n<span _fck_bookmark="1" style="display: none\;">JohnJohn&nbsp\;</span></font></font></span></div>\n
LOCATION:Boutique Unique/Bonjour Madame 7900 N. Milwaukee Avenue Niles 60714 (In the Oak Mill Mall Shopping Center)
UID:e.151.148
SEQUENCE:3
DTSTAMP:20260421T004027Z
URL:https://business.nileschamber.com/events/details/2010-business-after-hours-september-boutique-unique-09-22-2010-148
END:VEVENT

END:VCALENDAR
