BEGIN:VCALENDAR
VERSION:2.0
PRODID:-//ChamberMaster//Event Calendar 2.0//EN
METHOD:PUBLISH
X-PUBLISHED-TTL:P3D
REFRESH-INTERVAL:P3D
CALSCALE:GREGORIAN
BEGIN:VEVENT
DTSTART:20101019T220000Z
DTEND:20101020T000000Z
X-MICROSOFT-CDO-ALLDAYEVENT:FALSE
SUMMARY:2010 Business After Hours\, October - Sandberg Jewelers
DESCRIPTION:October Business After Hours hosted by:\n\nSandberg Jewelers\n\n \n\nBusiness After Hours are a great way to network and meet area business owners and company representatives. Remember that networking is not only a resource to gain customers and generate leads\, but also a chance to find new vendors\, share new ideas\, or find new ways to offer benefits to your employees. \n\n \n\n\nEvent Registration posted online*. \n\nCheck out who is attending the event. Any Chamber member that registers will be listed below. *Registrations are posted from the Chamber office and NOT automatic. \n \n\nName (Company):\n\nRoberta Koch - Amway Global Independent Business Owner\n\nBarb Kruser - Niles Public Library\n\nJacob Ehrensaft - Attorney\n\nDennis Vaccaro - RV Enterprises\, Ltd.\n\nLouise Corsini - Here To Help Professional Organizing\n\nJohn Koelig - Koelig & Associates\n\nRich Mangold - RCM Home Inspections\, Ltd.\n\nDick Barton - Barton & Barton\, Ltd.\n\nMike Sukiennik - Stitch Mine Custom Embroidery\n\nGary Glenn - Stitch Mine Custom Embroidery\n\nFong Eng - Certified Tax Accounts\n\nChris Seske - Certified Tax Accounts\n\nChuck Hartogh - C&M Auto Service Inc.\n\nPattie Spiegelman - C&M Auto Service Inc.\n\nMike Molitor - Allstate Insurance\n\nGretchen Oschman - Paragon Marketing Group\, LLC\n\nDean Strzelecki - Niles Police Department\n\nIwona Filipiak - Koenig & Strey Real Living\n\nJoe Walsh - Access Benefit Solutions\n\nRich Mangold - RCM Home Inspections\, LLC\n\nDr. Bruce Hertz - Aikens-Hertz Medical Center
X-ALT-DESC;FMTTYPE=text/html:<div>&nbsp\;</div>\n\n<div align="center"><span style="font-size: large\;"><strong><span style="color: black\; font-style: normal\;"><font face="Verdana"><em>October&nbsp\;Business After Hours hosted by:</em></font></span></strong></span></div>\n\n<div align="center"><span style="font-size: x-large\;"><span style="color: black\; font-style: normal\;"><font color="#ff0000" face="Verdana"><strong>Sandberg Jewelers</strong></font></span></span></div>\n\n<div>&nbsp\;</div>\n\n<div><span style="color: black\; font-size: 10pt\; font-style: normal\;"><font face="Verdana">Business After Hours are a great way to network and meet area business owners and company representatives. Remember that networking is not only a resource to gain customers and generate leads\, but also a chance to find new vendors\, share new ideas\, or find new ways to offer benefits to your employees. </font></span></div>\n\n<div><font face="Verdana" size="2">&nbsp\;</font></div>\n\n<div>\n<div><span style="color: black\; font-size: 10pt\; font-style: normal\;"><font face="Verdana"><strong><font color="#000080"><span style="color: black\; font-size: 10pt\; font-style: normal\;"><font face="Verdana"><strong><font color="#000080">Event Registration posted online*.</font></strong>&nbsp\;</font></span></font></strong></font></span></div>\n\n<div><span style="color: black\; font-size: 10pt\; font-style: normal\;"><font face="Verdana"><strong><font color="#000080"><font face="Verdana"><span style="color: black\; font-size: 10pt\; font-style: normal\;">Check out&nbsp\;who is attending the event. Any Chamber member that registers will be listed below. <em>*Registrations are posted from the Chamber office and NOT automatic.</em></span><span style="color: black\; font-size: 10pt\; font-style: normal\;">&nbsp\;</span></font></font></strong></font></span></div>\n<font face="Verdana" size="2">&nbsp\;</font></div>\n\n<div><span style="color: black\; font-size: 10pt\; font-style: normal\;"><u><strong><font face="Verdana">Name&nbsp\;(Company):</font></strong></u><br />\n<font face="Verdana">Roberta Koch - Amway Global Independent Business Owner<br />\nBarb Kruser - Niles Public Library<br />\nJacob Ehrensaft - Attorney<br />\nDennis Vaccaro - RV Enterprises\, Ltd.<br />\nLouise Corsini - Here To Help Professional Organizing<br />\nJohn Koelig - Koelig &amp\; Associates<br />\nRich Mangold - RCM Home Inspections\, Ltd.<br />\nDick Barton - Barton &amp\; Barton\, Ltd.<br />\nMike Sukiennik - Stitch Mine Custom Embroidery<br />\nGary Glenn - <font color="#000000" face="Verdana" size="2">Stitch Mine Custom Embroidery<br />\nFong Eng - Certified Tax Accounts<br />\nChris Seske - Certified Tax Accounts<br />\nChuck Hartogh - C&amp\;M Auto Service Inc.<br />\nPattie Spiegelman - C&amp\;M Auto Service Inc.<br />\nMike Molitor -&nbsp\;Allstate Insurance<br />\nGretchen Oschman - Paragon Marketing Group\, LLC</font></font></span><br />\nDean Strzelecki - Niles Police Department<br />\nIwona Filipiak - Koenig &amp\; Strey Real Living<br />\nJoe Walsh - Access Benefit Solutions<br />\nRich Mangold - RCM&nbsp\;Home&nbsp\;Inspections\, LLC<br />\nDr. Bruce Hertz - Aikens-Hertz Medical Center<br />\n&nbsp\;</div>\n
LOCATION:Sandberg Jewelers 7096 Carpenter Road Skokie 60076
UID:e.151.149
SEQUENCE:3
DTSTAMP:20260420T231002Z
URL:https://business.nileschamber.com/events/details/2010-business-after-hours-october-sandberg-jewelers-10-19-2010-149
END:VEVENT

END:VCALENDAR
