BEGIN:VCALENDAR
VERSION:2.0
PRODID:-//ChamberMaster//Event Calendar 2.0//EN
METHOD:PUBLISH
X-PUBLISHED-TTL:P3D
REFRESH-INTERVAL:P3D
CALSCALE:GREGORIAN
BEGIN:VEVENT
DTSTART:20101111T230000Z
DTEND:20101112T010000Z
X-MICROSOFT-CDO-ALLDAYEVENT:FALSE
SUMMARY:2010 Business After Hours\, November - Bar Louie/Holiday Inn
DESCRIPTION:November Business After Hours hosted by:\n\nHoliday Inn NorthShore\n\nBar Louie\n\n \n\nBusiness After Hours are a great way to network and meet area business owners and company representatives. Remember that networking is not only a resource to gain customers and generate leads\, but also a chance to find new vendors\, share new ideas\, or find new ways to offer benefits to your employees. \n\n \n\n\nEvent Registration posted online*. \n\nCheck out who is attending the event. Any Chamber member that registers will be listed below. *Registrations are posted from the Chamber office and NOT automatic. \n \n\nName (Company):\n\nFong Eng - Certified Tax Accountants\n\nMarianne Hansel - Certified Tax Accountants\n\nAllison Pawlicki - Advocate Family Law\n\nTom Heskin - Brilliant Electric Heating & Cooling\, Inc.\n\nVince Scaletta - Aflac\n\nBarb Kruser - Niles Public Library\n\nSue Wilsey - Niles Public Library\n\nTodd Wessell - Journal & Topics Newspaper\n\nMary Alice Wenzl - Journal & Topics Newspaper\n\nJim Capparelli - Journal & Topics Newspaper\n\nBud Skaja - Journal & Topics Newspaper\n\nBob Wessell - Journal & Topics Newspaper\n\nTom Gregory - FirstMerit Bank\n\nPattie Spiegelman - C&M Auto Services\, Inc.\n\nChuck Hartogh - C&M Auto Services\, Inc.\n\nKris Hansen - The Bethany Terrace\n\nGary Glenn - Stitch Mine Custom Embroidery\n\nMicahel Sukiennik - Stitch Mine Custom Embroidery\n\nMelinda Kubak - All About Living\, Inc.\n\nLouise Corsini - Here To Help Professional Organizing \n\nJeff Butler - Kessler\,Orlean\, Silver & Company\, P.C.\n\nDominic Celli - Celli's Beef\n\nSandi Abel - First Financial Credit Union\n\nLuis Reyes - First Financial Credit Union\n\nChris Hanusiak - Village of Niles Trustee\n\nJoe Hedrick - American Legion Morton Grove Post 134 \n\nLouella Preston - Village of Niles Trustee\n\nJohn Preston\, Guest\n\nJim Hirsh - Trib/Local\n\nMike Molitor - Allstate Insurance\n\nRon Lundin - Lin-Mar Motors\, inc.\n\nDale Ashcraft - Lin-Mar Motors\, Inc.\n\nDr. Bruce Hertz - Aikens-Hertz Medical Center\n\nBrandon Nabors & Guest - Verizon Wireless\n\nEd Reier - Contour Landscaping\, Inc.\n\nDick Barton - Barton & Barton\, Ltd.\n\nBarbara Monaghan - Capone's Hideout\n\nTimothy Flood - Capone's Hideout\n\nMarian Rodriequez - Kiddie Kingdom \n\nJohn Senska - John Senska & Sons\, Inc.\n\nTina Senska - John Senska & Sons\, Inc.\n\nAl Katz - Independent Sales Associate\, Pre-Paid Legal\n\nKrystyna Koda - Ridgewood Gardens\n\nCarol Kiser - Regency Rehabilitation Center\n\nJoe Walsh - Access Benefit Solutions\n\nStephanie Magoon - Peak Performance Health Care Center\n\nDr. Moe Munassar - Peak Performance Health Care Center
X-ALT-DESC;FMTTYPE=text/html:<div>&nbsp\;</div>\n\n<div align="center"><span style="font-size: large\;"><strong><span style="color: black\; font-style: normal\;"><font face="Verdana"><em>November&nbsp\;Business After Hours hosted by:</em></font></span></strong></span></div>\n\n<div align="center"><span style="font-size: x-large\;"><span style="color: black\; font-style: normal\;"><font color="#ff0000" face="Verdana"><strong>Holiday Inn NorthShore<br />\nBar Louie</strong></font></span></span></div>\n\n<div>&nbsp\;</div>\n\n<div><span style="color: black\; font-size: 10pt\; font-style: normal\;"><font face="Verdana">Business After Hours are a great way to network and meet area business owners and company representatives. Remember that networking is not only a resource to gain customers and generate leads\, but also a chance to find new vendors\, share new ideas\, or find new ways to offer benefits to your employees. </font></span></div>\n\n<div><font face="Verdana" size="2">&nbsp\;</font></div>\n\n<div>\n<div><span style="color: black\; font-size: 10pt\; font-style: normal\;"><font face="Verdana"><strong><font color="#000080"><span style="color: black\; font-size: 10pt\; font-style: normal\;"><font face="Verdana"><strong><font color="#000080">Event Registration posted online*.</font></strong>&nbsp\;</font></span></font></strong></font></span></div>\n\n<div><span style="color: black\; font-size: 10pt\; font-style: normal\;"><font face="Verdana"><strong><font color="#000080"><font face="Verdana"><span style="color: black\; font-size: 10pt\; font-style: normal\;">Check out&nbsp\;who is attending the event. Any Chamber member that registers will be listed below. <em>*Registrations are posted from the Chamber office and NOT automatic.</em></span><span style="color: black\; font-size: 10pt\; font-style: normal\;">&nbsp\;</span></font></font></strong></font></span></div>\n<font face="Verdana" size="2">&nbsp\;</font></div>\n\n<div><span style="color: black\; font-size: 10pt\; font-style: normal\;"><u><strong><font face="Verdana">Name&nbsp\;(Company):</font></strong></u><br />\n<font face="Verdana">Fong Eng - Certified Tax Accountants<br />\nMarianne Hansel - Certified Tax Accountants<br />\nAllison Pawlicki - Advocate Family Law<br />\nTom Heskin - Brilliant Electric Heating &amp\; Cooling\, Inc.<br />\nVince Scaletta - Aflac<br />\nBarb Kruser - Niles Public Library<br />\nSue Wilsey - Niles Public Library<br />\nTodd Wessell - Journal &amp\; Topics Newspaper<br />\nMary Alice Wenzl - Journal &amp\; Topics Newspaper<br />\nJim Capparelli - Journal &amp\; Topics Newspaper<br />\nBud Skaja - Journal &amp\; Topics Newspaper<br />\nBob Wessell - </font><font face="Verdana">Journal &amp\; Topics Newspaper<br />\nTom Gregory - FirstMerit Bank<br />\nPattie Spiegelman - C&amp\;M Auto Services\, Inc.<br />\nChuck Hartogh - C&amp\;M Auto Services\, Inc.<br />\nKris Hansen - The Bethany Terrace<br />\nGary Glenn - Stitch Mine Custom Embroidery<br />\nMicahel Sukiennik - Stitch Mine Custom Embroidery<br />\nMelinda Kubak - All About Living\, Inc.<br />\nLouise Corsini - Here To Help Professional&nbsp\;Organizing&nbsp\;</font></span><br />\n<font color="#000000" face="Verdana" size="2">Jeff Butler - Kessler\,Orlean\, Silver &amp\; Company\, P.C.<br />\nDominic Celli - Celli&#39\;s Beef<br />\nSandi Abel - First Financial Credit Union<br />\nLuis Reyes - First Financial Credit Union<br />\nChris Hanusiak - <font color="#000000" face="Verdana" size="2">Village of Niles Trustee</font><br />\nJoe Hedrick - American Legion Morton Grove Post 134&nbsp\;<br />\nLouella Preston - Village of Niles Trustee<br />\nJohn Preston\, Guest<br />\nJim Hirsh - Trib/Local<br />\nMike Molitor - Allstate Insurance<br />\nRon Lundin - Lin-Mar Motors\, inc.<br />\nDale Ashcraft&nbsp\;- Lin-Mar Motors\,&nbsp\;Inc.<br />\nDr. Bruce Hertz - Aikens-Hertz Medical Center<br />\nBrandon Nabors &amp\; Guest - Verizon Wireless<br />\nEd Reier - Contour Landscaping\, Inc.<br />\nDick Barton - Barton &amp\; Barton\, Ltd.<br />\nBarbara Monaghan - Capone&#39\;s Hideout<br />\nTimothy Flood -&nbsp\;Capone&#39\;s Hideout<br />\nMarian Rodriequez - Kiddie Kingdom&nbsp\;<br />\nJohn Senska - John Senska &amp\; Sons\, Inc.<br />\nTina Senska - <font color="#000000" face="Verdana" size="2">John Senska &amp\; Sons\, Inc.<br />\nAl Katz - Independent Sales Associate\, Pre-Paid Legal<br />\nKrystyna Koda - Ridgewood Gardens<br />\nCarol Kiser - Regency Rehabilitation Center<br />\nJoe Walsh - Access Benefit Solutions<br />\nStephanie Magoon - Peak Performance Health Care Center<br />\nDr. Moe Munassar - Peak Performance Health Care Center</font></font><br />\n<br />\n&nbsp\;</div>\n
LOCATION:Holiday Inn NorthShore 5300 W. Touhy Avenue Skokie 60077
UID:e.151.213
SEQUENCE:3
DTSTAMP:20260420T213854Z
URL:https://business.nileschamber.com/events/details/2010-business-after-hours-november-bar-louie-holiday-inn-11-11-2010-213
END:VEVENT

END:VCALENDAR
