BEGIN:VCALENDAR
VERSION:2.0
PRODID:-//ChamberMaster//Event Calendar 2.0//EN
METHOD:PUBLISH
X-PUBLISHED-TTL:P3D
REFRESH-INTERVAL:P3D
CALSCALE:GREGORIAN
BEGIN:VEVENT
DTSTART:20100519T220000Z
DTEND:20100520T000000Z
X-MICROSOFT-CDO-ALLDAYEVENT:FALSE
SUMMARY:2010 Business After Hours\, May - St. Benedict's
DESCRIPTION:May Business After Hours hosted by:\n\nSt. Benedict Nursing \n\n& Rehabilitation Center\n\n \n\nBusiness After Hours are a great way to network and meet area business owners and company representatives. Remember that networking is not only a resource to gain customers and generate leads\, but also a chance to find new vendors\, share new ideas\, or find new ways to offer benefits to your employees. \n\n \n\nEvent Registration posted online*. \n\nCheck out who is attending the event. Any Chamber member that registers before Friday\, May 14th will be entered in a drawing to win (2) E-Vantage Featured Member ads in our weekly email blast. (Winner must be present). *Registrations are posted from the Chamber office and NOT automatic. \n\n \n\nName (Company):\n\nBarb Kruser - Niles Public Library\n\nVicky Katsakos - First American Bank    \n\nJacob Ehrensaft - Attorney\n\nSamuel Thimothy - One IMS\n\nBijoy Samuel - One IMS\n\nDennis Vaccaro - RV Enterprises\, Ltd.\n\nAl Katz - Independent Sales Associate\, Pre-Paid Legal\n\nJoe Walsh - Access Benefit Solutions\n\nBill Kivit - NorthSide Community Bank\n\nIwona Filipiak - Koenig & Strey Real Living\n\nRich Mangold - RCM Home Inspections\, LLC\n\nDebra Sloan - JCare Home Medical Supplies\, Inc.\n\nGeorge Lowe - Sparkfactor\n\nPeter Crouch - Nimlok Chicago\n\nJohn Skaja - Skaja Terrace Funeral Home\n\nVince Scaletta - Aflac\n\nIrv Loundy - Devon Bank\n\nJay Dembsky - Elite Cartridge and Printer Solutions\n\nKaty Elster - St. Andrew Life Center\n\nChuck Hartogh - C&M Auto Service Inc.\n\nDavid Pilch - VP Techs Design\n\nJoanne Cwynar - Ambassador\n\nRich Block - Creative Promotionals\n\nJohn Koelig - Koelig & Associates\n\nMike Molitor - Allstate Insurance\n\nMichael Mellon\, Thornhill Design\n\nRoberta Koch\, Amway Global Independent Business Owner\n\nNorbert Johnson\, Johnson Real Estate
X-ALT-DESC;FMTTYPE=text/html:<div>&nbsp\;</div>\n\n<div align="center"><span style="font-size: large\;"><strong><span style="color: black\; font-style: normal\;"><font face="Verdana"><em>May&nbsp\;Business After Hours hosted by:</em></font></span></strong></span></div>\n\n<div align="center"><span style="font-size: x-large\;"><span style="color: black\; font-style: normal\;"><font color="#ff0000" face="Verdana"><strong>St. Benedict Nursing </strong></font></span></span></div>\n\n<div align="center"><span style="font-size: x-large\;"><span style="color: black\; font-style: normal\;"><font color="#ff0000" face="Verdana"><strong>&amp\; Rehabilitation Center</strong></font></span></span></div>\n\n<div>&nbsp\;</div>\n\n<div><span style="color: black\; font-size: 10pt\; font-style: normal\;"><font face="Verdana">Business After Hours are a great way to network and meet area business owners and company representatives. Remember that networking is not only a resource to gain customers and generate leads\, but also a chance to find new vendors\, share new ideas\, or find new ways to offer benefits to your employees. </font></span></div>\n\n<div><font face="Verdana" size="2">&nbsp\;</font></div>\n\n<div><span style="color: black\; font-size: 10pt\; font-style: normal\;"><font face="Verdana"><strong><font color="#000080">Event Registration posted online*.</font></strong>&nbsp\;</font></span></div>\n\n<div><font face="Verdana"><span style="color: black\; font-size: 10pt\; font-style: normal\;">Check out&nbsp\;who is attending the event. Any Chamber member that registers before Friday\,&nbsp\;May&nbsp\;14th will be entered&nbsp\;in a drawing to win (2) E-Vantage Featured Member ads in our weekly email blast. (Winner must be present). <em>*Registrations are posted from the Chamber office and NOT automatic.</em></span><span style="color: black\; font-size: 10pt\; font-style: normal\;">&nbsp\;</span></font></div>\n\n<div><font face="Verdana" size="2">&nbsp\;</font></div>\n\n<div><span style="color: black\; font-size: 10pt\; font-style: normal\;"><u><strong><font face="Verdana">Name&nbsp\;(Company):</font></strong></u></span></div>\n\n<div><span style="font-size: small\;"><span style="font-family: Verdana\;">Barb Kruser - Niles Public Library</span></span></div>\n\n<div><span style="font-size: small\;"><span style="font-family: Verdana\;">Vicky Katsakos - First American Bank&nbsp\;&nbsp\;&nbsp\;&nbsp\;</span></span></div>\n\n<div><span style="font-size: small\;"><span style="font-family: Verdana\;">Jacob Ehrensaft - Attorney</span></span></div>\n\n<div><span style="font-size: small\;"><span style="font-family: Verdana\;">Samuel Thimothy - One IMS</span></span></div>\n\n<div><span style="font-size: small\;"><span style="font-family: Verdana\;">Bijoy Samuel - One IMS</span></span></div>\n\n<div><span style="font-size: small\;"><span style="font-family: Verdana\;">Dennis Vaccaro - RV Enterprises\, Ltd.</span></span></div>\n\n<div><span style="font-size: small\;"><span style="font-family: Verdana\;">Al Katz - Independent Sales Associate\, Pre-Paid Legal</span></span></div>\n\n<div><span style="font-size: small\;"><span style="font-family: Verdana\;">Joe Walsh - Access Benefit Solutions</span></span></div>\n\n<div><span style="font-size: small\;"><span style="font-family: Verdana\;">Bill Kivit - NorthSide Community Bank</span></span></div>\n\n<div><span style="font-size: small\;"><span style="font-family: Verdana\;">Iwona Filipiak - Koenig &amp\; Strey Real Living</span></span></div>\n\n<div><span style="font-size: small\;"><span style="font-family: Verdana\;">Rich Mangold - RCM Home Inspections\, LLC</span></span></div>\n\n<div><span style="font-size: small\;"><span style="font-family: Verdana\;">Debra Sloan - JCare Home Medical Supplies\, Inc.</span></span></div>\n\n<div><span style="font-size: small\;"><span style="font-family: Verdana\;">George Lowe - Sparkfactor</span></span></div>\n\n<div><span style="font-size: small\;"><span style="font-family: Verdana\;">Peter Crouch - Nimlok Chicago</span></span></div>\n\n<div><span style="font-size: small\;"><span style="font-family: Verdana\;">John Skaja - Skaja Terrace Funeral Home</span></span></div>\n\n<div><span style="font-size: small\;"><span style="font-family: Verdana\;">Vince Scaletta - Aflac</span></span></div>\n\n<div><span style="font-size: small\;"><span style="font-family: Verdana\;">Irv Loundy - Devon Bank</span></span></div>\n\n<div><span style="font-size: small\;"><span style="font-family: Verdana\;">Jay Dembsky - Elite Cartridge and Printer Solutions</span></span></div>\n\n<div><span style="font-size: small\;"><span style="font-family: Verdana\;">Katy Elster - St. Andrew Life Center</span></span></div>\n\n<div><span style="font-size: small\;"><span style="font-family: Verdana\;">Chuck Hartogh - C&amp\;M Auto Service Inc.</span></span></div>\n\n<div><span style="font-size: small\;"><span style="font-family: Verdana\;">David Pilch - VP Techs Design</span></span></div>\n\n<div><span style="font-size: small\;"><span style="font-family: Verdana\;">Joanne Cwynar - Ambassador</span></span></div>\n\n<div><span style="font-size: small\;"><span style="font-family: Verdana\;">Rich Block - Creative Promotionals</span></span></div>\n\n<div><span style="font-size: small\;"><span style="font-family: Verdana\;">John Koelig - Koelig &amp\; Associates</span></span></div>\n\n<div><span style="font-size: small\;"><span style="font-family: Verdana\;">Mike Molitor - Allstate Insurance</span></span></div>\n\n<div><span style="font-size: small\;"><span style="font-family: Verdana\;">Michael Mellon\, Thornhill Design</span></span></div>\n\n<div><span style="font-size: small\;"><span style="font-family: Verdana\;">Roberta Koch\, Amway Global Independent Business Owner</span></span></div>\n\n<div><span style="font-size: small\;"><span style="font-family: Verdana\;">Norbert Johnson\, Johnson Real Estate</span></span></div>\n
LOCATION:St. Benedict Nursing & Rehabilitation Center 6930 W. Touhy Avenue Niles 60714
UID:e.151.145
SEQUENCE:3
DTSTAMP:20260421T064150Z
URL:https://business.nileschamber.com/events/details/2010-business-after-hours-may-st-benedict-s-05-19-2010-145
END:VEVENT

END:VCALENDAR
