BEGIN:VCALENDAR
VERSION:2.0
PRODID:-//ChamberMaster//Event Calendar 2.0//EN
METHOD:PUBLISH
X-PUBLISHED-TTL:P3D
REFRESH-INTERVAL:P3D
CALSCALE:GREGORIAN
BEGIN:VEVENT
DTSTART:20100623T220000Z
DTEND:20100624T000000Z
X-MICROSOFT-CDO-ALLDAYEVENT:FALSE
SUMMARY:2010 Business After Hours\, June - RV Ent & UPS Store
DESCRIPTION:June Business After Hours hosted by:\n\nRV Enterprises\, Ltd. & \n\nThe UPS Store\n\n \n\nBusiness After Hours are a great way to network and meet area business owners and company representatives. Remember that networking is not only a resource to gain customers and generate leads\, but also a chance to find new vendors\, share new ideas\, or find new ways to offer benefits to your employees. \n\n \n\nMeet Author A. Manette Ansay\n\nPlus\, this month meet author A. Manette Ansay with her newest book Good Things I Wish You. She will be signing books from 5:00 - 6:00 p.m. Books will be available for purchase for $26 (cash/check only please)\, 20% of proceeds will be donated to the Niles Chamber Dollars for Scholars Program.\n\n \n\nEvent Registration posted online*. \n\nCheck out who is attending the event. Any Chamber member that registers before Wednesday\, June 18th will be entered in a drawing to win (2) E-Vantage Featured Member ads in our weekly email blast. (Winner must be present). *Registrations are posted from the Chamber office and NOT automatic. \n\n \n\nName (Company):\n\nRoberta Koch - Amway Global Independent Business Owner\n\nChuck Hartogh - C&M Auto Service Inc.\n\nPattie Spiegelman - C&M Auto Service Inc.\n\nColette Celaya - D&C Chem-Dry Carpeting & Upholstery Cleaning\n\nDennis Celaya - D&C Chem-Dry Carpeting & Upholstery Cleaning\n\nJacob Ehrensaft - Attorney\n\nSamuel Thimothy - One IMS\n\nBarb Kruser\, Niles Public Library\n\nDean Strzelecki\, Niles Police Department\n\nValerie Niskanen\, St. Matthew Center for Health\n\nJohn Koelig\, Koelig & Associates\n\nAl Katz\, Independent Sales Associate\, Pre-Paid Legal\n\nBill Griffis\, Edward Jones\n\nSteve Ahn\, Bee Sales\, IWC\n\nMike Molitor\, Allstate Insurance\n\nJoe Walsh\, Access Benefit Solutions\n\nRegina Provenzano\, ProWindows Service\, Inc.\n\nJohn Preston\, Niles Lions\n\nAl Yabi\, ASAYA Solutions\, Inc.\n\nAziz Quraishi\, ASAYA Solutions\, Inc.\n\nPatricia Clemente\, E.R.C. Delivery Service\, Inc.\n\nAnna Rojek\, Exemplar Financial Network\n\nMumtaz Qureshi\, Golden Knots\n\nPeter Mayer\, Journal & Topics Newspapers\n\nIwona Filipiak\, Koenig & Strey Real Living\n\nIvette Shurson\, Mark Shurson Photography\n\nBea Lipski\, Minuteman Press\n\nKen Lipski\, Minuteman Press\n\nDan Graczyk\, UTouch Systems\n\nMarvin Molina\, Wal-Mart
X-ALT-DESC;FMTTYPE=text/html:<div>&nbsp\;</div>\n\n<div align="center"><span style="font-size: large\;"><strong><span style="color: black\; font-style: normal\;"><font face="Verdana"><em>June&nbsp\;Business After Hours hosted by:</em></font></span></strong></span></div>\n\n<div align="center"><span style="color: rgb(153\, 51\, 0)\;"><span style="font-size: x-large\;"><span style="font-style: normal\;"><font face="Verdana"><strong>RV Enterprises\, Ltd. &amp\; </strong></font></span></span></span></div>\n\n<div align="center"><span style="color: rgb(153\, 51\, 0)\;"><span style="font-size: x-large\;"><span style="font-style: normal\;"><font face="Verdana"><strong>The UPS Store</strong></font></span></span></span></div>\n\n<div>&nbsp\;</div>\n\n<div><span style="color: black\; font-size: 10pt\; font-style: normal\;"><font face="Verdana">Business After Hours are a great way to network and meet area business owners and company representatives. Remember that networking is not only a resource to gain customers and generate leads\, but also a chance to find new vendors\, share new ideas\, or find new ways to offer benefits to your employees. </font></span></div>\n\n<div>&nbsp\;</div>\n\n<div><span style="font-size: small\;"><strong><span style="font-family: Verdana\;">Meet Author A. Manette Ansay</span></strong></span></div>\n\n<div><span style="font-family: Verdana\;"><span style="font-size: small\;"><span style="color: black\; font-style: normal\;">Plus\, this month meet author A. Manette Ansay with her newest book <em>Good Things I&nbsp\;Wish You</em></span>. She will be signing books from 5:00 - 6:00 p.m.</span></span> <span style="font-size: small\;"><span style="font-family: Verdana\;">Books will be available for purchase for $26 (cash/check only please)\, <em><strong>20% of proceeds will be donated to the Niles Chamber Dollars for Scholars Program</strong></em>.</span></span></div>\n\n<div>&nbsp\;</div>\n\n<div><span style="color: black\; font-size: 10pt\; font-style: normal\;"><font face="Verdana"><strong><font color="#000080">Event Registration posted online*.</font></strong>&nbsp\;</font></span></div>\n\n<div><font face="Verdana"><span style="color: black\; font-size: 10pt\; font-style: normal\;">Check out&nbsp\;who is attending the event. Any Chamber member that registers before Wednesday\,&nbsp\;June 18th will be entered&nbsp\;in a drawing to win (2) E-Vantage Featured Member ads in our weekly email blast. (Winner must be present). <em>*Registrations are posted from the Chamber office and NOT automatic.</em></span><span style="color: black\; font-size: 10pt\; font-style: normal\;">&nbsp\;</span></font></div>\n\n<div><font face="Verdana" size="2">&nbsp\;</font></div>\n\n<div><span style="color: black\; font-size: 10pt\; font-style: normal\;"><u><strong><font face="Verdana">Name&nbsp\;(Company):</font></strong></u></span></div>\n\n<div><span style="color: black\; font-size: 10pt\; font-style: normal\;"><font face="Verdana">Roberta Koch - Amway Global Independent Business Owner</font></span></div>\n\n<div><span style="color: black\; font-size: 10pt\; font-style: normal\;"><font face="Verdana">Chuck Hartogh - C&amp\;M Auto Service Inc.</font></span></div>\n\n<div><span style="color: black\; font-size: 10pt\; font-style: normal\;"><font face="Verdana">Pattie Spiegelman - C&amp\;M Auto Service Inc.</font></span></div>\n\n<div><span style="color: black\; font-size: 10pt\; font-style: normal\;"><font face="Verdana">Colette Celaya - D&amp\;C Chem-Dry Carpeting &amp\; Upholstery Cleaning</font></span></div>\n\n<div><span style="color: black\; font-size: 10pt\; font-style: normal\;"><font face="Verdana">Dennis Celaya - D&amp\;C Chem-Dry Carpeting &amp\; Upholstery Cleaning</font></span></div>\n\n<div><span style="color: black\; font-size: 10pt\; font-style: normal\;"><font face="Verdana">Jacob Ehrensaft - Attorney</font></span></div>\n\n<div><span style="color: black\; font-size: 10pt\; font-style: normal\;"><font face="Verdana">Samuel Thimothy - One IMS</font></span></div>\n\n<div><span style="color: black\; font-size: 10pt\; font-style: normal\;"><font face="Verdana">Barb Kruser\, Niles Public Library</font></span></div>\n\n<div><span style="color: black\; font-size: 10pt\; font-style: normal\;"><font face="Verdana">Dean Strzelecki\, Niles Police Department</font></span></div>\n\n<div><span style="color: black\; font-size: 10pt\; font-style: normal\;"><font face="Verdana">Valerie Niskanen\, St. Matthew Center for Health</font></span></div>\n\n<div><span style="color: black\; font-size: 10pt\; font-style: normal\;"><font face="Verdana">John Koelig\, Koelig &amp\; Associates</font></span></div>\n\n<div><span style="color: black\; font-size: 10pt\; font-style: normal\;"><font face="Verdana">Al Katz\, Independent Sales Associate\, Pre-Paid Legal</font></span></div>\n\n<div><span style="color: black\; font-size: 10pt\; font-style: normal\;"><font face="Verdana">Bill Griffis\, Edward Jones</font></span></div>\n\n<div><span style="color: black\; font-size: 10pt\; font-style: normal\;"><font face="Verdana">Steve Ahn\, Bee Sales\, IWC</font></span></div>\n\n<div><span style="color: black\; font-size: 10pt\; font-style: normal\;"><font face="Verdana">Mike Molitor\, Allstate Insurance</font></span></div>\n\n<div><span style="color: black\; font-size: 10pt\; font-style: normal\;"><font face="Verdana">Joe Walsh\, Access Benefit Solutions</font></span></div>\n\n<div><span style="color: black\; font-size: 10pt\; font-style: normal\;"><font face="Verdana">Regina Provenzano\, ProWindows Service\, Inc.</font></span></div>\n\n<div><span style="color: black\; font-size: 10pt\; font-style: normal\;"><font face="Verdana">John Preston\, Niles Lions</font></span></div>\n\n<div><span style="color: black\; font-size: 10pt\; font-style: normal\;"><font face="Verdana">Al Yabi\, ASAYA Solutions\, Inc.</font></span></div>\n\n<div><span style="color: black\; font-size: 10pt\; font-style: normal\;"><font face="Verdana">Aziz Quraishi\, ASAYA Solutions\, Inc.</font></span></div>\n\n<div><span style="color: black\; font-size: 10pt\; font-style: normal\;"><font face="Verdana">Patricia Clemente\, E.R.C. Delivery Service\, Inc.</font></span></div>\n\n<div><span style="color: black\; font-size: 10pt\; font-style: normal\;"><font face="Verdana">Anna Rojek\, Exemplar Financial Network</font></span></div>\n\n<div><span style="color: black\; font-size: 10pt\; font-style: normal\;"><font face="Verdana">Mumtaz Qureshi\, Golden Knots</font></span></div>\n\n<div><span style="color: black\; font-size: 10pt\; font-style: normal\;"><font face="Verdana">Peter Mayer\, Journal &amp\; Topics Newspapers</font></span></div>\n\n<div><span style="color: black\; font-size: 10pt\; font-style: normal\;"><font face="Verdana">Iwona Filipiak\, Koenig &amp\; Strey Real Living</font></span></div>\n\n<div><span style="color: black\; font-size: 10pt\; font-style: normal\;"><font face="Verdana">Ivette Shurson\, Mark Shurson Photography</font></span></div>\n\n<div><span style="color: black\; font-size: 10pt\; font-style: normal\;"><font face="Verdana">Bea Lipski\, Minuteman Press</font></span></div>\n\n<div><span style="color: black\; font-size: 10pt\; font-style: normal\;"><font face="Verdana">Ken Lipski\, Minuteman Press</font></span></div>\n\n<div><span style="color: black\; font-size: 10pt\; font-style: normal\;"><font face="Verdana">Dan Graczyk\, UTouch Systems</font></span></div>\n\n<div><span style="color: black\; font-size: 10pt\; font-style: normal\;"><font face="Verdana">Marvin Molina\, Wal-Mart</font></span></div>\n\n<div>&nbsp\;</div>\n\n<div>&nbsp\;</div>\n
LOCATION:The UPS Store 8926 N. Greenwood Niles 60714
UID:e.151.146
SEQUENCE:3
DTSTAMP:20260421T051032Z
URL:https://business.nileschamber.com/events/details/2010-business-after-hours-june-rv-ent-ups-store-06-23-2010-146
END:VEVENT

END:VCALENDAR
