BEGIN:VCALENDAR
VERSION:2.0
PRODID:-//ChamberMaster//Event Calendar 2.0//EN
METHOD:PUBLISH
X-PUBLISHED-TTL:P3D
REFRESH-INTERVAL:P3D
CALSCALE:GREGORIAN
BEGIN:VEVENT
DTSTART:20100126T230000Z
DTEND:20100127T010000Z
X-MICROSOFT-CDO-ALLDAYEVENT:FALSE
SUMMARY:2010 Business After Hours\, January - Illinois Nut & Candy
DESCRIPTION:January Business After Hours hosted by:\n\nIllinois Nut & Candy\n\n \n\nBusiness After Hours are a great way to network and meet area business owners and company representatives. Remember that networking is not only a resource to gain customers and generate leads\, but also a chance to find new vendors\, share new ideas\, or find new ways to offer benefits to your employees. \n\n \n\nEvent Registration posted online*. \n\nCheck out who is attending the event. Any Chamber member that registers before Wednesday\, January 20th will be entered in a drawing to win a (2) E-Vantage Featured Member ad in our weekly email blast. (Winner must be present). *Registrations are posted from the Chamber office and NOT automatic. \n\n \n\nName (Company):\n\nMike Molitor - Allstate\n\nKris Hansen - The Bethany Terrace\n\nDebra Suchor - Aflac\n\nAl Yabi - ASAYA Solutions\, Inc.\n\nAziz Quraishi - ASAYA Solutions\, Inc.\n\nColette Celaya - D&C Chem-Dry Carpet & Upholstery Cleaning\n\nDennis Celaya - D&C Chem-Dry Carpet & Upholstery Cleaning\n\nPete Mayer - Journal & Topics Newspaper\n\nNorbert Johnson - Johnson Real Estate\n\nSamuel Thimothy - ONE IMS\n\nPattie Spiegelman - C&M Auto Service Inc.\n\nRoberta Koch - Amway Global Independent Business Owners\n\nDean Strzelecki - Niles Police Department\n\nAnna Rojek - Exemplar Financial Network\n\nDennis Vaccaro - RV Enterprises\, Ltd.\n\nSteve Ahn - Bee Sales\, IWC\n\nSteve Karlin - MB Financial \n\nMike Cielinski - Chef Trends Plus\n\nTheo Kregel - Professional Eye Care Center\n\nDr. Pamela Lowe - Professional Eye Care Center\n\nJoe Walsh - Access Benefit Solutions\n\nBarb Kruser - Niles Public Library\n\nSue Wilsey - Niles Public Library\n\nVince Scaletta - Aflac\n\nJohn Jekot - Awards International Company\n\nRita Lewandowski - Attorney\n\nMichael Looby - Diversified Graphics\n\nVilma Pangoniene - Cosmo Beauty & Spa\n\nPatricia Clemente - E.R.C. Delivery Service\, Inc.\n\nBrett Robinson - Equitable Reverse Mortgage\n\nJohn Aloisio - Tribune Products Company\n\nJeff Day - Tribune Products Company\n\nMarissa Ferri - Tribune Products Company\n\nElizabeth Magro - Unlimited Service\, Inc.\n\nNick Katsoolias - Forest Financial Group Wealth Management\n\nRich Mangold - RCM Home Inspections\, LLC\n\nChris Zalinski - Chris' Landscape\, Inc.\n\nMumtez Qureshi - Golden Knot\n\nJoanne Cwynar - Ambassador\n\nLillian Otero - Americas Best Value Inn Hotel\n\nBea Lipski - Minuteman Press\n\nKen Lipski - Minuteman Press\n\nRene Parks - Parks' Plumbing & Sewer\n\nJeff Parks - Parks' Plumbing & Sewer\n\nJulie Gold - Parks' Plumbing & Sewer\n\nBill Pappas - Parks' Plumbing & Sewer\n\nKeith Schreiner - Parks' Plumbing & Sewer\n\nTim Perry - Guaranteed Rate
X-ALT-DESC;FMTTYPE=text/html:<div>&nbsp\;</div>\n\n<div align="center"><span style="font-size: large\;"><strong><span style="color: black\; font-style: normal\;"><font face="Verdana"><em>January&nbsp\;Business After Hours hosted by:</em></font></span></strong></span></div>\n\n<div align="center"><span style="font-size: x-large\;"><span style="color: black\; font-style: normal\;"><font color="#ff0000" face="Verdana"><strong>Illinois Nut &amp\;&nbsp\;Candy</strong></font></span></span></div>\n\n<div>&nbsp\;</div>\n\n<div><span style="color: black\; font-size: 10pt\; font-style: normal\;"><font face="Verdana">Business After Hours are a great way to network and meet area business owners and company representatives. Remember that networking is not only a resource to gain customers and generate leads\, but also a chance to find new vendors\, share new ideas\, or find new ways to offer benefits to your employees. </font></span></div>\n\n<div><font face="Verdana" size="2">&nbsp\;</font></div>\n\n<div><span style="color: black\; font-size: 10pt\; font-style: normal\;"><font face="Verdana"><strong><font color="#000080">Event Registration posted online*.</font></strong>&nbsp\;</font></span></div>\n\n<div><font face="Verdana"><span style="color: black\; font-size: 10pt\; font-style: normal\;">Check out&nbsp\;who is attending the event. Any Chamber member that registers before Wednesday\,&nbsp\;January 20th will be entered&nbsp\;in a drawing to win a (2) E-Vantage Featured Member ad in our weekly email blast. (Winner must be present). <em>*Registrations are posted from the Chamber office and NOT automatic.</em></span><span style="color: black\; font-size: 10pt\; font-style: normal\;">&nbsp\;</span></font></div>\n\n<div><font face="Verdana" size="2">&nbsp\;</font></div>\n\n<div><span style="color: black\; font-size: 10pt\; font-style: normal\;"><u><strong><font face="Verdana">Name&nbsp\;(Company):</font></strong></u></span></div>\n\n<div><span style="color: black\; font-size: 10pt\; font-style: normal\;"><font face="Verdana">Mike Molitor - Allstate</font></span></div>\n\n<div><span style="color: black\; font-size: 10pt\; font-style: normal\;"><font face="Verdana">Kris Hansen - The Bethany Terrace</font></span></div>\n\n<div><span style="color: black\; font-size: 10pt\; font-style: normal\;"><font face="Verdana">Debra Suchor - Aflac</font></span></div>\n\n<div><span style="color: black\; font-size: 10pt\; font-style: normal\;"><font face="Verdana">Al Yabi - ASAYA Solutions\, Inc.</font></span></div>\n\n<div><span style="color: black\; font-size: 10pt\; font-style: normal\;"><font face="Verdana">Aziz Quraishi - ASAYA Solutions\, Inc.</font></span></div>\n\n<div><span style="color: black\; font-size: 10pt\; font-style: normal\;"><font face="Verdana">Colette Celaya - D&amp\;C Chem-Dry Carpet &amp\; Upholstery Cleaning</font></span></div>\n\n<div><span style="color: black\; font-size: 10pt\; font-style: normal\;"><font face="Verdana">Dennis Celaya - D&amp\;C Chem-Dry Carpet &amp\; Upholstery Cleaning</font></span></div>\n\n<div><span style="color: black\; font-size: 10pt\; font-style: normal\;"><font face="Verdana">Pete Mayer - Journal &amp\; Topics Newspaper</font></span></div>\n\n<div><span style="color: black\; font-size: 10pt\; font-style: normal\;"><font face="Verdana">Norbert Johnson - Johnson Real Estate</font></span></div>\n\n<div><span style="color: black\; font-size: 10pt\; font-style: normal\;"><font face="Verdana">Samuel Thimothy - ONE IMS</font></span></div>\n\n<div><span style="color: black\; font-size: 10pt\; font-style: normal\;"><font face="Verdana">Pattie Spiegelman - C&amp\;M Auto Service Inc.</font></span></div>\n\n<div><span style="color: black\; font-size: 10pt\; font-style: normal\;"><font face="Verdana">Roberta Koch - Amway Global Independent Business Owners</font></span></div>\n\n<div><span style="color: black\; font-size: 10pt\; font-style: normal\;"><font face="Verdana">Dean Strzelecki - Niles Police Department</font></span></div>\n\n<div><u><span style="color: black\; font-size: 10pt\; font-style: normal\;"><font face="Verdana">Anna Rojek - Exemplar Financial Network</font></span></u></div>\n\n<div><span style="color: black\; font-size: 10pt\; font-style: normal\;"><font face="Verdana">Dennis Vaccaro - RV Enterprises\, Ltd.</font></span></div>\n\n<div><span style="color: black\; font-size: 10pt\; font-style: normal\;"><font face="Verdana">Steve Ahn - Bee Sales\, IWC</font></span></div>\n\n<div><span style="color: black\; font-size: 10pt\; font-style: normal\;"><font face="Verdana">Steve Karlin - MB Financial </font></span></div>\n\n<div><span style="color: black\; font-size: 10pt\; font-style: normal\;"><font face="Verdana">Mike Cielinski - Chef Trends Plus</font></span></div>\n\n<div><span style="color: black\; font-size: 10pt\; font-style: normal\;"><font face="Verdana">Theo Kregel - Professional Eye Care Center</font></span></div>\n\n<div><span style="color: black\; font-size: 10pt\; font-style: normal\;"><font face="Verdana">Dr. Pamela Lowe - Professional Eye Care Center</font></span></div>\n\n<div><span style="color: black\; font-size: 10pt\; font-style: normal\;"><font face="Verdana">Joe Walsh - Access Benefit Solutions</font></span></div>\n\n<div><span style="color: black\; font-size: 10pt\; font-style: normal\;"><font face="Verdana">Barb Kruser - Niles Public Library</font></span></div>\n\n<div><span style="color: black\; font-size: 10pt\; font-style: normal\;"><font face="Verdana">Sue Wilsey - Niles Public Library</font></span></div>\n\n<div><span style="color: black\; font-size: 10pt\; font-style: normal\;"><font face="Verdana">Vince Scaletta - Aflac</font></span></div>\n\n<div><span style="color: black\; font-size: 10pt\; font-style: normal\;"><font face="Verdana">John Jekot - Awards International Company</font></span></div>\n\n<div><span style="color: black\; font-size: 10pt\; font-style: normal\;"><font face="Verdana">Rita Lewandowski - Attorney</font></span></div>\n\n<div><span style="color: black\; font-size: 10pt\; font-style: normal\;"><font face="Verdana">Michael Looby - Diversified Graphics</font></span></div>\n\n<div><span style="color: black\; font-size: 10pt\; font-style: normal\;"><font face="Verdana">Vilma Pangoniene - Cosmo Beauty &amp\; Spa</font></span></div>\n\n<div><span style="color: black\; font-size: 10pt\; font-style: normal\;"><font face="Verdana">Patricia Clemente - E.R.C. Delivery Service\, Inc.</font></span></div>\n\n<div><span style="color: black\; font-size: 10pt\; font-style: normal\;"><font face="Verdana">Brett Robinson - Equitable Reverse Mortgage</font></span></div>\n\n<div><span style="color: black\; font-size: 10pt\; font-style: normal\;"><font face="Verdana">John Aloisio - Tribune Products Company</font></span></div>\n\n<div><span style="color: black\; font-size: 10pt\; font-style: normal\;"><font face="Verdana">Jeff Day - Tribune Products Company</font></span></div>\n\n<div><span style="color: black\; font-size: 10pt\; font-style: normal\;"><font face="Verdana">Marissa Ferri - Tribune Products Company</font></span></div>\n\n<div><span style="color: black\; font-size: 10pt\; font-style: normal\;"><font face="Verdana">Elizabeth Magro - Unlimited Service\, Inc.</font></span></div>\n\n<div><span style="color: black\; font-size: 10pt\; font-style: normal\;"><font face="Verdana">Nick Katsoolias - Forest Financial Group Wealth Management</font></span></div>\n\n<div><span style="color: black\; font-size: 10pt\; font-style: normal\;"><font face="Verdana">Rich Mangold - RCM Home Inspections\, LLC</font></span></div>\n\n<div><span style="color: black\; font-size: 10pt\; font-style: normal\;"><font face="Verdana">Chris Zalinski - Chris&rsquo\; Landscape\, Inc.</font></span></div>\n\n<div><span style="color: black\; font-size: 10pt\; font-style: normal\;"><font face="Verdana">Mumtez Qureshi - Golden Knot</font></span></div>\n\n<div><span style="color: black\; font-size: 10pt\; font-style: normal\;"><font face="Verdana">Joanne Cwynar - Ambassador</font></span></div>\n\n<div><span style="color: black\; font-size: 10pt\; font-style: normal\;"><font face="Verdana">Lillian Otero - Americas Best Value Inn Hotel</font></span></div>\n\n<div><span style="color: black\; font-size: 10pt\; font-style: normal\;"><font face="Verdana">Bea Lipski - Minuteman Press</font></span></div>\n\n<div><span style="color: black\; font-size: 10pt\; font-style: normal\;"><font face="Verdana">Ken Lipski - Minuteman Press</font></span></div>\n\n<div><span style="color: black\; font-size: 10pt\; font-style: normal\;"><font face="Verdana">Rene Parks - Parks&rsquo\; Plumbing &amp\; Sewer</font></span></div>\n\n<div><span style="color: black\; font-size: 10pt\; font-style: normal\;"><font face="Verdana">Jeff Parks - Parks&rsquo\; Plumbing &amp\; Sewer</font></span></div>\n\n<div><span style="color: black\; font-size: 10pt\; font-style: normal\;"><font face="Verdana">Julie Gold - Parks&rsquo\; Plumbing &amp\; Sewer</font></span></div>\n\n<div><span style="color: black\; font-size: 10pt\; font-style: normal\;"><font face="Verdana">Bill Pappas - Parks&rsquo\; Plumbing &amp\; Sewer</font></span></div>\n\n<div><span style="color: black\; font-size: 10pt\; font-style: normal\;"><font face="Verdana">Keith Schreiner - Parks&rsquo\; Plumbing &amp\; Sewer</font></span></div>\n\n<div><span style="color: black\; font-size: 10pt\; font-style: normal\;"><font face="Verdana">Tim Perry - Guaranteed Rate</font></span></div>\n\n<div>&nbsp\;</div>\n\n<div>&nbsp\;</div>\n
LOCATION:Illinois Nut & Candy 3745 W. Dempster Skokie 60076
UID:e.151.141
SEQUENCE:3
DTSTAMP:20260421T191021Z
URL:https://business.nileschamber.com/events/details/2010-business-after-hours-january-illinois-nut-candy-01-26-2010-141
END:VEVENT

END:VCALENDAR
