BEGIN:VCALENDAR
VERSION:2.0
PRODID:-//ChamberMaster//Event Calendar 2.0//EN
METHOD:PUBLISH
X-PUBLISHED-TTL:P3D
REFRESH-INTERVAL:P3D
CALSCALE:GREGORIAN
BEGIN:VEVENT
DTSTART:20100217T230000Z
DTEND:20100218T010000Z
X-MICROSOFT-CDO-ALLDAYEVENT:FALSE
SUMMARY:2010 Business After Hours\, February - Pease Plastics
DESCRIPTION:February Business After Hours hosted by:\n\nPease Plastics\n\n \n\nBusiness After Hours are a great way to network and meet area business owners and company representatives. Remember that networking is not only a resource to gain customers and generate leads\, but also a chance to find new vendors\, share new ideas\, or find new ways to offer benefits to your employees. \n\n \n\nEvent Registration posted online*. \n\nCheck out who is attending the event. Any Chamber member that registers before Friday\, February 12th will be entered in a drawing to win a (2) E-Vantage Featured Member ad in our weekly email blast. (Winner must be present). *Registrations are posted from the Chamber office and NOT automatic. \n\n \n\nName (Company):\n\nMike Swafford - Clear\n\nJudy Lewis - Resurrection Medical Center\n\nSamuel Thimothy - One IMS\n\nVince Scaletta - Aflac\n\nBill Griffis - Edward Jones\n\nPattie Spiegelman - C&M Auto Services\, Inc.\n\nRita Lewandowski\, Attorney\n\nMarty Adelberg - Electronic Merchants Systems\n\nJack Stachnik - TV Facts\n\nTerry Bass - Chadons Resource Group\n\nJoe Walsh - Access Benefit Solutions\n\nDennis Vaccaro - RV Enterprises\, Ltd.\n\nRich Mangold - RCM Home Inspections\, LLC\n\nDebra Sloan - JCare Home Medical Supplies\, Inc.\n\nGene Zielinski - JCare Home Medical Supplies\, Inc.\n\nPeter Crouch - Nimlok Chicago\n\nIwona Filipiak - Koenig & Strey GMAC Real Estate\n\nJohn Jekot - Awards International Company\n\nMichael Cielinski - Chef Trends Plus\n\nJoanne Cwynar - Ambassador\n\nColette Celaya - D&C Chem-Dry Carpet & Upholstery Cleaning\n\nDennis Celaya - D&C Chem-Dry Carpet & Upholstery Cleaning\n\nBill Griffis - Edward Jones\n\nMumtaz Qureshi - Golden Knots\n\nRegina Verdico - Golf Mill Shopping Center\n\nNorbert Johnson - Johnson Real Estate\n\nRita Lewandowski\, Attorney\n\nKen Lipski - Minuteman Press\n\nPeter Crouch - Nimlok\n\nNick Katsoolias - Forest Financial Group Wealth Management\n\nJohn Skaja - Skaja Funeral Home\n\nDebra Suchor - Aflac\n\nDr. Bruce Hertz - Akiens-Hertz Family Medical Center\n\nMichael Molitor - Allstate Insurance\n\nRoberta Koch - Amway Global Independent Bussiness Owner\n\nAziz Quraishi - ASAYA Solutions\, Inc.\n\nAl Yabi - Computer Labs USA\n\nPatty Neiberg - AVON\n\nAlex Bernal - Bernal Graphics & Printed Media\n\nEd Reier - Contour Landscaping\, Inc.\n\nPatricia Clemente - E.R.C. Delivery Service\, Inc.\n\nBrett Robinson - Equitable Reverse Mortgage\n\nTim Perry - Guaranteed Rate\n\nDavid Levine - Illinois Nut & Candy\n\nPete Mayer - Journal & Topics Newspapers\n\nJacob Ehrensaft - Attorney\n\nFred Besch - Nancy's Home of the Stuffed Pizza\n\nSue Wilsey - Niles Public Library\n\nJeff Poczatek - Parks' Plumbing & Sewer\n\nBill Pappas - Parks'Plumbing & Sewer\n\nCarol Goodman - Perfection Countertops & Closets\n\nDr. Pam Lowe - Professional Eye Care Center\n\nArthur Crowly - Randolph Sterling\, Inc.\n\nKrystyna Koda - Ridgewood Gardens\, Inc.\n\nMike Yesner - Yesner Marketing\, Inc.\n\nDale Ashcraft - Lin-Mar Motors\, Inc.\n\nRon Lundin - Lin-Mar Motors\, Inc.
X-ALT-DESC;FMTTYPE=text/html:<div>&nbsp\;</div>\n\n<div align="center"><span style="font-size: large\;"><strong><span style="color: black\; font-style: normal\;"><font face="Verdana"><em>February&nbsp\;Business After Hours hosted by:</em></font></span></strong></span></div>\n\n<div align="center"><span style="font-size: x-large\;"><span style="color: black\; font-style: normal\;"><font color="#ff0000" face="Verdana"><strong>Pease&nbsp\;Plastics</strong></font></span></span></div>\n\n<div>&nbsp\;</div>\n\n<div><span style="color: black\; font-size: 10pt\; font-style: normal\;"><font face="Verdana">Business After Hours are a great way to network and meet area business owners and company representatives. Remember that networking is not only a resource to gain customers and generate leads\, but also a chance to find new vendors\, share new ideas\, or find new ways to offer benefits to your employees. </font></span></div>\n\n<div><font face="Verdana" size="2">&nbsp\;</font></div>\n\n<div><span style="color: black\; font-size: 10pt\; font-style: normal\;"><font face="Verdana"><strong><font color="#000080">Event Registration posted online*.</font></strong>&nbsp\;</font></span></div>\n\n<div><font face="Verdana"><span style="color: black\; font-size: 10pt\; font-style: normal\;">Check out&nbsp\;who is attending the event. Any Chamber member that registers before Friday\,&nbsp\;February 12th will be entered&nbsp\;in a drawing to win a (2) E-Vantage Featured Member ad in our weekly email blast. (Winner must be present). <em>*Registrations are posted from the Chamber office and NOT automatic.</em></span><span style="color: black\; font-size: 10pt\; font-style: normal\;">&nbsp\;</span></font></div>\n\n<div><font face="Verdana" size="2">&nbsp\;</font></div>\n\n<div><span style="color: black\; font-size: 10pt\; font-style: normal\;"><u><strong><font face="Verdana">Name&nbsp\;(Company):</font></strong></u></span></div>\n\n<div><span style="color: black\; font-size: 10pt\; font-style: normal\;"><font face="Verdana">Mike Swafford - Clear</font></span></div>\n\n<div><span style="color: black\; font-size: 10pt\; font-style: normal\;"><font face="Verdana">Judy Lewis - Resurrection Medical Center</font></span></div>\n\n<div><span style="color: black\; font-size: 10pt\; font-style: normal\;"><font face="Verdana">Samuel Thimothy - One IMS</font></span></div>\n\n<div><span style="color: black\; font-size: 10pt\; font-style: normal\;"><font face="Verdana">Vince Scaletta - Aflac</font></span></div>\n\n<div><span style="color: black\; font-size: 10pt\; font-style: normal\;"><font face="Verdana">Bill Griffis - Edward Jones</font></span></div>\n\n<div><span style="color: black\; font-size: 10pt\; font-style: normal\;"><font face="Verdana">Pattie Spiegelman - C&amp\;M Auto Services\, Inc.</font></span></div>\n\n<div><span style="color: black\; font-size: 10pt\; font-style: normal\;"><font face="Verdana">Rita Lewandowski\, Attorney</font></span></div>\n\n<div><span style="color: black\; font-size: 10pt\; font-style: normal\;"><font face="Verdana">Marty Adelberg - Electronic Merchants Systems</font></span></div>\n\n<div><span style="color: black\; font-size: 10pt\; font-style: normal\;"><font face="Verdana">Jack Stachnik - TV Facts</font></span></div>\n\n<div><span style="color: black\; font-size: 10pt\; font-style: normal\;"><font face="Verdana">Terry Bass - Chadons Resource Group</font></span></div>\n\n<div><span style="color: black\; font-size: 10pt\; font-style: normal\;"><font face="Verdana">Joe Walsh - Access Benefit Solutions</font></span></div>\n\n<div><span style="color: black\; font-size: 10pt\; font-style: normal\;"><font face="Verdana">Dennis Vaccaro - RV Enterprises\, Ltd.</font></span></div>\n\n<div><span style="color: black\; font-size: 10pt\; font-style: normal\;"><font face="Verdana">Rich Mangold - RCM Home Inspections\, LLC</font></span></div>\n\n<div><span style="color: black\; font-size: 10pt\; font-style: normal\;"><font face="Verdana">Debra Sloan - JCare Home Medical Supplies\, Inc.</font></span></div>\n\n<div><span style="color: black\; font-size: 10pt\; font-style: normal\;"><font face="Verdana">Gene Zielinski - JCare Home Medical Supplies\, Inc.</font></span></div>\n\n<div><span style="color: black\; font-size: 10pt\; font-style: normal\;"><font face="Verdana">Peter Crouch - Nimlok Chicago</font></span></div>\n\n<div><span style="color: black\; font-size: 10pt\; font-style: normal\;"><font face="Verdana">Iwona Filipiak - Koenig &amp\; Strey GMAC Real Estate</font></span></div>\n\n<div><span style="color: black\; font-size: 10pt\; font-style: normal\;"><font face="Verdana">John Jekot - Awards International Company</font></span></div>\n\n<div><span style="color: black\; font-size: 10pt\; font-style: normal\;"><font face="Verdana">Michael Cielinski - Chef Trends Plus</font></span></div>\n\n<div><span style="color: black\; font-size: 10pt\; font-style: normal\;"><font face="Verdana">Joanne Cwynar - Ambassador</font></span></div>\n\n<div><span style="color: black\; font-size: 10pt\; font-style: normal\;"><font face="Verdana">Colette Celaya - D&amp\;C Chem-Dry Carpet &amp\; Upholstery Cleaning</font></span></div>\n\n<div><span style="color: black\; font-size: 10pt\; font-style: normal\;"><font face="Verdana">Dennis Celaya - D&amp\;C Chem-Dry Carpet &amp\; Upholstery Cleaning</font></span></div>\n\n<div><span style="color: black\; font-size: 10pt\; font-style: normal\;"><font face="Verdana">Bill Griffis - Edward Jones</font></span></div>\n\n<div><span style="color: black\; font-size: 10pt\; font-style: normal\;"><font face="Verdana">Mumtaz Qureshi - Golden Knots</font></span></div>\n\n<div><span style="color: black\; font-size: 10pt\; font-style: normal\;"><font face="Verdana">Regina Verdico - Golf Mill Shopping Center</font></span></div>\n\n<div><span style="color: black\; font-size: 10pt\; font-style: normal\;"><font face="Verdana">Norbert Johnson - Johnson Real Estate</font></span></div>\n\n<div><span style="color: black\; font-size: 10pt\; font-style: normal\;"><font face="Verdana">Rita Lewandowski\, Attorney</font></span></div>\n\n<div><span style="color: black\; font-size: 10pt\; font-style: normal\;"><font face="Verdana">Ken Lipski - Minuteman Press</font></span></div>\n\n<div><span style="color: black\; font-size: 10pt\; font-style: normal\;"><font face="Verdana">Peter Crouch - Nimlok</font></span></div>\n\n<div><span style="color: black\; font-size: 10pt\; font-style: normal\;"><font face="Verdana">Nick Katsoolias - Forest Financial Group Wealth Management</font></span></div>\n\n<div><span style="color: black\; font-size: 10pt\; font-style: normal\;"><font face="Verdana">John Skaja - Skaja Funeral Home</font></span></div>\n\n<div><span style="color: black\; font-size: 10pt\; font-style: normal\;"><font face="Verdana">Debra Suchor - Aflac</font></span></div>\n\n<div><span style="color: black\; font-size: 10pt\; font-style: normal\;"><font face="Verdana">Dr. Bruce Hertz - Akiens-Hertz Family Medical Center</font></span></div>\n\n<div><span style="color: black\; font-size: 10pt\; font-style: normal\;"><font face="Verdana">Michael Molitor - Allstate Insurance</font></span></div>\n\n<div><span style="color: black\; font-size: 10pt\; font-style: normal\;"><font face="Verdana">Roberta Koch - Amway Global Independent Bussiness Owner</font></span></div>\n\n<div><span style="color: black\; font-size: 10pt\; font-style: normal\;"><font face="Verdana">Aziz Quraishi - ASAYA Solutions\, Inc.</font></span></div>\n\n<div><span style="color: black\; font-size: 10pt\; font-style: normal\;"><font face="Verdana">Al Yabi - Computer Labs USA</font></span></div>\n\n<div><span style="color: black\; font-size: 10pt\; font-style: normal\;"><font face="Verdana">Patty Neiberg - AVON</font></span></div>\n\n<div><span style="color: black\; font-size: 10pt\; font-style: normal\;"><font face="Verdana">Alex Bernal - Bernal Graphics &amp\; Printed Media</font></span></div>\n\n<div><span style="color: black\; font-size: 10pt\; font-style: normal\;"><font face="Verdana">Ed Reier - Contour Landscaping\, Inc.</font></span></div>\n\n<div><span style="color: black\; font-size: 10pt\; font-style: normal\;"><font face="Verdana">Patricia Clemente - E.R.C. Delivery Service\, Inc.</font></span></div>\n\n<div><span style="color: black\; font-size: 10pt\; font-style: normal\;"><font face="Verdana">Brett Robinson - Equitable Reverse Mortgage</font></span></div>\n\n<div><span style="color: black\; font-size: 10pt\; font-style: normal\;"><font face="Verdana">Tim Perry - Guaranteed Rate</font></span></div>\n\n<div><span style="color: black\; font-size: 10pt\; font-style: normal\;"><font face="Verdana">David Levine - Illinois Nut &amp\; Candy</font></span></div>\n\n<div><span style="color: black\; font-size: 10pt\; font-style: normal\;"><font face="Verdana">Pete Mayer - Journal &amp\; Topics Newspapers</font></span></div>\n\n<div><span style="color: black\; font-size: 10pt\; font-style: normal\;"><font face="Verdana">Jacob Ehrensaft - Attorney</font></span></div>\n\n<div><span style="color: black\; font-size: 10pt\; font-style: normal\;"><font face="Verdana">Fred Besch - Nancy&rsquo\;s Home of the Stuffed Pizza</font></span></div>\n\n<div><span style="color: black\; font-size: 10pt\; font-style: normal\;"><font face="Verdana">Sue Wilsey - Niles Public Library</font></span></div>\n\n<div><span style="color: black\; font-size: 10pt\; font-style: normal\;"><font face="Verdana">Jeff Poczatek - Parks&rsquo\; Plumbing &amp\; Sewer</font></span></div>\n\n<div><span style="color: black\; font-size: 10pt\; font-style: normal\;"><font face="Verdana">Bill Pappas - Parks&rsquo\;Plumbing &amp\; Sewer</font></span></div>\n\n<div><span style="color: black\; font-size: 10pt\; font-style: normal\;"><font face="Verdana">Carol Goodman - Perfection Countertops &amp\; Closets</font></span></div>\n\n<div><span style="color: black\; font-size: 10pt\; font-style: normal\;"><font face="Verdana">Dr. Pam Lowe - Professional Eye Care Center</font></span></div>\n\n<div><span style="color: black\; font-size: 10pt\; font-style: normal\;"><font face="Verdana">Arthur Crowly - Randolph Sterling\, Inc.</font></span></div>\n\n<div><span style="color: black\; font-size: 10pt\; font-style: normal\;"><font face="Verdana">Krystyna Koda - Ridgewood Gardens\, Inc.</font></span></div>\n\n<div><span style="color: black\; font-size: 10pt\; font-style: normal\;"><font face="Verdana">Mike Yesner - Yesner Marketing\, Inc.</font></span></div>\n\n<div><span style="color: black\; font-size: 10pt\; font-style: normal\;"><font face="Verdana">Dale Ashcraft - Lin-Mar Motors\, Inc.</font></span></div>\n\n<div><span style="color: black\; font-size: 10pt\; font-style: normal\;"><font face="Verdana">Ron Lundin - Lin-Mar Motors\, Inc.</font></span></div>\n\n<div>&nbsp\;</div>\n\n<div>&nbsp\;</div>\n
LOCATION:Pease Plastics 1857A Elmdale Avenue Glenview 60026
UID:e.151.143
SEQUENCE:3
DTSTAMP:20260421T113456Z
URL:https://business.nileschamber.com/events/details/2010-business-after-hours-february-pease-plastics-02-17-2010-143
END:VEVENT

END:VCALENDAR
