BEGIN:VCALENDAR
VERSION:2.0
PRODID:-//ChamberMaster//Event Calendar 2.0//EN
METHOD:PUBLISH
X-PUBLISHED-TTL:P3D
REFRESH-INTERVAL:P3D
CALSCALE:GREGORIAN
BEGIN:VEVENT
DTSTART:20100819T220000Z
DTEND:20100820T000000Z
X-MICROSOFT-CDO-ALLDAYEVENT:FALSE
SUMMARY:2010 Business After Hours\, August - Nick Katsoolias & Janice Berman
DESCRIPTION:August Business After Hours hosted by:\n\nForest Financial Group Wealth Management &\n\nLaw Office of Janice Berman\n\n \n\nBusiness After Hours are a great way to network and meet area business owners and company representatives. Remember that networking is not only a resource to gain customers and generate leads\, but also a chance to find new vendors\, share new ideas\, or find new ways to offer benefits to your employees. \n\n \n\nEvent Registration posted online*. \n\nCheck out who is attending the event. Any Chamber member that registers will be listed below. *Registrations are posted from the Chamber office and NOT automatic. \n\n \n\nName (Company):\n\nJacob Ehrensaft - Attorney\n\nPattie Spiegelman - C&M Auto Service\, Inc.\n\nChuck Hartogh - C&M Auto Service\, Inc.\n\nRoberta Koch - Amway Global Independent Business Owner\n\nVince Scaletta - Aflac\n\nBarb Kruser - Niles Public Library\n\nAl Katz - Independent Sales Associate\, Pre-Paid Legal\n\nJoe Walsh - Access Benefit Solutions\n\nDennis Vaccaro - RV Enterprises\, Ltd\n\nIwona Filipiak - Koenig & Strey Real Living\n\nRich Mangold - RCM Home Inspections\, LLC \n\nGeorge Lowe - Sparkfactor\n\nIrv Loundy - Devon Bank\n\nDick Barton - Barton & Barton\, Ltd.\n\nBrett Barton - Barton & Barton\, Ltd.\n\nAlexander Barton - Barton & Barton\, Ltd.\n\nLori Frisch - Edward Jones\n\nBill Griffis - Edward Jones\n\nDiddy Blyth - A Sterling Design\, Photograhic Artists\n\nDiane Angulo - Kessler\, Orlean\, Silver & Co.\n\nJonathan Shapiro - Money Mailer of Greater Park Ridge\n\nTom Gregory - FirstMerit Bank\n\nNorbert Johnson - Johnson Real Estate\n\nDale Ashcraft - Lin-Mar Motors\, Inc.\n\nRon Lundin - Lin-Mar Motors\, Inc.\n\nPatricia Clemente - E.R.C. Delivery Service\, Inc.\n\nPete Mayer - Journal & Topics Newspapers\n\nKen Lipski - Minuteman Press\n\nSamuel Thimothy - OneIMS\n\nBijoy Samuel - OneIMS\n\nSolomon Thimothy - OneIMS\n\nKrystyna Koda - Ridgewood Gardens\, Inc.
X-ALT-DESC;FMTTYPE=text/html:<div>&nbsp\;</div>\n\n<div align="center"><span style="font-size: large\;"><strong><span style="color: black\; font-style: normal\;"><font face="Verdana"><em>August&nbsp\;Business After Hours hosted by:</em></font></span></strong></span></div>\n\n<div align="center"><span style="font-size: large\;"><span style="color: black\; font-style: normal\;"><font color="#ff0000" face="Verdana"><strong>Forest Financial Group Wealth Management &amp\;</strong></font></span></span></div>\n\n<div align="center"><span style="font-size: large\;"><span style="color: black\; font-style: normal\;"><font color="#ff0000" face="Verdana"><strong>Law Office of Janice Berman</strong></font></span></span></div>\n\n<div><span style="font-size: large\;">&nbsp\;</span></div>\n\n<div><span style="color: black\; font-size: 10pt\; font-style: normal\;"><font face="Verdana">Business After Hours are a great way to network and meet area business owners and company representatives. Remember that networking is not only a resource to gain customers and generate leads\, but also a chance to find new vendors\, share new ideas\, or find new ways to offer benefits to your employees. </font></span></div>\n\n<div><font face="Verdana" size="2">&nbsp\;</font></div>\n\n<div><span style="color: black\; font-size: 10pt\; font-style: normal\;"><font face="Verdana"><strong><font color="#000080">Event Registration posted online*.</font></strong>&nbsp\;</font></span></div>\n\n<div><font face="Verdana"><span style="color: black\; font-size: 10pt\; font-style: normal\;">Check out&nbsp\;who is attending the event. Any Chamber member that registers will be listed below. <em>*Registrations are posted from the Chamber office and NOT automatic.</em></span><span style="color: black\; font-size: 10pt\; font-style: normal\;">&nbsp\;</span></font></div>\n\n<div><font face="Verdana" size="2">&nbsp\;</font></div>\n\n<div><span style="color: black\; font-size: 10pt\; font-style: normal\;"><u><strong><font face="Verdana">Name&nbsp\;(Company):</font></strong></u></span></div>\n\n<div><span style="font-size: x-small\;"><span style="color: black\; font-style: normal\;"><font face="Verdana">Jacob Ehrensaft - Attorney</font></span></span></div>\n\n<div><span style="font-size: x-small\;"><span style="color: black\; font-style: normal\;"><font face="Verdana">Pattie Spiegelman - C&amp\;M Auto Service\, Inc.</font></span></span></div>\n\n<div><span style="font-size: x-small\;"><span style="color: black\; font-style: normal\;"><font face="Verdana">Chuck Hartogh - C&amp\;M Auto Service\, Inc.</font></span></span></div>\n\n<div><span style="font-size: x-small\;"><span style="color: black\; font-style: normal\;"><font face="Verdana">Roberta Koch - Amway Global Independent Business Owner</font></span></span></div>\n\n<div><span style="font-size: x-small\;"><span style="color: black\; font-style: normal\;"><font face="Verdana">Vince Scaletta - Aflac</font></span></span></div>\n\n<div><span style="font-size: x-small\;"><span style="color: black\; font-style: normal\;"><font face="Verdana">Barb Kruser - Niles Public Library</font></span></span></div>\n\n<div><span style="font-size: x-small\;"><span style="color: black\; font-style: normal\;"><font face="Verdana">Al Katz - Independent Sales Associate\, Pre-Paid Legal</font></span></span></div>\n\n<div><span style="font-size: x-small\;"><span style="color: black\; font-style: normal\;"><font face="Verdana">Joe Walsh - Access Benefit Solutions</font></span></span></div>\n\n<div><span style="font-size: x-small\;"><span style="color: black\; font-style: normal\;"><font face="Verdana">Dennis Vaccaro - RV Enterprises\, Ltd</font></span></span></div>\n\n<div><span style="font-size: x-small\;"><span style="color: black\; font-style: normal\;"><font face="Verdana">Iwona Filipiak - Koenig &amp\; Strey Real Living</font></span></span></div>\n\n<div><span style="font-size: x-small\;"><span style="font-family: Verdana\;"><span style="color: black\; font-style: normal\;">Rich Mangold - RCM&nbsp\;Home Inspections\, LLC</span>&nbsp\;</span></span></div>\n\n<div><span style="font-size: x-small\;"><span style="font-family: Verdana\;">George Lowe - Sparkfactor</span></span></div>\n\n<div><span style="font-size: x-small\;"><span style="font-family: Verdana\;">Irv Loundy - Devon Bank</span></span></div>\n\n<div><span style="font-size: x-small\;"><span style="font-family: Verdana\;">Dick Barton - Barton &amp\; Barton\, Ltd.</span></span></div>\n\n<div><span style="font-size: x-small\;"><span style="font-family: Verdana\;">Brett Barton - Barton &amp\; Barton\, Ltd.</span></span></div>\n\n<div><span style="font-size: x-small\;"><span style="font-family: Verdana\;">Alexander Barton - Barton &amp\; Barton\, Ltd.</span></span></div>\n\n<div><span style="font-size: x-small\;"><span style="font-family: Verdana\;">Lori Frisch - Edward Jones</span></span></div>\n\n<div><span style="font-size: x-small\;"><span style="font-family: Verdana\;">Bill Griffis - Edward Jones</span></span></div>\n\n<div><span style="font-size: x-small\;"><span style="font-family: Verdana\;">Diddy Blyth - A Sterling Design\, Photograhic Artists</span></span></div>\n\n<div><span style="font-size: x-small\;"><span style="font-family: Verdana\;">Diane Angulo - Kessler\, Orlean\, Silver &amp\; Co.</span></span></div>\n\n<div><span style="font-size: x-small\;"><span style="font-family: Verdana\;">Jonathan Shapiro - Money Mailer of Greater Park Ridge</span></span></div>\n\n<div><span style="font-size: x-small\;"><span style="font-family: Verdana\;">Tom Gregory - FirstMerit Bank</span></span></div>\n\n<div><span style="font-size: x-small\;"><span style="font-family: Verdana\;">Norbert Johnson - Johnson Real Estate</span></span></div>\n\n<div><span style="font-size: x-small\;"><span style="font-family: Verdana\;">Dale Ashcraft - Lin-Mar Motors\, Inc.</span></span></div>\n\n<div><span style="font-size: x-small\;"><span style="font-family: Verdana\;">Ron Lundin - Lin-Mar Motors\, Inc.</span></span></div>\n\n<div><span style="font-size: x-small\;"><span style="font-family: Verdana\;">Patricia Clemente - E.R.C. Delivery Service\, Inc.</span></span></div>\n\n<div><span style="font-size: x-small\;"><span style="font-family: Verdana\;">Pete Mayer - Journal &amp\; Topics Newspapers</span></span></div>\n\n<div><span style="font-size: x-small\;"><span style="font-family: Verdana\;">Ken Lipski - Minuteman Press</span></span></div>\n\n<div><span style="font-size: x-small\;"><span style="font-family: Verdana\;">Samuel Thimothy - OneIMS</span></span></div>\n\n<div><span style="font-size: x-small\;"><span style="font-family: Verdana\;">Bijoy Samuel - OneIMS</span></span></div>\n\n<div><span style="font-size: x-small\;"><span style="font-family: Verdana\;">Solomon Thimothy - OneIMS</span></span></div>\n\n<div><span style="font-size: x-small\;"><span style="font-family: Verdana\;">Krystyna Koda - Ridgewood Gardens\, Inc.</span></span></div>\n
LOCATION:Forest Financial Group/Law Office of Janice Berman 8130 N. Milwaukee Avenue Niles 60714
UID:e.151.147
SEQUENCE:3
DTSTAMP:20260421T020622Z
URL:https://business.nileschamber.com/events/details/2010-business-after-hours-august-nick-katsoolias-janice-berman-08-19-2010-147
END:VEVENT

END:VCALENDAR
