BEGIN:VCALENDAR
VERSION:2.0
PRODID:-//ChamberMaster//Event Calendar 2.0//EN
METHOD:PUBLISH
X-PUBLISHED-TTL:P3D
REFRESH-INTERVAL:P3D
CALSCALE:GREGORIAN
BEGIN:VEVENT
DTSTART:20100415T220000Z
DTEND:20100416T000000Z
X-MICROSOFT-CDO-ALLDAYEVENT:FALSE
SUMMARY:2010 Business After Hours April - St. Andrew Life Center
DESCRIPTION:April Business After Hours hosted by:\n\n \n\nSt. Andrew Life Center\n\n \n\nBusiness After Hours are a great way to network and meet area business owners and company representatives. Remember that networking is not only a resource to gain customers and generate leads\, but also a chance to find new vendors\, share new ideas\, or find new ways to offer benefits to your employees. \n\n \n\nEvent Registration posted online*. \n\nCheck out who is attending the event. Any Chamber member that registers before Friday\, April 9th will be entered in a drawing to win (2) E-Vantage Featured Member ads in our weekly email blast. (Winner must be present). *Registrations are posted from the Chamber office and NOT automatic. \n\n \n\nName (Company):\n\nJacob Ehrensaft\, Attorney\n\nVicky Kotsakos\, First American Bank\n\nBarb Kruser\, Niles Public Library\n\nKevin Donnolly\, Paragon Marketing Group LLC\n\nGretchen Oschman\, Paragon Marketing Group LLC\n\nJoe Walsh\, Access Benefit Solutions\n\nVince Scaletta - Aflac\n\nJohn Jekot - Awards International Company\n\nTom Heskin - Brilliant Electric Heating & Cooling\, Inc.\n\nChuck Hartogh - C&M Auto Service Inc.\n\nPattie Spiegelman - C&M Auto Service Inc.\n\nBill Griffis - Edward Jones\n\nColette Celaya - D&C Chem-Dry Carpet & Upholstery Cleaning\n\nDennis Celaya - D&C Chem-Dry Carpet & Upholstery Cleaning\n\nNick Katsoolias - Forest Financial Group Wealth Management\n\nDebra Sloan - JCare Home Medical Supplies\, Inc.\n\nGene Zielinski - JCare Home Medical Supplies\, Inc.\n\nNorbert Johnson - Johnson Real Estate\n\nIwona Filipiak - Koenig & Strey Real Estate\n\nDean Strzelecki - Niles Police Department\n\nSamuel Thimothy - One IMS\n\nDennis Vaccaro - RV Enterprises\, Ltd.\n\nJohn Skaja\, Skaja Terrace Funeral Home\n\nJim Hirsch - Triblocal/Tribune\n\nJohn Koelig - Koelig & Associates\n\nRoberta Koch - Amway Global Independent Business Owner\n\nAl Yabi - ASAYA Solutions\, Inc.\n\nRamon Roman - Auto Spa Hand Car Wash\n\nNinos Younan - Auto Spa Hand Car Wash\n\nJohn Alston - Callero & Catino Realty\n\nMichael Cielinski - Chef Trends Plus\n\nRandy Greco - CHoLAB\, Inc.\n\nJoanne Cwynar - Ambassador\n\nPatricia Clemente - E.R.C. Delivery Service\, Inc.\n\nBill Griffis - Edward Jones\n\nMumtaz Qureshi - Golden Knots\n\nNorbert Johnson - Johnson Real Estate\n\nJohn Koelig - Koelig & Associates\n\nPeter Mayer - Journal & Topics Newspapers\n\nIwona Filipiak - Koenig & Strey Real Estate\n\nJonathan Shapiro - Money Mailer of Greater Park Ridge\n\nDr. Katie Bertoglio - Morton Grove Animal Hospital and Boarding Kennels\n\nSherwin Weisman - North Suburban Hearing Service\n\nBijoy Samuel - One IMS\n\nDennis Vaccaro - RV Enterprises\, Ltd.\n\nOzzie Bruno - Secure Eco Shred\n\nJohn Skaja - Skaja Terrace Funeral Home\n\nJim Hirsch - Triblocal/Tribune\n\nJack Stachnik - TV Facts\n\nMike Yesner - Yesner Marketing\, Inc.
X-ALT-DESC;FMTTYPE=text/html:<div>&nbsp\;</div>\n\n<div align="center"><span style="color: black\; font-size: 10pt\; font-style: normal\;"><font face="Verdana"><em>April&nbsp\;Business After Hours hosted by:</em></font></span></div>\n\n<div align="center">&nbsp\;</div>\n\n<div align="center"><span style="color: black\; font-size: 10pt\; font-style: normal\;"><font color="#800080" face="Verdana" size="4"><strong>St. Andrew Life Center</strong></font></span></div>\n\n<div><font color="#800080">&nbsp\;</font></div>\n\n<div><span style="color: black\; font-size: 10pt\; font-style: normal\;"><font face="Verdana">Business After Hours are a great way to network and meet area business owners and company representatives. Remember that networking is not only a resource to gain customers and generate leads\, but also a chance to find new vendors\, share new ideas\, or find new ways to offer benefits to your employees. </font></span></div>\n\n<div><font face="Verdana" size="2">&nbsp\;</font></div>\n\n<div><span style="color: black\; font-size: 10pt\; font-style: normal\;"><font face="Verdana"><strong><font color="#000080">Event Registration posted online*.</font></strong>&nbsp\;</font></span></div>\n\n<div><font face="Verdana"><span style="color: black\; font-size: 10pt\; font-style: normal\;">Check out&nbsp\;who is attending the event. Any Chamber member that registers before Friday\,&nbsp\;April&nbsp\;9<sup>th</sup>&nbsp\;will be entered&nbsp\;in a drawing to win (2) E-Vantage Featured Member ads in our weekly email blast. (Winner must be present). <em>*Registrations are posted from the Chamber office and NOT automatic.</em></span><span style="color: black\; font-size: 10pt\; font-style: normal\;">&nbsp\;</span></font></div>\n\n<div><font face="Verdana" size="2">&nbsp\;</font></div>\n\n<div><span style="color: black\; font-size: 10pt\; font-style: normal\;"><u><strong><font face="Verdana">Name&nbsp\;(Company):</font></strong></u></span></div>\n\n<div><span style="color: black\; font-size: 10pt\; font-style: normal\;"><font face="Verdana">Jacob Ehrensaft\, Attorney</font></span></div>\n\n<div><span style="color: black\; font-size: 10pt\; font-style: normal\;"><font face="Verdana">Vicky Kotsakos\, First American Bank</font></span></div>\n\n<div><span style="color: black\; font-size: 10pt\; font-style: normal\;"><font face="Verdana">Barb Kruser\, Niles Public Library</font></span></div>\n\n<div><span style="color: black\; font-size: 10pt\; font-style: normal\;"><font face="Verdana">Kevin Donnolly\, Paragon Marketing Group LLC</font></span></div>\n\n<div><span style="color: black\; font-size: 10pt\; font-style: normal\;"><font face="Verdana">Gretchen Oschman\, Paragon Marketing Group LLC</font></span></div>\n\n<div><span style="color: black\; font-size: 10pt\; font-style: normal\;"><font face="Verdana">Joe Walsh\, Access Benefit Solutions</font></span></div>\n\n<div><span style="color: black\; font-size: 10pt\; font-style: normal\;"><font face="Verdana">Vince Scaletta - Aflac</font></span></div>\n\n<div><span style="color: black\; font-size: 10pt\; font-style: normal\;"><font face="Verdana">John Jekot - Awards International Company</font></span></div>\n\n<div><span style="color: black\; font-size: 10pt\; font-style: normal\;"><font face="Verdana">Tom Heskin - Brilliant Electric Heating &amp\; Cooling\, Inc.</font></span></div>\n\n<div><span style="color: black\; font-size: 10pt\; font-style: normal\;"><font face="Verdana">Chuck Hartogh - C&amp\;M Auto Service Inc.</font></span></div>\n\n<div><span style="color: black\; font-size: 10pt\; font-style: normal\;"><font face="Verdana">Pattie Spiegelman - C&amp\;M Auto Service Inc.</font></span></div>\n\n<div><span style="color: black\; font-size: 10pt\; font-style: normal\;"><font face="Verdana">Bill Griffis - Edward Jones</font></span></div>\n\n<div><span style="color: black\; font-size: 10pt\; font-style: normal\;"><font face="Verdana">Colette Celaya - D&amp\;C Chem-Dry Carpet &amp\; Upholstery Cleaning</font></span></div>\n\n<div><span style="color: black\; font-size: 10pt\; font-style: normal\;"><font face="Verdana">Dennis Celaya - D&amp\;C Chem-Dry Carpet &amp\; Upholstery Cleaning</font></span></div>\n\n<div><span style="color: black\; font-size: 10pt\; font-style: normal\;"><font face="Verdana">Nick Katsoolias - Forest Financial Group Wealth Management</font></span></div>\n\n<div><span style="color: black\; font-size: 10pt\; font-style: normal\;"><font face="Verdana">Debra Sloan - JCare Home Medical Supplies\, Inc.</font></span></div>\n\n<div><span style="color: black\; font-size: 10pt\; font-style: normal\;"><font face="Verdana">Gene Zielinski - JCare Home Medical Supplies\, Inc.</font></span></div>\n\n<div><span style="color: black\; font-size: 10pt\; font-style: normal\;"><font face="Verdana">Norbert Johnson - Johnson Real Estate</font></span></div>\n\n<div><span style="color: black\; font-size: 10pt\; font-style: normal\;"><font face="Verdana">Iwona Filipiak - Koenig &amp\; Strey Real Estate</font></span></div>\n\n<div><span style="color: black\; font-size: 10pt\; font-style: normal\;"><font face="Verdana">Dean Strzelecki - Niles Police Department</font></span></div>\n\n<div><span style="color: black\; font-size: 10pt\; font-style: normal\;"><font face="Verdana">Samuel Thimothy - One IMS</font></span></div>\n\n<div><span style="color: black\; font-size: 10pt\; font-style: normal\;"><font face="Verdana">Dennis Vaccaro - RV Enterprises\, Ltd.</font></span></div>\n\n<div><span style="color: black\; font-size: 10pt\; font-style: normal\;"><font face="Verdana">John Skaja\, Skaja Terrace Funeral Home</font></span></div>\n\n<div><span style="color: black\; font-size: 10pt\; font-style: normal\;"><font face="Verdana">Jim Hirsch - Triblocal/Tribune</font></span></div>\n\n<div><span style="color: black\; font-size: 10pt\; font-style: normal\;"><font face="Verdana">John Koelig - Koelig &amp\; Associates</font></span></div>\n\n<div><span style="color: black\; font-size: 10pt\; font-style: normal\;"><font face="Verdana">Roberta Koch - Amway Global Independent Business Owner</font></span></div>\n\n<div><span style="color: black\; font-size: 10pt\; font-style: normal\;"><font face="Verdana">Al Yabi - ASAYA Solutions\, Inc.</font></span></div>\n\n<div><span style="color: black\; font-size: 10pt\; font-style: normal\;"><font face="Verdana">Ramon Roman - Auto Spa Hand Car Wash</font></span></div>\n\n<div><span style="color: black\; font-size: 10pt\; font-style: normal\;"><font face="Verdana">Ninos Younan - Auto Spa Hand Car Wash</font></span></div>\n\n<div><span style="color: black\; font-size: 10pt\; font-style: normal\;"><font face="Verdana">John Alston - Callero &amp\; Catino Realty</font></span></div>\n\n<div><span style="color: black\; font-size: 10pt\; font-style: normal\;"><font face="Verdana">Michael Cielinski - Chef Trends Plus</font></span></div>\n\n<div><span style="color: black\; font-size: 10pt\; font-style: normal\;"><font face="Verdana">Randy Greco - CHoLAB\, Inc.</font></span></div>\n\n<div><span style="color: black\; font-size: 10pt\; font-style: normal\;"><font face="Verdana">Joanne Cwynar - Ambassador</font></span></div>\n\n<div><span style="color: black\; font-size: 10pt\; font-style: normal\;"><font face="Verdana">Patricia Clemente - E.R.C. Delivery Service\, Inc.</font></span></div>\n\n<div><span style="color: black\; font-size: 10pt\; font-style: normal\;"><font face="Verdana">Bill Griffis - Edward Jones</font></span></div>\n\n<div><span style="color: black\; font-size: 10pt\; font-style: normal\;"><font face="Verdana">Mumtaz Qureshi - Golden Knots</font></span></div>\n\n<div><span style="color: black\; font-size: 10pt\; font-style: normal\;"><font face="Verdana">Norbert Johnson - Johnson Real Estate</font></span></div>\n\n<div><span style="color: black\; font-size: 10pt\; font-style: normal\;"><font face="Verdana">John Koelig - Koelig &amp\; Associates</font></span></div>\n\n<div><span style="color: black\; font-size: 10pt\; font-style: normal\;"><font face="Verdana">Peter Mayer - Journal &amp\; Topics Newspapers</font></span></div>\n\n<div><span style="color: black\; font-size: 10pt\; font-style: normal\;"><font face="Verdana">Iwona Filipiak - Koenig &amp\; Strey Real Estate</font></span></div>\n\n<div><span style="color: black\; font-size: 10pt\; font-style: normal\;"><font face="Verdana">Jonathan Shapiro - Money Mailer of Greater Park Ridge</font></span></div>\n\n<div><span style="color: black\; font-size: 10pt\; font-style: normal\;"><font face="Verdana">Dr. Katie Bertoglio - Morton Grove Animal Hospital and Boarding Kennels</font></span></div>\n\n<div><span style="color: black\; font-size: 10pt\; font-style: normal\;"><font face="Verdana">Sherwin Weisman - North Suburban Hearing Service</font></span></div>\n\n<div><span style="color: black\; font-size: 10pt\; font-style: normal\;"><font face="Verdana">Bijoy Samuel - One IMS</font></span></div>\n\n<div><span style="color: black\; font-size: 10pt\; font-style: normal\;"><font face="Verdana">Dennis Vaccaro - RV Enterprises\, Ltd.</font></span></div>\n\n<div><span style="color: black\; font-size: 10pt\; font-style: normal\;"><font face="Verdana">Ozzie Bruno - Secure Eco Shred</font></span></div>\n\n<div><span style="color: black\; font-size: 10pt\; font-style: normal\;"><font face="Verdana">John Skaja - Skaja Terrace Funeral Home</font></span></div>\n\n<div><span style="color: black\; font-size: 10pt\; font-style: normal\;"><font face="Verdana">Jim Hirsch - Triblocal/Tribune</font></span></div>\n\n<div><span style="color: black\; font-size: 10pt\; font-style: normal\;"><font face="Verdana">Jack Stachnik - TV Facts</font></span></div>\n\n<div><span style="color: black\; font-size: 10pt\; font-style: normal\;"><font face="Verdana">Mike Yesner - Yesner Marketing\, Inc.</font></span></div>\n\n<div>&nbsp\;</div>\n\n<div>&nbsp\;</div>\n\n<div>&nbsp\;</div>\n
LOCATION:St. Andrew Life Center 7000 Newark Niles
UID:e.151.163
SEQUENCE:3
DTSTAMP:20260421T091434Z
URL:https://business.nileschamber.com/events/details/2010-business-after-hours-april-st-andrew-life-center-04-15-2010-163
END:VEVENT

END:VCALENDAR
