BEGIN:VCALENDAR
VERSION:2.0
PRODID:-//ChamberMaster//Event Calendar 2.0//EN
METHOD:PUBLISH
X-PUBLISHED-TTL:P3D
REFRESH-INTERVAL:P3D
CALSCALE:GREGORIAN
BEGIN:VEVENT
DTSTART:20100121T230000Z
DTEND:20100122T010000Z
X-MICROSOFT-CDO-ALLDAYEVENT:FALSE
SUMMARY:2010 BCR - Business After Hours
DESCRIPTION:BCR - Business & Consumer Resources and China Chef Restaurant invite you to a Business After Hours on Thursday\, January 21\, 2010 from 5:00 - 7:00 pm at the China Chef\, 5920 N. Lincoln Avenue\, Morton Grove\, IL 60053. Please reply by January 12\, 2010 to the Morton Grove Chamber\, 847-965-0330 or the Niles Chamber\, 847-268-8180.
X-ALT-DESC;FMTTYPE=text/html:<div>BCR - Business &amp\; Consumer Resources and China Chef Restaurant invite you to a Business After Hours on Thursday\, January 21\, 2010 from 5:00 - 7:00 pm at the China Chef\, 5920 N. Lincoln Avenue\, Morton Grove\, IL 60053. Please reply by January 12\, 2010 to the Morton Grove Chamber\, 847-965-0330 or the Niles Chamber\, 847-268-8180.</div>
LOCATION:China Chef5920 N. Lincoln AvenueMorton Grove\, IL 60053
UID:e.151.158
SEQUENCE:3
DTSTAMP:20260421T190939Z
URL:https://business.nileschamber.com/events/details/2010-bcr-business-after-hours-01-21-2010-158
END:VEVENT

END:VCALENDAR
