BEGIN:VCALENDAR
VERSION:2.0
PRODID:-//ChamberMaster//Event Calendar 2.0//EN
METHOD:PUBLISH
X-PUBLISHED-TTL:P3D
REFRESH-INTERVAL:P3D
CALSCALE:GREGORIAN
BEGIN:VEVENT
DTSTART:20100625T140000Z
DTEND:20100625T173000Z
X-MICROSOFT-CDO-ALLDAYEVENT:FALSE
SUMMARY:2010 Annual Job Shadow Day
DESCRIPTION:The Niles Chamber of Commerce has partnered with the Niles Teen Center for a Job Shadow Day to give local students a hands-on work experience. If your company is interested in being a "Workplace Host" please contact the Niles Chamber to sign up.  Students will be matched with a company based on their skills and interests. Students will be dropped off by parents between 9:00-9:30 a.m. and picked-up by Teen Center staff between 12:00 - 12:30 p.m. An activity packet will be sent to you offering ideas\, worksheets and guidelines for making the morning a great experience for your job shadow.
X-ALT-DESC;FMTTYPE=text/html:<div style="margin: 0in 0in 0pt\;"><span style="font-size: 10pt\;"><font face="Verdana">The Niles Chamber of Commerce has partnered with the&nbsp\;Niles Teen Center for a Job Shadow Day to give local students a hands-on work experience. If your company is interested in being a &ldquo\;Workplace Host&rdquo\; please contact the Niles Chamber to sign up.&nbsp\;</font></span></div><div style="margin: 0in 0in 0pt\;">&nbsp\;</div><div style="margin: 0in 0in 0pt\;"><span style="font-size: 10pt\;"><font face="Verdana">Students will be matched with a company based on their skills and interests. Students will be dropped off by parents between 9:00-9:30 a.m. and picked-up by Teen Center staff between 12:00 - 12:30 p.m. An activity packet will be sent to you offering ideas\, worksheets and guidelines for making the morning a great experience for your job shadow.</font></span></div>
LOCATION:
UID:e.151.194
SEQUENCE:3
DTSTAMP:20260421T050736Z
URL:https://business.nileschamber.com/events/details/2010-annual-job-shadow-day-06-25-2010-194
END:VEVENT

END:VCALENDAR
