BEGIN:VCALENDAR
VERSION:2.0
PRODID:-//ChamberMaster//Event Calendar 2.0//EN
METHOD:PUBLISH
X-PUBLISHED-TTL:P3D
REFRESH-INTERVAL:P3D
CALSCALE:GREGORIAN
BEGIN:VEVENT
DTSTART:20101209T230000Z
DTEND:20101210T020000Z
X-MICROSOFT-CDO-ALLDAYEVENT:FALSE
SUMMARY:2010 Annual Holiday Party
DESCRIPTION:Join us for our\n\n		Annual Holiday Party \n\n		\n\n		Thursday\, December 9th\n\n		5:00 p.m. - 8:00 p.m.\n\n		the St. John Brebeuf Ministry Center\,\n\n		8305 Harlem Ave\, Niles\n\n		\n\n		Click Here for Event Invitation\n\n\n	\n		This year end celebration is our annual meeting\, the installation of officers\, plus enjoy delicious food\, drinks and tons of raffle prizes\, a silent auction and games. New this year\, experience our Wine Raffle! \n	\n		In the Season of Giving\n	\n		All members are welcome to attend the Holiday Party at no charge however\, in the season of giving we ask that you bring a donation for our local food pantries.\n	\n		The Board of Directors for 2011 slate is as follows:\n	\n		President\n\n		Vince Scaletta\, Aflac\n\n		First Vice President\n\n		Iwona Filipiak\, Koenig & Strey Real Living\n\n		Second Vice President\n\n		Barb Kruser\, NilesPublic Library\n\n		Treasurer\n\n		Bill Kivit\, NorthSide Community Bank\n\n		Immediate Past President\n\n		Joe Walsh\, Access Benefit Solutions\n\n		\n\n		2011 Directors\n\n		Katy Elster\, St. Andrew Life Center\n\n		George Lowe\, Sparkfactor\n\n		Krystyna Koda\, RidgewoodGardens\n\n		Vicky Kotsakos\, First American Bank\n\n		Rich Mangold\, RCM Home Inspections\, LLC\n\n		Joe Penze\, Niles Police Department\n\n		Chris Schyvinck\, Shure Incorporated\n\n		John Skaja\, Skaja Terrace Funeral Home\n\n		Debra Sloan\, JCare Home Medical Supplies\, Inc.\n\n		ReginaVerdico\, GolfMillShopping Center\n\n\n	 \n\n\n\n	Promote Your Business and Donate...\n\n	We are expecting more than 150 people to attend this event and recognize your generosity. We kindly request that businesses and organizations consider one of the following:\n\n	\n		Silent Auction and Raffle. Donate a gift certificate or be creative with a gift basket promoting your company. Or purchase popular items and note it is a gift from your business. We will accept any gift\, any value! In addition to visibility from your gift\, all donors will be listed in the evening program\, the Niles Chamber Vantage Point newsletter and announced throughout the evening.\n	\n		Wine Raffle. We kindly request individual wine bottles from your collection valued $10 or higher. Any amount is appreciated. (Please indicate the value per bottle). Ideally we would like avariety of wines. All donors will be listed on signage at the event\, in the evening program\, the Niles Chamber Vantage Point newsletter and announced throughout the evening.\n\n\n	Click Here for Donation Letter
X-ALT-DESC;FMTTYPE=text/html:<div style="text-align: center">\n	<p>\n		<span style="font-size: 14px"><strong><span style="font-family: verdana">Join us for our<br />\n		<span style="color: #b22222"><span style="font-size: 18px">Annual Holiday Party </span></span><br />\n		<br />\n		Thursday\, December 9th<br />\n		5:00 p.m. - 8:00 p.m.<br />\n		the St. John Brebeuf Ministry Center\,<br />\n		8305 Harlem Ave\, Niles<br />\n		<br />\n		<span style="font-size: 12px"><em><a href="http://cloud.chambermaster.com/userfiles/UserFiles/chambers/151/File/Holiday%20Invite2010.pdf">Click Here for Event Invitation</a></em></span></span></strong></span></p>\n</div>\n<div>\n	<p style="text-align: center">\n		<span style="font-size: 12px"><span style="font-family: verdana">This year end celebration is our annual meeting\, the installation of officers\, plus enjoy delicious food\, drinks and tons of raffle prizes\, a silent auction and games. New this year\, experience our Wine Raffle! </span></span></p>\n	<div style="text-align: center">\n		<font face="Comic Sans MS" size="3">In the Season of Giving</font></div>\n	<p style="text-align: center">\n		<span style="font-size: 12px"><span style="font-family: verdana">All members are welcome to attend the Holiday Party at no charge however\, in the season of giving we ask that you bring a donation for our local food pantries.</span></span></p>\n	<p style="text-align: center">\n		<span style="font-size: 12px"><span style="font-family: verdana">The Board of Directors for 2011 slate is as follows:</span></span></p>\n	<p style="text-align: center">\n		<span style="font-size: 12px"><span style="font-family: verdana"><strong>President</strong><br />\n		Vince Scaletta\, Aflac<br />\n		<strong>First Vice President</strong><br />\n		Iwona Filipiak\, Koenig &amp\; Strey Real Living<br />\n		<strong>Second Vice President</strong><br />\n		Barb Kruser\, NilesPublic Library<br />\n		<strong>Treasurer</strong><br />\n		Bill Kivit\, NorthSide Community Bank<br />\n		<strong>Immediate Past President</strong><br />\n		Joe Walsh\, Access Benefit Solutions<br />\n		<br />\n		<strong>2011 Directors</strong><br />\n		Katy Elster\, St. Andrew Life Center<br />\n		George Lowe\, Sparkfactor<br />\n		Krystyna Koda\, RidgewoodGardens<br />\n		Vicky Kotsakos\, First American Bank<br />\n		Rich Mangold\, RCM Home Inspections\, LLC<br />\n		Joe Penze\, Niles Police Department<br />\n		Chris Schyvinck\, Shure Incorporated<br />\n		John Skaja\, Skaja Terrace Funeral Home<br />\n		Debra Sloan\, JCare Home Medical Supplies\, Inc.<br />\n		ReginaVerdico\, GolfMillShopping Center</span></span></p>\n</div>\n<div>\n	<font face="Verdana" size="2">&nbsp\;</font></div>\n<br />\n<div>\n	<span style="font-size: 16px"><strong><span style="font-family: comic sans ms">Promote Your Business and Donate...</span></strong></span><br />\n	<span style="font-size: 12px"><span style="font-family: verdana">We are expecting more than 150 people to attend this event and recognize your generosity. We kindly request that businesses and organizations consider one of the following:</span></span></div>\n<ul>\n	<li>\n		<span style="font-size: 12px"><span style="font-family: verdana"><strong>Silent Auction and Raffle.</strong> Donate a gift certificate or be creative with a gift basket promoting your company. Or purchase popular items and note it is a gift from your business. We will accept any gift\, any value! In addition to visibility from your gift\, all donors will be listed in the evening program\, the Niles Chamber Vantage Point newsletter and announced throughout the evening.</span></span></li>\n	<li>\n		<span style="font-size: 12px"><span style="font-family: verdana"><strong>Wine Raffle. </strong>We kindly request individual wine bottles from your collection valued $10 or higher. Any amount is appreciated. (Please indicate the value per bottle). Ideally we would like avariety of wines. All donors will be listed on signage at the event\, in the evening program\, the Niles Chamber Vantage Point newsletter and announced throughout the evening.</span></span></li>\n</ul>\n<p style="text-align: center">\n	<strong><em><a href="http://cloud.chambermaster.com/userfiles/UserFiles/chambers/151/File/Holiday%20Party%20Donation.pdf"><span style="font-size: 12px"><span style="font-family: verdana">Click Here for Donation Letter</span></span></a></em></strong></p>\n
LOCATION:St. John Ministry Center 8305 N. Harlem Avenue\, Niles
UID:e.151.217
SEQUENCE:3
DTSTAMP:20260420T195007Z
URL:https://business.nileschamber.com/events/details/2010-annual-holiday-party-12-09-2010-217
END:VEVENT

END:VCALENDAR
