BEGIN:VCALENDAR
VERSION:2.0
PRODID:-//ChamberMaster//Event Calendar 2.0//EN
METHOD:PUBLISH
X-PUBLISHED-TTL:P3D
REFRESH-INTERVAL:P3D
CALSCALE:GREGORIAN
BEGIN:VEVENT
DTSTART;VALUE=DATE:20090502
DTEND;VALUE=DATE:20090503
TRANSP:TRANSPARENT
X-MICROSOFT-CDO-ALLDAYEVENT:TRUE
SUMMARY:2009 Spring Cleaning
DESCRIPTION:Spring Cleaning 2009 at Golf Mill Shopping CenterRecycle your cell phones/batteries\, stereo equipment\, fax machines\, TV's and computer monitors. W.I.N.G.S. (Women In Need Growing Stronger) will be collecting clothing and gently used furniture. Habitat for Humanity Restores will be taking household products including kitchen and bathroom fixtures\, doors\, windows\, light fixtures\, etc. Did you know that every year thousands of electronics are discarded improperly? Many of these items take over 50 years to fully degrade. Partner with Golf Mill Shopping Center as we do our part to make a greener earth for today and tomorrow. Items not accepted:Household hazardous waste (paints\, chemicals)\, air conditioners\, large home appliances (refrigerators\, freezers\, washers and dryers). Limit one CRT monitor and TV per vehicle at no charge. A minimal fee of $10 - $15 will be applied for additonal CRT monitors and TV's.
X-ALT-DESC;FMTTYPE=text/html:<div>Spring Cleaning 2009 at Golf Mill Shopping Center</div><div>Recycle your cell phones/batteries\, stereo equipment\, fax machines\, TV&rsquo\;s and computer monitors.</div><div>&nbsp\;</div><div>W.I.N.G.S. (Women In Need Growing Stronger) will be collecting clothing and gently used furniture.</div><div>&nbsp\;</div><div>Habitat for Humanity Restores will be taking household products including kitchen and bathroom fixtures\, doors\, windows\, light fixtures\, etc.</div><div>&nbsp\;</div><div>Did you know that every year thousands of electronics are discarded improperly? Many of these items take over 50 years to fully degrade. Partner with Golf Mill Shopping Center as we do our part to make a greener earth for today and tomorrow.</div><div>&nbsp\;</div><div><u><strong>Items not accepted:</strong></u></div><div>Household hazardous waste (paints\, chemicals)\, air conditioners\, large home appliances (refrigerators\, freezers\, washers and dryers).</div><div>&nbsp\;</div><div>Limit one CRT monitor and TV per vehicle at no charge. A minimal fee of $10 - $15 will be applied for additonal CRT monitors and TV's.</div>
LOCATION:Golf Mill Shopping Center Parking LotParking lot facing Milwaukee Avenue near XSport Fitness entranceNiles
UID:e.151.97
SEQUENCE:3
DTSTAMP:20260422T064515Z
URL:https://business.nileschamber.com/events/details/2009-spring-cleaning-05-02-2009-97
END:VEVENT

END:VCALENDAR
