BEGIN:VCALENDAR
VERSION:2.0
PRODID:-//ChamberMaster//Event Calendar 2.0//EN
METHOD:PUBLISH
X-PUBLISHED-TTL:P3D
REFRESH-INTERVAL:P3D
CALSCALE:GREGORIAN
BEGIN:VEVENT
DTSTART:20091025T003000Z
DTEND:20091024T213000Z
X-MICROSOFT-CDO-ALLDAYEVENT:FALSE
SUMMARY:2009 Spinning for Scholars
DESCRIPTION:The Niles Family Fitness Center and Niles Chamber Dollars for ScholarsPresentsSpinning for Scholars - Get Your Team Together!  Each Team Member needs to raise $50.00 in pledge donations. Each Participating Team Member will receive a goody bag. Prizes awarded to the team that raises the most money. The Dollars for Scholars program awards six scholarships annually to high school and college bound Niles students.   For additional information or to register your team contact:Linda MathisMembership Coordinator\, Niles Family Fitness Center(847) 588-8400
X-ALT-DESC;FMTTYPE=text/html:<div align="center"><font face="Verdana" color="#333399" size="4"><strong>The Niles Family Fitness Center </strong></font></div><div align="center"><font face="Verdana" color="#333399" size="4"><strong>and Niles Chamber Dollars for Scholars</strong></font></div><div align="center"><font face="Verdana" color="#333399" size="4"><em><strong>Presents</strong></em></font></div><div align="center"><font face="Verdana" size="4"><font color="#ff6600"><strong>Spinning for Scholars - Get Your Team Together</strong>!</font></font></div><div align="center">&nbsp\;</div><div align="left">&nbsp\;<div><font face="Verdana" size="2">Each Team Member needs to raise $50.00 in pledge donations. Each Participating Team Member will receive a goody bag. Prizes awarded to the team that raises the most money. The Dollars for Scholars program awards six scholarships annually to high school and college bound Niles students.&nbsp\;&nbsp\;</font></div><div>&nbsp\;</div><div><font face="Verdana" size="2"><strong>For additional information or to register your team contact:</strong></font></div><div><font face="Verdana" size="2">Linda Mathis</font></div><div><font face="Verdana" size="2">Membership Coordinator\, Niles Family Fitness Center</font></div><div><font face="Verdana" size="2">(847) 588-8400</font></div></div>
LOCATION:Niles Family Fitness Center987 Civic Center DriveNiles\, IL 60714
UID:e.151.126
SEQUENCE:3
DTSTAMP:20260421T232637Z
URL:https://business.nileschamber.com/events/details/2009-spinning-for-scholars-10-24-2009-126
END:VEVENT

END:VCALENDAR
