BEGIN:VCALENDAR
VERSION:2.0
PRODID:-//ChamberMaster//Event Calendar 2.0//EN
METHOD:PUBLISH
X-PUBLISHED-TTL:P3D
REFRESH-INTERVAL:P3D
CALSCALE:GREGORIAN
BEGIN:VEVENT
DTSTART:20091006T120000Z
DTEND:20091006T143000Z
X-MICROSOFT-CDO-ALLDAYEVENT:FALSE
SUMMARY:2009 Sam's Club Connect
DESCRIPTION:Multi Chamber Networking Event On behalf of the Des Plaines Sam's Club\, the Des Plaines\, Rosemont and Niles Chamber of Commerce's We cordially invite you to a Roundtable Networking event on Tuesday\, October 6\, 2009 from 7:00 a.m. to 9:30 a.m. This is a free event for all Chamber members and Sam's Club Business Members. We will be having a few guest speakers from local businesses talking about how relationships are key to the success of small businesses. Breakfast will be served at 7:00 a.m.
X-ALT-DESC;FMTTYPE=text/html:<div><strong><span style="font-size: large"><span style="font-family: Verdana">Multi Chamber Networking Event</span></span></strong></div><div><span style="font-family: Verdana">&nbsp\;</span></div><div><span style="font-size: x-small"><em><span style="font-family: Verdana">On behalf of the Des Plaines Sam&rsquo\;s Club\,&nbsp\;the Des Plaines\, Rosemont and Niles Chamber of Commerce&rsquo\;s</span></em></span></div><div><span style="font-family: Verdana">&nbsp\;</span></div><div><span style="font-family: Verdana">We cordially invite you to a Roundtable Networking event on Tuesday\, October 6\, 2009 from 7:00 a.m. to 9:30 a.m. This is a free event for all Chamber members and Sam&rsquo\;s Club Business Members. We will be having a few guest speakers from local businesses talking about how relationships are key to the success of small businesses.</span></div><div><span style="font-family: Verdana">&nbsp\;</span></div><div><span style="font-family: Verdana">Breakfast will be served at 7:00 a.m.</span></div>
LOCATION:Sam's Club101 W. Oakton StreetDes Plaines\, IL 60018
UID:e.151.128
SEQUENCE:3
DTSTAMP:20260421T233142Z
URL:https://business.nileschamber.com/events/details/2009-sam-s-club-connect-10-06-2009-128
END:VEVENT

END:VCALENDAR
