BEGIN:VCALENDAR
VERSION:2.0
PRODID:-//ChamberMaster//Event Calendar 2.0//EN
METHOD:PUBLISH
X-PUBLISHED-TTL:P3D
REFRESH-INTERVAL:P3D
CALSCALE:GREGORIAN
BEGIN:VEVENT
DTSTART:20090425T180000Z
DTEND:20090425T200000Z
X-MICROSOFT-CDO-ALLDAYEVENT:FALSE
SUMMARY:2009 Pouring Puddles of Poetry
DESCRIPTION:This is a "Free" Children's poetry show we are putting together to give the children of Niles community an opportunity to openingly express themselves with words.  This is an outside event with refreshments and a opportunity to win prizes.
X-ALT-DESC;FMTTYPE=text/html:This is a "Free" Children's poetry show we are putting together to give the children of Niles community an opportunity to openingly express themselves with words.  This is an outside event with refreshments and a opportunity to win prizes.
LOCATION:6801 West Howard Street\, Niles\, IL 60714
UID:e.151.98
SEQUENCE:3
DTSTAMP:20260422T075928Z
URL:https://business.nileschamber.com/events/details/2009-pouring-puddles-of-poetry-04-25-2009-98
END:VEVENT

END:VCALENDAR
