BEGIN:VCALENDAR
VERSION:2.0
PRODID:-//ChamberMaster//Event Calendar 2.0//EN
METHOD:PUBLISH
X-PUBLISHED-TTL:P3D
REFRESH-INTERVAL:P3D
CALSCALE:GREGORIAN
BEGIN:VEVENT
DTSTART:20090827T123000Z
DTEND:20090827T143000Z
X-MICROSOFT-CDO-ALLDAYEVENT:FALSE
SUMMARY:2009 Multi-Chamber Progressive Networking Breakfast - :Holiday Inn
DESCRIPTION:Multi-Chamber Progressive \n\nNetworking Breakfast\n\nMEGA-NETWORKING\n\nTwelve Chambers of Commerce have joined forces to bring you this fast-paced networking experience: Des Plaines\, Chicago Area Gay & Lesbian\, Evanston\, Glenview\, Highland Park\, Morton Grove\, Mount Prospect\, Niles\, Park Ridge\, Skokie\, Wheeling/Prospect Heights and Wilmette.\n\nAfter a box of lunch\, you will be seated with other business people to spend several minutes to promote your business and exchange business cards. Then\, you will switch to another table and then another! Over 200 people attended this last year.\n\nYou must be Pre-Paid for this event. \n\nAbsolutely NO WALK-INS! \n\nDeadline to register: Wednesday\, August 19\, 2009. \n\nCall Brenda (847) 268-8180 to sign up.\n\n \n\nTable Sponsorships Available $35\n\nPlace your brochures on a networking table (signage included)
X-ALT-DESC;FMTTYPE=text/html:<div><font color="#800000" face="Verdana" size="4"><strong>Multi-Chamber Progressive </strong></font></div>\n\n<div><font color="#800000" face="Verdana" size="4"><strong>Networking Breakfast</strong></font></div>\n\n<div><font face="Verdana" size="6"><strong>MEGA-NETWORKING</strong></font></div>\n\n<p><font face="Verdana" size="2">Twelve&nbsp\;Chambers of Commerce have joined forces to bring you this fast-paced networking experience: Des Plaines\, Chicago Area Gay &amp\; Lesbian\, Evanston\, Glenview\, Highland Park\, Morton Grove\, Mount Prospect\, Niles\, Park Ridge\, Skokie\, Wheeling/Prospect Heights and Wilmette.</font></p>\n\n<p><font face="Verdana" size="2">After a box of lunch\, you will be seated with other business people to spend several minutes to promote your business and exchange business cards. Then\, you will switch to another table and then another! Over 200 people attended this last year.</font></p>\n\n<div><font face="Verdana" size="2"><strong>You must be Pre-Paid for this event. </strong></font></div>\n\n<div><font face="Verdana" size="2"><strong>Absolutely NO WALK-INS! </strong></font></div>\n\n<div><font face="Verdana" size="2">Deadline to register: Wednesday\, August 19\, 2009. </font></div>\n\n<div><font face="Verdana" size="2">Call Brenda (847) 268-8180 to sign up.</font></div>\n\n<div>&nbsp\;</div>\n\n<div><font face="Verdana" size="2"><strong>Table Sponsorships Available </strong></font><font face="Verdana" size="2"><strong>$35</strong></font></div>\n\n<div><font face="Verdana" size="2">Place your brochures on a networking table (signage included) </font></div>\n
LOCATION:Holiday Inn North Shore 5300 Touhy Avenue Skokie\, IL 60077
UID:e.151.116
SEQUENCE:3
DTSTAMP:20260422T024051Z
URL:https://business.nileschamber.com/events/details/2009-multi-chamber-progressive-networking-breakfast-holiday-inn-08-27-2009-116
END:VEVENT

END:VCALENDAR
