BEGIN:VCALENDAR
VERSION:2.0
PRODID:-//ChamberMaster//Event Calendar 2.0//EN
METHOD:PUBLISH
X-PUBLISHED-TTL:P3D
REFRESH-INTERVAL:P3D
CALSCALE:GREGORIAN
BEGIN:VEVENT
DTSTART:20090924T220000Z
DTEND:20090925T010000Z
X-MICROSOFT-CDO-ALLDAYEVENT:FALSE
SUMMARY:2009 Multi-Chamber Networking Pub Crawl
DESCRIPTION:Multi-Chamber Networking Pub CrawlHosted by: Niles\, Morton Grove\, Skokie and Edison Park Chambers of Commerce All local chambers welcome to join in the fun! Thursday\, September 24th 5:00 p.m.  Moretti's6727 N. Olmsted 6:00 p.m. The Curragh6705 N. Northwest Highway 7:00 p.m. Emerald Isle6686 N. Northwest Highway Cash bar with light appetizers.
X-ALT-DESC;FMTTYPE=text/html:<div style="text-align: center"><span style="color: #339966"><span style="font-size: large"><span style="font-family: Verdana"><strong>Multi-Chamber Networking Pub Crawl</strong></span></span></span></div><div style="text-align: center"><span style="font-size: small"><strong><span style="font-family: Verdana">Hosted by: </span></strong></span></div><div style="text-align: center"><span style="font-size: small"><strong><span style="font-family: Verdana">Niles\, Morton Grove\, Skokie and </span></strong></span></div><div style="text-align: center"><span style="font-size: small"><strong><span style="font-family: Verdana">Edison Park Chambers of Commerce</span></strong></span></div><div>&nbsp\;</div><div style="text-align: center"><span style="font-size: xx-small"><span style="font-family: Verdana">All local chambers welcome to join in the fun!</span></span></div><div style="text-align: center"><span style="font-size: small"><span style="font-family: Verdana">&nbsp\;</span></span></div><div style="text-align: center"><span style="color: #339966"><span style="font-size: medium"><span style="font-family: Verdana"><strong>Thursday\, September 24th</strong></span></span></span></div><div style="text-align: center"><span style="font-size: medium"><strong><span style="font-family: Verdana">&nbsp\;</span></strong></span></div><div style="text-align: center"><span style="font-size: medium"><strong><span style="font-family: Verdana">5:00 p.m.</span></strong></span>&nbsp\; <span style="font-size: small"><span style="font-family: Verdana"><span style="font-size: medium"><strong><span style="font-family: Verdana">Moretti&rsquo\;s</span></strong></span></span></span></div><div style="text-align: center"><span style="font-size: small"><span style="font-family: Verdana">6727 N. Olmsted</span></span></div><div style="text-align: center"><span style="font-size: medium"><strong><span style="font-family: Verdana">&nbsp\;</span></strong></span></div><div style="text-align: center"><span style="font-size: medium"><strong><span style="font-family: Verdana">6:00 p.m. <span style="font-size: medium"><strong><span style="font-family: Verdana">The Curragh</span></strong></span></span></strong></span></div><div style="text-align: center"><span style="font-size: small"><span style="font-family: Verdana">6705 N. Northwest Highway</span></span></div><div style="text-align: center"><span style="font-size: medium"><strong><span style="font-family: Verdana">&nbsp\;</span></strong></span></div><div style="text-align: center"><span style="font-size: medium"><strong><span style="font-family: Verdana">7:00 p.m. <span style="font-size: medium"><strong><span style="font-family: Verdana">Emerald Isle</span></strong></span></span></strong></span></div><div style="text-align: center"><span style="font-size: small"><span style="font-family: Verdana">6686 N. Northwest Highway</span></span></div><div style="text-align: center"><span style="font-size: medium"><strong><span style="font-family: Verdana">&nbsp\;</span></strong></span></div><div style="text-align: center"><span style="color: #339966"><span style="font-size: medium"><strong><span style="font-family: Verdana">Cash bar with light appetizers.</span></strong></span></span></div><div style="text-align: center"><span style="color: #339966"><span style="font-size: medium"><strong><span style="font-family: Verdana">&nbsp\;</span></strong></span></span></div>
LOCATION:Moretti's - 5:00 pm6727 N. Olmsted The Curragh - 6:00 pm6705 N. Northwest Highway Emerald Isle - 7:00 pm6686 N. Norhtwest Highway
UID:e.151.118
SEQUENCE:3
DTSTAMP:20260422T010939Z
URL:https://business.nileschamber.com/events/details/2009-multi-chamber-networking-pub-crawl-09-24-2009-118
END:VEVENT

END:VCALENDAR
