BEGIN:VCALENDAR
VERSION:2.0
PRODID:-//ChamberMaster//Event Calendar 2.0//EN
METHOD:PUBLISH
X-PUBLISHED-TTL:P3D
REFRESH-INTERVAL:P3D
CALSCALE:GREGORIAN
BEGIN:VEVENT
DTSTART;VALUE=DATE:20091022
DTEND;VALUE=DATE:20091023
TRANSP:TRANSPARENT
X-MICROSOFT-CDO-ALLDAYEVENT:TRUE
SUMMARY:2009 Multi-Chamber Business to Business Expo & Taste - Bristol Courts
DESCRIPTION:Multi-Chamber Biz-to-Biz\n\nExpo & Taste\n\n \n\nPresented by:\n\nDes Plaines\, Edison Park\, Greater Lincolnshire\, Morton Grove\, Mount Prospect\, Niles\, Park Ridge\, Skokie\, and Wheeling/Prospect Heights\n\n \n\n \n\n\n\n\n\n\n \n  Normal\n  0\n  \n  \n  false\n  false\n  false\n  \n   \n   \n   \n   \n   \n  \n  MicrosoftInternetExplorer4\n \n\n \n \n\n\nst1\\:*{behavior:url(#ieooui) }\n\n\n\n\n\n\n /* Style Definitions */\n table.MsoNormalTable\n	{mso-style-name:"Table Normal"\;\n	mso-tstyle-rowband-size:0\;\n	mso-tstyle-colband-size:0\;\n	mso-style-noshow:yes\;\n	mso-style-parent:""\;\n	mso-padding-alt:0in 5.4pt 0in 5.4pt\;\n	mso-para-margin:0in\;\n	mso-para-margin-bottom:.0001pt\;\n	mso-pagination:widow-orphan\;\n	font-size:10.0pt\;\n	font-family:"Times New Roman"\;\n	mso-ansi-language:#0400\;\n	mso-fareast-language:#0400\;\n	mso-bidi-language:#0400\;}\n\n \nThursday\, October 22\n\n3:00 p.m.   6:00 p.m.\n\nBristol Court Banquets\, 828 E. Rand Road\, Mount Prospect\n\nFREE ADMISSION and FREE PARKING\n\n \n\n\n\n \n  Normal\n  0\n  \n  \n  false\n  false\n  false\n  \n   \n   \n   \n   \n   \n  \n  MicrosoftInternetExplorer4\n \n\n \n \n\n\nst1\\:*{behavior:url(#ieooui) }\n\n\n\n\n\n\n /* Style Definitions */\n table.MsoNormalTable\n	{mso-style-name:"Table Normal"\;\n	mso-tstyle-rowband-size:0\;\n	mso-tstyle-colband-size:0\;\n	mso-style-noshow:yes\;\n	mso-style-parent:""\;\n	mso-padding-alt:0in 5.4pt 0in 5.4pt\;\n	mso-para-margin:0in\;\n	mso-para-margin-bottom:.0001pt\;\n	mso-pagination:widow-orphan\;\n	font-size:10.0pt\;\n	font-family:"Times New Roman"\;\n	mso-ansi-language:#0400\;\n	mso-fareast-language:#0400\;\n	mso-bidi-language:#0400\;}\n\n \nLooking for ways to improve your bottom line? Need better marketing tools? How about vendors that can save you money? For these answers and more\, check out our Business to Business Expo and Taste.  Business owners\, managers\, employees and even home-based businesses from the area are invited to attend at no charge\, with a business card the only requirement for entry. \n\nPlus enjoy samples from these great area restaurants/caterers and more-here's a list of our early registrants:\n\n \n\n\n\n \n\n\n\n \n\n\n\n                                Bristol Court Legendary Catering\n\n\n\nCalifornia Pizza Kitchen\n\nCatered By Design\n\nCheeseburger in Paradise\n\nCumberland Caf \n\nEdible Arrangements\n\nGullivers Pizzeria & Restaurant\n\nIllinois Nut & Candy \n\nKatie's Kitchen \n\nMaggiano's Little Italy\n\nPanino's Pizzeria\n\nPasta D'Arte \n\nTandoor India Restaurant\n\nWa-Pa-Ghetti's Pizza
X-ALT-DESC;FMTTYPE=text/html:<div>\n<div style="margin: 0in 0in 0pt\;">\n<div style="margin: 0in 0in 0pt\; text-align: center\;"><span style="font-size: medium\;"><font face="Verdana"><span style="font-size: large\;">&nbsp\;<strong>Multi-Chamber Biz-to-Biz</strong></span></font></span></div>\n\n<div style="margin: 0in 0in 0pt\; text-align: center\;"><span style="font-size: medium\;"><font face="Verdana"><span style="font-size: x-large\;"><strong>Expo &amp\;&nbsp\;Taste</strong></span></font></span></div>\n\n<div style="margin: 0in 0in 0pt\; text-align: center\;"><span style="font-size: medium\;"><font face="Verdana"><span style="font-size: small\;"><span style="font-family: Verdana\;">&nbsp\;</span></span></font></span></div>\n\n<div style="margin: 0in 0in 0pt\; text-align: center\;"><span style="font-size: medium\;"><font face="Verdana"><span style="font-size: small\;"><span style="font-family: Verdana\;">Presented by:</span></span></font></span></div>\n\n<div style="margin: 0in 0in 0pt\; text-align: center\;"><span style="font-size: medium\;"><font face="Verdana"><span style="font-size: small\;"><span style="font-family: Verdana\;">Des Plaines\, Edison&nbsp\;Park\, Greater Lincolnshire\, Morton Grove\, Mount Prospect\, Niles\, Park Ridge\, Skokie\, and Wheeling/Prospect Heights</span></span></font></span></div>\n\n<div style="margin: 0in 0in 0pt\;"><span style="font-size: medium\;"><font face="Verdana"><span style="font-size: small\;">&nbsp\;</span></font></span></div>\n\n<div style="margin: 0in 0in 0pt\;"><span style="font-size: medium\;"><font face="Verdana"><span style="font-size: small\;">&nbsp\;</span></font></span></div>\n</div>\n</div>\n<meta content="Word.Document" name="ProgId" />\n<meta content="Microsoft Word 11" name="Generator" />\n<meta content="Microsoft Word 11" name="Originator" />\n<link href="file:///C:\\DOCUME~1\\User1\\LOCALS~1\\Temp\\msohtml1\\01\\clip_filelist.xml" rel="File-List" /><span style="font-size: medium\;"><font face="Verdana"><o:smarttagtype downloadurl="http://www.5iantlavalampft-com:office:smarttags" name="Street" namespaceuri="urn:schemas-microsoft-com:office:smarttags"></o:smarttagtype><o:smarttagtype downloadurl="http://www.5iamas-microsoft-com:office:smarttags" name="City" namespaceuri="urn:schemas-microsoft-com:office:smarttags"></o:smarttagtype><o:smarttagtype downloadurl="http://www.5iamas-microsoft-com:office:smarttags" name="address" namespaceuri="urn:schemas-microsoft-com:office:smarttags"></o:smarttagtype><o:smarttagtype downloadurl="http://www.5iantlavalamp.com/" name="place" namespaceuri="urn:schemas-microsoft-com:office:smarttags"></o:smarttagtype><span style="font-size: small\;"><!--[if gte mso 9]><xml>\n <w:WordDocument>\n  <w:View>Normal</w:View>\n  <w:Zoom>0</w:Zoom>\n  <w:PunctuationKerning />\n  <w:ValidateAgainstSchemas />\n  <w:SaveIfXMLInvalid>false</w:SaveIfXMLInvalid>\n  <w:IgnoreMixedContent>false</w:IgnoreMixedContent>\n  <w:AlwaysShowPlaceholderText>false</w:AlwaysShowPlaceholderText>\n  <w:Compatibility>\n   <w:BreakWrappedTables />\n   <w:SnapToGridInCell />\n   <w:WrapTextWithPunct />\n   <w:UseAsianBreakRules />\n   <w:DontGrowAutofit />\n  </w:Compatibility>\n  <w:BrowserLevel>MicrosoftInternetExplorer4</w:BrowserLevel>\n </w:WordDocument>\n</xml><![endif]--><!--[if gte mso 9]><xml>\n <w:LatentStyles DefLockedState="false" LatentStyleCount="156">\n </w:LatentStyles>\n</xml><![endif]--><!--[if !mso]><object\n classid="clsid:38481807-CA0E-42D2-BF39-B33AF135CC4D" id=ieooui></object>\n<style>\nst1\\:*{behavior:url(#ieooui) }\n</style>\n<![endif]--></span>\n<style type="text/css">\n</style>\n<span style="font-size: small\;"><!--[if gte mso 10]>\n<style>\n /* Style Definitions */\n table.MsoNormalTable\n	{mso-style-name:"Table Normal"\;\n	mso-tstyle-rowband-size:0\;\n	mso-tstyle-colband-size:0\;\n	mso-style-noshow:yes\;\n	mso-style-parent:""\;\n	mso-padding-alt:0in 5.4pt 0in 5.4pt\;\n	mso-para-margin:0in\;\n	mso-para-margin-bottom:.0001pt\;\n	mso-pagination:widow-orphan\;\n	font-size:10.0pt\;\n	font-family:"Times New Roman"\;\n	mso-ansi-language:#0400\;\n	mso-fareast-language:#0400\;\n	mso-bidi-language:#0400\;}\n</style>\n<![endif]--> </span></font></span>\n<div style="text-align: center\;"><span style="font-size: medium\;"><font face="Verdana"><span style="font-size: small\;"><span style="font-family: Verdana\;"><b><span lang="EN">T</span></b><b><span lang="EN">hu</span></b><b><span lang="EN">rsday\, October 22</span></b></span></span></font></span></div>\n\n<div style="text-align: center\;"><span style="font-size: medium\;"><font face="Verdana"><span style="font-size: small\;"><span style="font-family: Verdana\;"><span lang="EN">3:00 p.m. &ndash\; 6:00 p.m.</span></span></span><span lang="EN" style="font-family: &quot\;Eurostile Condensed&quot\;\;"><o:p></o:p></span></font></span></div>\n\n<div style="text-align: center\;"><span style="font-size: medium\;"><font face="Verdana"><st1:city w:st="on"><st1:place w:st="on"></st1:place></st1:city><st1:city w:st="on"><st1:place w:st="on"></st1:place></st1:city><span style="font-size: small\;"><st1:city w:st="on"><st1:place w:st="on"><span style="font-family: Verdana\;"><span lang="EN">Bristol</span></span></st1:place></st1:city><span style="font-family: Verdana\;"><span lang="EN"> Court Banquets\, </span></span></span><span lang="EN" style="font-family: &quot\;Eurostile Condensed&quot\;\;"><st1:street w:st="on"><st1:address w:st="on"></st1:address></st1:street><st1:street w:st="on"><st1:address w:st="on"><span style="font-size: small\;"><span style="font-family: Verdana\;">828 E. Rand Road</span></span></st1:address></st1:street><st1:street w:st="on"><st1:address w:st="on"></st1:address></st1:street><st1:street w:st="on"><st1:address w:st="on"></st1:address></st1:street><st1:street w:st="on"><st1:address w:st="on"></st1:address></st1:street><span style="font-size: small\;"><span style="font-family: Verdana\;">\, Mount Prospect</span></span><o:p></o:p></span></font></span></div>\n\n<div style="text-align: center\;"><span style="font-size: medium\;"><font face="Verdana"><span style="font-size: small\;"><span style="font-family: Verdana\;"><span lang="EN">FREE ADMISSION and FREE PARKING</span></span></span><br />\n<span style="font-size: small\;">&nbsp\;</span></font></span></div>\n<meta content="Word.Document" name="ProgId" />\n<meta content="Microsoft Word 11" name="Generator" />\n<meta content="Microsoft Word 11" name="Originator" /><span style="font-size: medium\;"><font face="Verdana"><o:smarttagtype name="country-region" namespaceuri="urn:schemas-microsoft-com:office:smarttags"></o:smarttagtype><o:smarttagtype downloadurl="http://www.5iamas-microsoft-com:office:smarttags" name="State" namespaceuri="urn:schemas-microsoft-com:office:smarttags"></o:smarttagtype><o:smarttagtype downloadurl="http://www.5iantlavalampft-com:office:smarttags" name="Street" namespaceuri="urn:schemas-microsoft-com:office:smarttags"></o:smarttagtype><o:smarttagtype downloadurl="http://www.5iamas-microsoft-com:office:smarttags" name="City" namespaceuri="urn:schemas-microsoft-com:office:smarttags"></o:smarttagtype><o:smarttagtype downloadurl="http://www.5iamas-microsoft-com:office:smarttags" name="address" namespaceuri="urn:schemas-microsoft-com:office:smarttags"></o:smarttagtype><o:smarttagtype downloadurl="http://www.5iantlavalamp.com/" name="place" namespaceuri="urn:schemas-microsoft-com:office:smarttags"></o:smarttagtype><!--[if gte mso 9]><xml>\n <w:WordDocument>\n  <w:View>Normal</w:View>\n  <w:Zoom>0</w:Zoom>\n  <w:PunctuationKerning />\n  <w:ValidateAgainstSchemas />\n  <w:SaveIfXMLInvalid>false</w:SaveIfXMLInvalid>\n  <w:IgnoreMixedContent>false</w:IgnoreMixedContent>\n  <w:AlwaysShowPlaceholderText>false</w:AlwaysShowPlaceholderText>\n  <w:Compatibility>\n   <w:BreakWrappedTables />\n   <w:SnapToGridInCell />\n   <w:WrapTextWithPunct />\n   <w:UseAsianBreakRules />\n   <w:DontGrowAutofit />\n  </w:Compatibility>\n  <w:BrowserLevel>MicrosoftInternetExplorer4</w:BrowserLevel>\n </w:WordDocument>\n</xml><![endif]--><!--[if gte mso 9]><xml>\n <w:LatentStyles DefLockedState="false" LatentStyleCount="156">\n </w:LatentStyles>\n</xml><![endif]--><!--[if !mso]><object\n classid="clsid:38481807-CA0E-42D2-BF39-B33AF135CC4D" id=ieooui></object>\n<style>\nst1\\:*{behavior:url(#ieooui) }\n</style>\n<![endif]-->\n<style type="text/css"><!--\n /* Font Definitions */\n @font-face\n	{font-family:Verdana\;\n	panose-1:2 11 6 4 3 5 4 4 2 4\;\n	mso-font-charset:0\;\n	mso-generic-font-family:swiss\;\n	mso-font-pitch:variable\;\n	mso-font-signature:536871559 0 0 0 415 0\;}\n /* Style Definitions */\n p.MsoNormal\, li.MsoNormal\, div.MsoNormal\n	{mso-style-parent:""\;\n	margin:0in\;\n	margin-bottom:.0001pt\;\n	mso-pagination:widow-orphan\;\n	font-size:10.0pt\;\n	font-family:"Times New Roman"\;\n	mso-fareast-font-family:"Times New Roman"\;\n	color:black\;\n	mso-font-kerning:14.0pt\;}\np.MsoPlainText\, li.MsoPlainText\, div.MsoPlainText\n	{margin:0in\;\n	margin-bottom:.0001pt\;\n	mso-pagination:widow-orphan\;\n	font-size:10.0pt\;\n	font-family:"Courier New"\;\n	mso-fareast-font-family:"Times New Roman"\;}\n@page Section1\n	{size:8.5in 11.0in\;\n	margin:1.0in 1.25in 1.0in 1.25in\;\n	mso-header-margin:.5in\;\n	mso-footer-margin:.5in\;\n	mso-paper-source:0\;}\ndiv.Section1\n	{page:Section1\;}\n-->\n</style>\n<!--[if gte mso 10]>\n<style>\n /* Style Definitions */\n table.MsoNormalTable\n	{mso-style-name:"Table Normal"\;\n	mso-tstyle-rowband-size:0\;\n	mso-tstyle-colband-size:0\;\n	mso-style-noshow:yes\;\n	mso-style-parent:""\;\n	mso-padding-alt:0in 5.4pt 0in 5.4pt\;\n	mso-para-margin:0in\;\n	mso-para-margin-bottom:.0001pt\;\n	mso-pagination:widow-orphan\;\n	font-size:10.0pt\;\n	font-family:"Times New Roman"\;\n	mso-ansi-language:#0400\;\n	mso-fareast-language:#0400\;\n	mso-bidi-language:#0400\;}\n</style>\n<![endif]--> </font></span>\n<div style="text-align: center\;"><span style="font-size: medium\;"><font face="Verdana"><span style="font-family: Verdana\;"><span style="font-size: small\;"><span style="color: windowtext\;">Looking for ways to improve your bottom line? Need better marketing tools? How about vendors that can save you money? For these answers and more\, check out our Business to Business Expo and Taste.&nbsp\; Business owners\, managers\, employees and even home-based businesses from the area are invited to attend at no charge\, with a business card the only requirement for entry.&nbsp\;</span></span></span><span style="color: windowtext\; font-family: Verdana\;"><o:p></o:p></span></font></span></div>\n\n<div style="text-align: center\;"><span style="font-size: medium\;"><font face="Verdana"><span style="font-family: Verdana\;"><span style="font-size: small\;"><b><span style="color: windowtext\;">Plus enjoy samples from these great area restaurants/caterers and more-here&rsquo\;s a list of our early registrants:</span></b></span></span><b><span style="color: windowtext\; font-family: Verdana\;"><o:p></o:p></span></b></font></span></div>\n\n<div style="text-align: center\;"><span style="font-size: medium\;"><font face="Verdana"><span style="font-size: small\;"><span style="font-family: Verdana\;"><o:p><span style="font-family: Verdana\;">&nbsp\;</span></o:p></span></span></font></span></div>\n<meta content="Word.Document" name="ProgId" />\n<meta content="Microsoft Word 11" name="Generator" />\n<meta content="Microsoft Word 11" name="Originator" />\n<div style="text-align: center\;">&nbsp\;</div>\n<meta content="Word.Document" name="ProgId" />\n<meta content="Microsoft Word 11" name="Generator" />\n<meta content="Microsoft Word 11" name="Originator" />\n<div>&nbsp\;</div>\n<meta content="Word.Document" name="ProgId" />\n<meta content="Microsoft Word 11" name="Generator" />\n<meta content="Microsoft Word 11" name="Originator" />\n<div><span style="font-size: medium\;"><font face="Verdana"><span style="font-family: Verdana\;"><st1:street w:st="on"><st1:address w:st="on"><span style="font-size: small\;">&nbsp\;&nbsp\;&nbsp\;&nbsp\;&nbsp\;&nbsp\;&nbsp\;&nbsp\;&nbsp\;&nbsp\;&nbsp\;&nbsp\;&nbsp\;&nbsp\;&nbsp\;&nbsp\;&nbsp\;&nbsp\;&nbsp\;&nbsp\;&nbsp\;&nbsp\;&nbsp\;&nbsp\;&nbsp\;&nbsp\;&nbsp\;&nbsp\;&nbsp\;&nbsp\;&nbsp\;&nbsp\;Bristol Court</span></st1:address></st1:street><span style="font-size: small\;"> Legendary Catering</span></span></font></span></div>\n\n<div style="text-align: center\;"><span style="font-size: medium\;"><font face="Verdana"><span style="font-family: Verdana\;"><o:p></o:p></span></font></span></div>\n\n<div style="text-align: center\;"><span style="font-size: medium\;"><font face="Verdana"><st1:state w:st="on"><st1:place w:st="on"></st1:place></st1:state><span style="font-family: Verdana\;"><st1:state w:st="on"><st1:place w:st="on"><span style="font-size: small\;">California</span></st1:place></st1:state><span style="font-size: small\;"> Pizza Kitchen</span></span><span style="font-family: Verdana\;"><o:p></o:p></span></font></span></div>\n\n<div style="text-align: center\;"><span style="font-size: medium\;"><font face="Verdana"><span style="font-family: Verdana\;"><span style="font-size: small\;"><span style="color: windowtext\;">Catered By Design</span></span></span><span style="color: windowtext\; font-family: Verdana\;"><o:p></o:p></span></font></span></div>\n\n<div style="text-align: center\;"><span style="font-size: medium\;"><font face="Verdana"><span style="font-family: Verdana\;"><span style="font-size: small\;">Cheeseburger in </span></span><span style="font-family: Verdana\;"><st1:place w:st="on"><span style="font-family: Verdana\;"><span style="font-size: small\;">Paradise</span></span></st1:place><o:p></o:p></span></font></span></div>\n\n<div style="text-align: center\;"><span style="font-size: medium\;"><font face="Verdana"><st1:city w:st="on"><st1:place w:st="on"></st1:place></st1:city><span style="font-family: Verdana\;"><st1:city w:st="on"><st1:place w:st="on"><span style="font-size: small\;">Cumberland</span></st1:place></st1:city><span style="font-size: small\;"> Caf&eacute\;</span></span><span style="font-family: Verdana\;"><o:p></o:p></span></font></span></div>\n\n<div style="text-align: center\;"><span style="font-size: medium\;"><font face="Verdana"><span style="font-family: Verdana\;"><span style="font-size: small\;">Edible Arrangements</span></span><span style="font-family: Verdana\;"><o:p></o:p></span></font></span></div>\n\n<div style="text-align: center\;"><span style="font-size: medium\;"><font face="Verdana"><span style="font-family: Verdana\;"><span style="font-size: small\;"><span style="color: windowtext\;">Gullivers Pizzeria&nbsp\;&amp\; Restaurant</span></span></span><span style="color: windowtext\; font-family: Verdana\;"><o:p></o:p></span></font></span></div>\n\n<div style="text-align: center\;"><span style="font-size: medium\;"><font face="Verdana"><st1:state w:st="on"><st1:place w:st="on"></st1:place></st1:state><span style="font-family: Verdana\;"><st1:state w:st="on"><st1:place w:st="on"><span style="font-size: small\;">Illinois</span></st1:place></st1:state><span style="font-size: small\;"> Nut &amp\; Candy </span></span><span style="font-family: Verdana\;"><o:p></o:p></span></font></span></div>\n\n<div style="text-align: center\;"><span style="font-size: medium\;"><font face="Verdana"><span style="font-family: Verdana\;"><span style="font-size: small\;">Katie&rsquo\;s Kitchen </span></span><span style="font-family: Verdana\;"><o:p></o:p></span></font></span></div>\n\n<div style="text-align: center\;"><span style="font-size: medium\;"><font face="Verdana"><span style="font-family: Verdana\;"><span style="font-size: small\;">Maggiano&rsquo\;s Little </span></span><span style="font-family: Verdana\;"><st1:country-region w:st="on"><st1:place w:st="on"><span style="font-family: Verdana\;"><span style="font-size: small\;">Italy</span></span></st1:place></st1:country-region><o:p></o:p></span></font></span></div>\n\n<div style="text-align: center\;"><span style="font-size: medium\;"><font face="Verdana"><span style="font-family: Verdana\;"><span style="font-size: small\;">Panino&rsquo\;s Pizzeria</span></span><span style="font-family: Verdana\;"><o:p></o:p></span></font></span></div>\n\n<div style="text-align: center\;"><span style="font-size: medium\;"><font face="Verdana"><span style="font-family: Verdana\;"><span style="font-size: small\;"><span style="color: windowtext\;">Pasta D&rsquo\;Arte</span> </span></span><span style="font-family: Verdana\;"><o:p></o:p></span></font></span></div>\n\n<div style="text-align: center\;"><span style="font-size: medium\;"><font face="Verdana"><span style="font-family: Verdana\;"><span style="font-size: small\;">Tandoor India Restaurant</span></span><span style="font-family: Verdana\;"><o:p></o:p></span></font></span></div>\n\n<div style="text-align: center\;"><span style="font-size: medium\;"><font face="Verdana"><span style="font-family: Verdana\;"><span style="font-size: small\;">Wa-Pa-Ghetti&rsquo\;s Pizza</span></span><span style="font-family: Verdana\;"><o:p></o:p></span></font></span></div>\n\n<div style="text-align: center\;"><span style="font-size: medium\;"><font face="Verdana"><span style="font-size: small\;"><span style="font-family: Verdana\;"><o:p><span style="font-family: Verdana\;">&nbsp\;</span></o:p></span></span><span style="font-family: Verdana\;"><o:p></o:p></span></font></span></div>\n\n<p><span style="font-size: medium\;"><font face="Verdana">&nbsp\;</font></span></p>\n<span style="font-size: medium\;"><font face="Verdana"> </font></span>
LOCATION:Bristol Court Banquets 828 Rand Road Mt. Prospect\, IL 60056
UID:e.151.125
SEQUENCE:3
DTSTAMP:20260421T232754Z
URL:https://business.nileschamber.com/events/details/2009-multi-chamber-business-to-business-expo-taste-bristol-courts-10-22-2009-125
END:VEVENT

END:VCALENDAR
