BEGIN:VCALENDAR
VERSION:2.0
PRODID:-//ChamberMaster//Event Calendar 2.0//EN
METHOD:PUBLISH
X-PUBLISHED-TTL:P3D
REFRESH-INTERVAL:P3D
CALSCALE:GREGORIAN
BEGIN:VEVENT
DTSTART:20090520T220000Z
DTEND:20090521T000000Z
X-MICROSOFT-CDO-ALLDAYEVENT:FALSE
SUMMARY:2009 Multi-Chamber Business After Hours - Lin-Mar Motors
DESCRIPTION:Join Niles and Morton Grove \n\nChamber Members \n\nMay Business After Hours \n\nHosted By Lin Mar Motors\n\n \n\nBusiness After Hours are a great way to network and meet area business owners and company representatives. Remember that networking is not only a resource to gain customers and generate leads\, but also a chance to find new vendors\, share new ideas\, or find new ways to offer benefits to your employees. \n\n \n\nEvent Registration posted online*. \n\nCheck out who is attending the event. Any Niles Chamber member that registers before Friday\, May 15th will be entered in a drawing to win (1) E-Vantage Featured Member ad in our weekly email blast. (Winner must be present). *Registrations are posted from the Chamber office and NOT automatic. \n\n \n\nNiles Chamber Members Attending:\nDennis Vaccaro - RV Enterprises\, Ltd.\n\nPatti Spiegelman - C&M Auto Service\, Inc.\n\nChuck Hartogh - C&M Auto Service\, Inc.\n\nDr. Bruce Hertz - Aikens-Hertz Family Medical Center\n\nJoe Walsh - Access Benefit Solutions\n\nRakesh Gangwani - Big Cinemas\n\nMike Cielinski - Signature Apparel\n\nRich Mangold - RCM Home Inspections\, LLC\n\nMarty Adelberg - Electronic Merchant Systems\n\nTom Gregory - First Bank\n\nShetal Desai - First Bank\n\nLinda Bond - Regency Rehabilitation Center\n\nAnna Kolis - Regency Rehabilitation Center\n\nLisy Peters - Healthy Babies Healthy Families\n\nKathleen Spychala - Ability Vending\, Inc.\n\nTim Telow - Frank's Lawnmower\n\nShail Shah - Advanced Business Consultants\n\nYves Khoury - Magtag Graphic\n\nBill Kivit - NorthSide Community Bank\n\nRegina Verdico - Golf Mill Shopping Center\n\nAngelika Jurczyk - Golf Mill Shopping Center\n\nScott Polman - Attorney\n\nJoanne Cwynar - Ambassador\n\nDebra Sloan - JCare Home Medical Supplies\, Inc.\n\nNick Katsoolias - Edward Jones Company\n\nBob Ryan - Express Employment Professionals\n\nJeffrey Butler - Kessler\, Orlean\, Silver & Co.
X-ALT-DESC;FMTTYPE=text/html:<div>\n<div>&nbsp\;</div>\n\n<div align="center"><span style="color: black\; font-size: 10pt\; font-style: normal\; mso-fareast-language: EN-US\; mso-fareast-font-family: ?Times New Roman?\; mso-ansi-language: EN-US\; mso-bidi-language: AR-SA\; mso-bidi-font-style: italic\;"><font face="Verdana" size="4"><strong>Join Niles and Morton Grove </strong></font></span></div>\n\n<div align="center"><span style="color: black\; font-size: 10pt\; font-style: normal\; mso-fareast-language: EN-US\; mso-fareast-font-family: ?Times New Roman?\; mso-ansi-language: EN-US\; mso-bidi-language: AR-SA\; mso-bidi-font-style: italic\;"><font face="Verdana" size="4"><strong>Chamber Members </strong></font></span></div>\n\n<div align="center"><span style="color: black\; font-size: 10pt\; font-style: normal\; mso-fareast-language: EN-US\; mso-fareast-font-family: ?Times New Roman?\; mso-ansi-language: EN-US\; mso-bidi-language: AR-SA\; mso-bidi-font-style: italic\;"><font face="Verdana" size="4"><strong>May Business After&nbsp\;Hours </strong></font></span></div>\n\n<div align="center"><span style="color: black\; font-size: 10pt\; font-style: normal\; mso-fareast-language: EN-US\; mso-fareast-font-family: ?Times New Roman?\; mso-ansi-language: EN-US\; mso-bidi-language: AR-SA\; mso-bidi-font-style: italic\;"><font face="Verdana" size="4"><strong>Hosted By </strong></font></span><span style="color: black\; font-size: 10pt\; font-style: normal\; mso-fareast-language: EN-US\; mso-fareast-font-family: ?Times New Roman?\; mso-ansi-language: EN-US\; mso-bidi-language: AR-SA\; mso-bidi-font-style: italic\;"><font face="Verdana" size="4"><strong>Lin Mar Motors</strong></font></span></div>\n\n<div>&nbsp\;</div>\n\n<div><span style="color: black\; font-size: 10pt\; font-style: normal\; mso-fareast-language: EN-US\; mso-fareast-font-family: ?Times New Roman?\; mso-ansi-language: EN-US\; mso-bidi-language: AR-SA\; mso-bidi-font-style: italic\;"><font face="Verdana">Business After Hours are a great way to network and meet area business owners and company representatives. Remember that networking is not only a resource to gain customers and generate leads\, but also a chance to find new vendors\, share new ideas\, or find new ways to offer benefits to your employees. </font></span></div>\n\n<div><font face="Verdana" size="2">&nbsp\;</font></div>\n\n<div><span style="color: black\; font-size: 10pt\; font-style: normal\;"><font face="Verdana"><strong><font color="#000080">Event Registration posted online*.</font></strong>&nbsp\;</font></span></div>\n\n<div><font face="Verdana"><span style="color: black\; font-size: 10pt\; font-style: normal\;">Check out&nbsp\;who is attending the event. Any Niles Chamber member that registers before Friday\,&nbsp\;May 15th will be entered&nbsp\;in a drawing to win (1) E-Vantage Featured Member ad in our weekly email blast. (Winner must be present). <em>*Registrations are posted from the Chamber office and NOT automatic.</em></span><span style="color: black\; font-size: 10pt\; font-style: normal\;">&nbsp\;</span></font></div>\n\n<div>&nbsp\;</div>\n\n<div><font face="Verdana" size="2"><u><strong>Niles Chamber Members Attending:</strong></u></font></div>\n<font face="Verdana" size="2">Dennis Vaccaro - RV Enterprises\, Ltd.</font></div>\n\n<div><font face="Verdana" size="2">Patti Spiegelman - C&amp\;M Auto Service\, Inc.</font></div>\n\n<div><font face="Verdana" size="2">Chuck Hartogh - C&amp\;M Auto Service\, Inc.</font></div>\n\n<div><font face="Verdana" size="2">Dr. Bruce Hertz - Aikens-Hertz Family Medical Center</font></div>\n\n<div><font face="Verdana" size="2">Joe Walsh - Access Benefit Solutions</font></div>\n\n<div><font face="Verdana" size="2">Rakesh Gangwani - Big Cinemas</font></div>\n\n<div><font face="Verdana" size="2">Mike Cielinski - Signature Apparel</font></div>\n\n<div><font face="Verdana" size="2">Rich Mangold - RCM Home Inspections\, LLC</font></div>\n\n<div><font face="Verdana" size="2">Marty Adelberg - Electronic Merchant Systems</font></div>\n\n<div><font face="Verdana" size="2">Tom Gregory - First Bank</font></div>\n\n<div><font face="Verdana" size="2">Shetal Desai - First Bank</font></div>\n\n<div><font face="Verdana" size="2">Linda Bond - Regency Rehabilitation Center</font></div>\n\n<div><font face="Verdana" size="2">Anna Kolis - Regency Rehabilitation Center</font></div>\n\n<div><font face="Verdana" size="2">Lisy Peters - Healthy Babies Healthy Families</font></div>\n\n<div><font face="Verdana" size="2">Kathleen Spychala - Ability Vending\, Inc.</font></div>\n\n<div><font face="Verdana" size="2">Tim Telow - Frank&rsquo\;s Lawnmower</font></div>\n\n<div><font face="Verdana" size="2">Shail Shah - Advanced Business Consultants</font></div>\n\n<div><font face="Verdana" size="2">Yves Khoury - Magtag Graphic</font></div>\n\n<div><font face="Verdana" size="2">Bill Kivit - NorthSide Community Bank</font></div>\n\n<div><font face="Verdana" size="2">Regina Verdico - Golf Mill Shopping Center</font></div>\n\n<div><font face="Verdana" size="2">Angelika Jurczyk - Golf Mill Shopping Center</font></div>\n\n<div><font face="Verdana" size="2">Scott Polman - Attorney</font></div>\n\n<div><font face="Verdana" size="2">Joanne Cwynar - Ambassador</font></div>\n\n<div><font face="Verdana" size="2">Debra Sloan - JCare Home Medical Supplies\, Inc.</font></div>\n\n<div><font face="Verdana" size="2">Nick Katsoolias - Edward Jones Company</font></div>\n\n<div><font face="Verdana" size="2">Bob Ryan - Express Employment Professionals</font></div>\n\n<div><font face="Verdana" size="2">Jeffrey Butler - Kessler\, Orlean\, Silver &amp\; Co.</font></div>\n
LOCATION:Lin-Mar Motors 7860 Lehigh Morton Grove
UID:e.151.94
SEQUENCE:3
DTSTAMP:20260422T082129Z
URL:https://business.nileschamber.com/events/details/2009-multi-chamber-business-after-hours-lin-mar-motors-05-20-2009-94
END:VEVENT

END:VCALENDAR
