BEGIN:VCALENDAR
VERSION:2.0
PRODID:-//ChamberMaster//Event Calendar 2.0//EN
METHOD:PUBLISH
X-PUBLISHED-TTL:P3D
REFRESH-INTERVAL:P3D
CALSCALE:GREGORIAN
BEGIN:VEVENT
DTSTART:20090205T230000Z
DTEND:20090206T010000Z
X-MICROSOFT-CDO-ALLDAYEVENT:FALSE
SUMMARY:2009 Multi-Chamber Bowling Tourney - Edison Park Inn
DESCRIPTION:The Edison Park Chamber of Commerce \n\nand the \n\nNiles Chamber of  Commerce\n\npresent\n\n \n\nA Multi-Chamber Bowling Tourney!\n\n \n\nAt the Edison Park Inn\, 6715 Olmsted in Edison Park. There is a $20 charger per person which includes: three games\, shoe rental\, house ball usage\, pizza\, and a lot of fun!  There is a cash bar available.  Please call Brenda to register before February 3rd.
X-ALT-DESC;FMTTYPE=text/html:<div align="center"><font face="Verdana" size="3"><strong>The Edison Park Chamber of Commerce </strong></font></div>\n\n<div align="center"><font face="Verdana" size="3"><font size="2">and the</font> </font></div>\n\n<div align="center"><font face="Verdana" size="3"><strong>Niles Chamber of&nbsp\; Commerce</strong></font></div>\n\n<div align="center"><font face="Verdana" size="2">present</font></div>\n\n<div align="center">&nbsp\;</div>\n\n<div align="center"><font face="Verdana" size="4"><strong>A Multi-Chamber Bowling Tourney!</strong></font></div>\n\n<div>&nbsp\;</div>\n\n<div><font face="Verdana" size="2">At the Edison Park Inn\, 6715 Olmsted in Edison Park. There is a $20 charger per person which includes: three games\, shoe rental\, house ball usage\, pizza\, and a lot of fun!&nbsp\; There is a cash bar available.&nbsp\; Please call Brenda to register before February 3rd.</font></div>\n\n<div>&nbsp\;</div>\n
LOCATION:Edison Park Inn 6715 N. Olmsted\, Chicago
UID:e.151.79
SEQUENCE:3
DTSTAMP:20260422T110122Z
URL:https://business.nileschamber.com/events/details/2009-multi-chamber-bowling-tourney-edison-park-inn-02-05-2009-79
END:VEVENT

END:VCALENDAR
