BEGIN:VCALENDAR
VERSION:2.0
PRODID:-//ChamberMaster//Event Calendar 2.0//EN
METHOD:PUBLISH
X-PUBLISHED-TTL:P3D
REFRESH-INTERVAL:P3D
CALSCALE:GREGORIAN
BEGIN:VEVENT
DTSTART:20090626T140000Z
DTEND:20090626T170000Z
X-MICROSOFT-CDO-ALLDAYEVENT:FALSE
SUMMARY:2009 Job Shadow Day
DESCRIPTION:The Niles Chamber of Commerce has partnered with the Niles Teen Center for a Job Shadow Day to give local students a hands-on work experience. If your company is interested in being a "Workplace Host" please contact the Niles Chamber to sign up. Students will be matched with a company based on their skills and interests. Students will be dropped off by parents between 9:00-9:30a.m. and picked-up by Teen Center staff at 12:00 noon. An activity packet will be sent to you offering ideas\, worksheets and guidelines for making the morning a great experience for your job shadow.
X-ALT-DESC;FMTTYPE=text/html:<div style="margin: 0in 0in 0pt"><span style="font-size: 10pt"><font face="Verdana">The Niles Chamber of Commerce has partnered with the&nbsp\;Niles Teen Center for a Job Shadow Day to give local students a hands-on work experience. If your company is interested in being a &ldquo\;Workplace Host&rdquo\; please contact the Niles Chamber to sign up.&nbsp\;Students will be matched with a company based on their skills and interests. Students will be dropped off by parents between 9:00-9:30a.m. and picked-up by Teen Center staff at 12:00 noon.&nbsp\;An activity packet will be sent to you offering ideas\, worksheets and guidelines for making the morning a great experience for your job shadow.</font></span></div>
LOCATION:
UID:e.151.106
SEQUENCE:3
DTSTAMP:20260422T065841Z
URL:https://business.nileschamber.com/events/details/2009-job-shadow-day-06-26-2009-106
END:VEVENT

END:VCALENDAR
