BEGIN:VCALENDAR
VERSION:2.0
PRODID:-//ChamberMaster//Event Calendar 2.0//EN
METHOD:PUBLISH
X-PUBLISHED-TTL:P3D
REFRESH-INTERVAL:P3D
CALSCALE:GREGORIAN
BEGIN:VEVENT
DTSTART:20090211T230000Z
DTEND:20090212T010000Z
X-MICROSOFT-CDO-ALLDAYEVENT:FALSE
SUMMARY:2009 Business After Hours\, February - Bethany Terrace
DESCRIPTION:February Business After Hours hosted by:\n\n \n\nThe Bethany Terrace\n\n \n\nBusiness After Hours are a great way to network and meet area business owners and company representatives. Remember that networking is not only a resource to gain customers and generate leads\, but also a chance to find new vendors\, share new ideas\, or find new ways to offer benefits to your employees. \n\n \n\nEvent Registration posted online*. \n\nCheck out who is attending the event. Any Chamber member that registers before Friday\, February 6th will be entered in a drawing to win (1) E-Vantage Featured Member ad in our weekly email blast. (Winner must be present). *Registrations are posted from the Chamber office and NOT automatic. \n\n \n\nName (Company):\n\nDennis Vaccaro - RV Enterprises\, Ltd.\n\nBob Benton - GoSmallBiz\n\nGreg Duda - A Sterling Design - Photographic Artists\n\nDiddy Blythe - A Sterling Design - Photographic Artists\n\nRich Mangold - RCM Inspection\, LLC\n\nLaura Herlo - Jalex Builders & Remodelers\, Inc.\n\nLucia Herlo - Jalex Builders & Remodelers\, Inc.\n\nMichael Speziale - All American Bank\n\nRandy Greco - CHoLAB\, Inc.\n\nDean Strzelecki - Niles Police Department\n\nMike Yesner - Yesner Marketing\, Inc.\n\nChristopher Hanusiak - Royal Kitchen & Bath Cabinets\n\nJoe Walsh - Access Benefit Solutions\n\nDr. Bruce Hertz - Akiens-Hertz Medical Center\n\nMike Molitor - Allstate Insurance\n\nDick Barton - Barton & Barton\, Ltd.\n\nChuck Hartogh - C&M Auto Service\, Inc.\n\nPatti Spiegelman - C&M Auto Service\, Inc.\n\nNick Katsoolias - Edward Jones Company\n\nMarty Adelberg - Electronic Merchant System\n\nRoberta Koch - Eugene & Roberta Koch Amway Global IBO\n\nTom Gregory - First Bank\n\nMarg Grudzien - First Bank\n\nRegina Verdico - Golf Mill Shopping Center\n\nDavid Levine - Illinois Nut & Candy\n\nNorb Johnson - Johnson Real Estate\n\nJason Juris - Juris Remodeling\n\nIwona Filipiak - Keonig & Strey GMAC Real Estate\n\nTed Soja - Keonig & Strey GMAC Real Estate\n\nSherwin Weismann - North Suburban Hearing Services\n\nAmy Kruppe - School District #71\n\nGeorge Lowe - Sparkfactor\n\nCarie McHugh - Talman Mortgage\n\nJohn Aloisio - Tribune Products\n\nJeff Day - Tribune Products\n\nLouella Preston - Village of Niles Trustee\n\nAnna Rojek - Ameriprise Financial Services\, Inc.\n\nAlex Kerr - Ameriprise Financial Services\, Inc.\n\nAndrew Karas - Gusto Italiano\n\nKaren Burnett - The Bethany Terrace\n\nChris Cortez - The Bethany Terrace\n\nKris Hansen - The Bethany Terrace\n\nMarya Jordan - The Bethany Terrace\n\nDavid Randle - The Bethany Terrace
X-ALT-DESC;FMTTYPE=text/html:<div>&nbsp\;</div>\n\n<div align="center"><span style="color: black\; font-size: 10pt\; font-style: normal\; mso-fareast-language: EN-US\; mso-fareast-font-family: ?Times New Roman?\; mso-ansi-language: EN-US\; mso-bidi-language: AR-SA\; mso-bidi-font-style: italic\;"><font face="Verdana"><em>February&nbsp\;Business After Hours hosted by:</em></font></span></div>\n\n<div align="center">&nbsp\;</div>\n\n<div align="center"><span style="color: black\; font-size: 10pt\; font-style: normal\; mso-fareast-language: EN-US\; mso-fareast-font-family: ?Times New Roman?\; mso-ansi-language: EN-US\; mso-bidi-language: AR-SA\; mso-bidi-font-style: italic\;"><font color="#800080" face="Verdana" size="4"><strong>The Bethany Terrace</strong></font></span></div>\n\n<div><font color="#800080">&nbsp\;</font></div>\n\n<div><span style="color: black\; font-size: 10pt\; font-style: normal\; mso-fareast-language: EN-US\; mso-fareast-font-family: ?Times New Roman?\; mso-ansi-language: EN-US\; mso-bidi-language: AR-SA\; mso-bidi-font-style: italic\;"><font face="Verdana">Business After Hours are a great way to network and meet area business owners and company representatives. Remember that networking is not only a resource to gain customers and generate leads\, but also a chance to find new vendors\, share new ideas\, or find new ways to offer benefits to your employees. </font></span></div>\n\n<div><font face="Verdana" size="2">&nbsp\;</font></div>\n\n<div><span style="color: black\; font-size: 10pt\; font-style: normal\;"><font face="Verdana"><strong><font color="#000080">Event Registration posted online*.</font></strong>&nbsp\;</font></span></div>\n\n<div><font face="Verdana"><span style="color: black\; font-size: 10pt\; font-style: normal\;">Check out&nbsp\;who is attending the event. Any Chamber member that registers before Friday\,&nbsp\;February 6<sup>th</sup>&nbsp\;will be entered&nbsp\;in a drawing to win (1) E-Vantage Featured Member ad in our weekly email blast. (Winner must be present). <em>*Registrations are posted from the Chamber office and NOT automatic.</em></span><span style="color: black\; font-size: 10pt\; font-style: normal\;">&nbsp\;</span></font></div>\n\n<div><font face="Verdana" size="2">&nbsp\;</font></div>\n\n<div><span style="color: black\; font-size: 10pt\; font-style: normal\;"><u><strong><font face="Verdana">Name&nbsp\;(Company):</font></strong></u></span></div>\n\n<div><span style="color: black\; font-size: 10pt\; font-style: normal\;"><font face="Verdana">Dennis Vaccaro - RV Enterprises\, Ltd.</font></span></div>\n\n<div><span style="color: black\; font-size: 10pt\; font-style: normal\;"><font face="Verdana">Bob Benton - GoSmallBiz</font></span></div>\n\n<div><span style="color: black\; font-size: 10pt\; font-style: normal\;"><font face="Verdana">Greg Duda - A Sterling Design - Photographic Artists</font></span></div>\n\n<div><span style="color: black\; font-size: 10pt\; font-style: normal\;"><font face="Verdana">Diddy Blythe - A Sterling Design - Photographic Artists</font></span></div>\n\n<div><span style="color: black\; font-size: 10pt\; font-style: normal\;"><font face="Verdana">Rich Mangold - RCM Inspection\, LLC</font></span></div>\n\n<div><span style="color: black\; font-size: 10pt\; font-style: normal\;"><font face="Verdana">Laura Herlo - Jalex Builders &amp\; Remodelers\, Inc.</font></span></div>\n\n<div><span style="color: black\; font-size: 10pt\; font-style: normal\;"><font face="Verdana">Lucia Herlo - Jalex Builders &amp\; Remodelers\, Inc.</font></span></div>\n\n<div><span style="color: black\; font-size: 10pt\; font-style: normal\;"><font face="Verdana">Michael Speziale - All American Bank</font></span></div>\n\n<div><span style="color: black\; font-size: 10pt\; font-style: normal\;"><font face="Verdana">Randy Greco - CHoLAB\, Inc.</font></span></div>\n\n<div><span style="color: black\; font-size: 10pt\; font-style: normal\;"><font face="Verdana">Dean Strzelecki - Niles Police Department</font></span></div>\n\n<div><span style="color: black\; font-size: 10pt\; font-style: normal\;"><font face="Verdana">Mike Yesner - Yesner Marketing\, Inc.</font></span></div>\n\n<div><span style="color: black\; font-size: 10pt\; font-style: normal\;"><font face="Verdana">Christopher Hanusiak - Royal Kitchen &amp\; Bath Cabinets</font></span></div>\n\n<div><span style="color: black\; font-size: 10pt\; font-style: normal\;"><font face="Verdana">Joe Walsh - Access Benefit Solutions</font></span></div>\n\n<div><span style="color: black\; font-size: 10pt\; font-style: normal\;"><font face="Verdana">Dr. Bruce Hertz - Akiens-Hertz Medical Center</font></span></div>\n\n<div><span style="color: black\; font-size: 10pt\; font-style: normal\;"><font face="Verdana">Mike Molitor - Allstate Insurance</font></span></div>\n\n<div><span style="color: black\; font-size: 10pt\; font-style: normal\;"><font face="Verdana">Dick Barton - Barton &amp\; Barton\, Ltd.</font></span></div>\n\n<div><span style="color: black\; font-size: 10pt\; font-style: normal\;"><font face="Verdana">Chuck Hartogh - C&amp\;M Auto Service\, Inc.</font></span></div>\n\n<div><span style="color: black\; font-size: 10pt\; font-style: normal\;"><font face="Verdana">Patti Spiegelman - C&amp\;M Auto Service\, Inc.</font></span></div>\n\n<div><span style="color: black\; font-size: 10pt\; font-style: normal\;"><font face="Verdana">Nick Katsoolias - Edward Jones Company</font></span></div>\n\n<div><span style="color: black\; font-size: 10pt\; font-style: normal\;"><font face="Verdana">Marty Adelberg - Electronic Merchant System</font></span></div>\n\n<div><span style="color: black\; font-size: 10pt\; font-style: normal\;"><font face="Verdana">Roberta Koch - Eugene &amp\; Roberta Koch Amway Global IBO</font></span></div>\n\n<div><span style="color: black\; font-size: 10pt\; font-style: normal\;"><font face="Verdana">Tom Gregory - First Bank</font></span></div>\n\n<div><span style="color: black\; font-size: 10pt\; font-style: normal\;"><font face="Verdana">Marg Grudzien - First Bank</font></span></div>\n\n<div><span style="color: black\; font-size: 10pt\; font-style: normal\;"><font face="Verdana">Regina Verdico - Golf Mill Shopping Center</font></span></div>\n\n<div><span style="color: black\; font-size: 10pt\; font-style: normal\;"><font face="Verdana">David Levine - Illinois Nut &amp\; Candy</font></span></div>\n\n<div><span style="color: black\; font-size: 10pt\; font-style: normal\;"><font face="Verdana">Norb Johnson - Johnson Real Estate</font></span></div>\n\n<div><span style="color: black\; font-size: 10pt\; font-style: normal\;"><font face="Verdana">Jason Juris - Juris Remodeling</font></span></div>\n\n<div><span style="color: black\; font-size: 10pt\; font-style: normal\;"><font face="Verdana">Iwona Filipiak - Keonig &amp\; Strey GMAC Real Estate</font></span></div>\n\n<div><span style="color: black\; font-size: 10pt\; font-style: normal\;"><font face="Verdana">Ted Soja - Keonig &amp\; Strey GMAC Real Estate</font></span></div>\n\n<div><span style="color: black\; font-size: 10pt\; font-style: normal\;"><font face="Verdana">Sherwin Weismann - North Suburban Hearing Services</font></span></div>\n\n<div><span style="color: black\; font-size: 10pt\; font-style: normal\;"><font face="Verdana">Amy Kruppe - School District #71</font></span></div>\n\n<div><span style="color: black\; font-size: 10pt\; font-style: normal\;"><font face="Verdana">George Lowe - Sparkfactor</font></span></div>\n\n<div><span style="color: black\; font-size: 10pt\; font-style: normal\;"><font face="Verdana">Carie McHugh - Talman Mortgage</font></span></div>\n\n<div><span style="color: black\; font-size: 10pt\; font-style: normal\;"><font face="Verdana">John Aloisio - Tribune Products</font></span></div>\n\n<div><span style="color: black\; font-size: 10pt\; font-style: normal\;"><font face="Verdana">Jeff Day - Tribune Products</font></span></div>\n\n<div><span style="color: black\; font-size: 10pt\; font-style: normal\;"><font face="Verdana">Louella Preston - Village of Niles Trustee</font></span></div>\n\n<div><span style="color: black\; font-size: 10pt\; font-style: normal\;"><font face="Verdana">Anna Rojek - Ameriprise Financial Services\, Inc.</font></span></div>\n\n<div><span style="color: black\; font-size: 10pt\; font-style: normal\;"><font face="Verdana">Alex Kerr - Ameriprise Financial Services\, Inc.</font></span></div>\n\n<div><span style="color: black\; font-size: 10pt\; font-style: normal\;"><font face="Verdana">Andrew Karas - Gusto Italiano</font></span></div>\n\n<div><span style="color: black\; font-size: 10pt\; font-style: normal\;"><font face="Verdana">Karen Burnett - The Bethany Terrace</font></span></div>\n\n<div><span style="color: black\; font-size: 10pt\; font-style: normal\;"><font face="Verdana">Chris Cortez - The Bethany Terrace</font></span></div>\n\n<div><span style="color: black\; font-size: 10pt\; font-style: normal\;"><font face="Verdana">Kris Hansen - The Bethany Terrace</font></span></div>\n\n<div><span style="color: black\; font-size: 10pt\; font-style: normal\;"><font face="Verdana">Marya Jordan - The Bethany Terrace</font></span></div>\n\n<div><span style="color: black\; font-size: 10pt\; font-style: normal\;"><font face="Verdana">David Randle - The Bethany Terrace</font></span></div>\n
LOCATION:The Bethany Terrace 8425 Waukegan Road Morton Grove
UID:e.151.80
SEQUENCE:3
DTSTAMP:20260422T105558Z
URL:https://business.nileschamber.com/events/details/2009-business-after-hours-february-bethany-terrace-02-11-2009-80
END:VEVENT

END:VCALENDAR
