BEGIN:VCALENDAR
VERSION:2.0
PRODID:-//ChamberMaster//Event Calendar 2.0//EN
METHOD:PUBLISH
X-PUBLISHED-TTL:P3D
REFRESH-INTERVAL:P3D
CALSCALE:GREGORIAN
BEGIN:VEVENT
DTSTART:20090423T220000Z
DTEND:20090424T000000Z
X-MICROSOFT-CDO-ALLDAYEVENT:FALSE
SUMMARY:2009 Business After Hours\, April - Staples\, Cancelled
DESCRIPTION:Thursday\, April 23\n\nBusiness After Hours CANCELLED\n\n \n\nThere will be no Business After Hours in April.\n\nPlease join us on Wednesday\, May 20 at Lin Mar Motors \n\n \n\nBusiness After Hours are a great way to network and meet area business owners and company representatives. Remember that networking is not only a resource to gain customers and generate leads\, but also a chance to find new vendors\, share new ideas\, or find new ways to offer benefits to your employees.
X-ALT-DESC;FMTTYPE=text/html:<div>&nbsp\;</div>\n\n<div align="center">&nbsp\;</div>\n\n<div align="center"><span style="color: black\; font-size: 10pt\; font-style: normal\; mso-fareast-language: EN-US\; mso-fareast-font-family: ?Times New Roman?\; mso-ansi-language: EN-US\; mso-bidi-language: AR-SA\; mso-bidi-font-style: italic\;"><font face="Verdana" size="4"><em><strong>Thursday\, April 23</strong></em></font></span></div>\n\n<div align="center"><span style="color: black\; font-size: 10pt\; font-style: normal\; mso-fareast-language: EN-US\; mso-fareast-font-family: ?Times New Roman?\; mso-ansi-language: EN-US\; mso-bidi-language: AR-SA\; mso-bidi-font-style: italic\;"><font face="Verdana" size="5"><em><strong>Business After Hours <u><font color="#ff0000">CANCELLED</font></u></strong></em></font></span></div>\n\n<div align="center">&nbsp\;</div>\n\n<div align="center"><font face="Verdana" size="2"><strong>There will be no&nbsp\;</strong></font><font face="Verdana" size="2"><strong>Business After Hours in April.</strong></font></div>\n\n<div align="center"><font face="Verdana" size="2"><strong>Please join us on Wednesday\,&nbsp\;</strong></font><font face="Verdana" size="2"><strong>May 20 at Lin Mar Motors</strong></font>&nbsp\;</div>\n\n<div align="center">&nbsp\;</div>\n\n<div><span style="color: black\; font-size: 10pt\; font-style: normal\; mso-fareast-language: EN-US\; mso-fareast-font-family: ?Times New Roman?\; mso-ansi-language: EN-US\; mso-bidi-language: AR-SA\; mso-bidi-font-style: italic\;"><font face="Verdana">Business After Hours are a great way to network and meet area business owners and company representatives. Remember that networking is not only a resource to gain customers and generate leads\, but also a chance to find new vendors\, share new ideas\, or find new ways to offer benefits to your employees. </font></span></div>\n\n<div>&nbsp\;</div>\n
LOCATION:Staples 4825 Golf Road\, Skokie
UID:e.151.88
SEQUENCE:3
DTSTAMP:20260422T082001Z
URL:https://business.nileschamber.com/events/details/2009-business-after-hours-april-staples-cancelled-04-23-2009-88
END:VEVENT

END:VCALENDAR
