BEGIN:VCALENDAR
VERSION:2.0
PRODID:-//ChamberMaster//Event Calendar 2.0//EN
METHOD:PUBLISH
X-PUBLISHED-TTL:P3D
REFRESH-INTERVAL:P3D
CALSCALE:GREGORIAN
BEGIN:VEVENT
DTSTART;VALUE=DATE:20091109
DTEND;VALUE=DATE:20091114
TRANSP:TRANSPARENT
X-MICROSOFT-CDO-ALLDAYEVENT:TRUE
SUMMARY:2009 Baja Fresh Dollars for Scholars Fundraiser
DESCRIPTION:Niles Chamber Dollars for Scholars\n and Baja Fresh\n\nHelp earn important dollars for our the Niles Chamber Scholarship Fund!  Get together with co-workers\, employees\, or family and friends and help raise money while you help yourself to some great food!\n\nWhen you come into the Baja Fresh Niles location and bring in the designated flyer\, Baja Fresh will donated 15% of the proceeds to the Niles Chamber Dollars for Scholars Program.\n Click Here for Flyer\n\nGood for dine in\, take out\, or catering. Must present flyer at register.
X-ALT-DESC;FMTTYPE=text/html:<div style="text-align: center\;"><strong><span style="font-size: large\;"><span style="font-family: Verdana\;">Niles Chamber Dollars for&nbsp\;Scholars</span><br /></span></strong></div><div style="text-align: center\;"><strong><span style="font-size: large\;"><span style="font-family: Verdana\;"> and Baja Fresh</span></span></strong><span style="font-size: small\;"><span style="font-family: Verdana\;"><br /></span></span></div><div style="text-align: center\;"><span style="font-size: small\;"><span style="font-family: Verdana\;"><br /></span></span></div><div style="text-align: center\;"><span style="font-size: small\;"><span style="font-family: Verdana\;">Help earn important dollars for our the Niles Chamber Scholarship Fund! &nbsp\;Get together with co-workers\, employees\, or family and friends and help raise money while you help yourself to some great food!<br /></span></span></div><div style="text-align: center\;"><span style="font-size: small\;"><span style="font-family: Verdana\;"><br /></span></span></div><div style="text-align: center\;"><span style="font-size: small\;"><span style="font-family: Verdana\;">When you come into the Baja Fresh Niles location and bring in the designated flyer\, Baja Fresh will donated 15% of the proceeds to the </span></span></div><div style="text-align: center\;"><span style="font-size: small\;"><span style="font-family: Verdana\;">Niles Chamber Dollars for Scholars Program.<br /></span></span></div><div style="text-align: center\;">&nbsp\;</div><div style="text-align: center\;"><a href="http://www.nileschamber.com/BajaFlyer.pdf"><em><span style="font-size: large\;"><strong><span style="font-family: Verdana\;">Click Here for Flyer</span></strong></span></em><br /></a></div><div style="text-align: center\;"><span style="font-size: small\;"><span style="font-family: Verdana\;"><br /></span></span></div><div style="text-align: center\;"><span style="font-size: small\;"><span style="font-family: Verdana\;">Good for dine in\, take out\, or catering. </span></span></div><div style="text-align: center\;"><span style="font-size: small\;"><span style="font-family: Verdana\;"><u><strong>Must present flyer at register.</strong></u></span></span></div>
LOCATION:
UID:e.151.138
SEQUENCE:3
DTSTAMP:20260421T180543Z
URL:https://business.nileschamber.com/events/details/2009-baja-fresh-dollars-for-scholars-fundraiser-11-09-2009-138
END:VEVENT

END:VCALENDAR
