BEGIN:VCALENDAR
VERSION:2.0
PRODID:-//ChamberMaster//Event Calendar 2.0//EN
METHOD:PUBLISH
X-PUBLISHED-TTL:P3D
REFRESH-INTERVAL:P3D
CALSCALE:GREGORIAN
BEGIN:VEVENT
DTSTART:20250425T220000Z
DTEND:20250426T030000Z
X-MICROSOFT-CDO-ALLDAYEVENT:FALSE
SUMMARY:Night of Roses Gala: Platinum 20th Anniversary !
DESCRIPTION:Celebrating the 20th Anniversary Night of Roses Gala! \n\nIt's a platinum year to celebrate with the Niles community.  Get ready for a night of glitz and sparkle as we celebrate business community leaders and award two students with Niles Chamber scholarships on this special 20th Anniversary!
X-ALT-DESC;FMTTYPE=text/html:Celebrating the 20th Anniversary Night of Roses Gala!&nbsp\;<br />\nIt&#39\;s a platinum year to celebrate with the Niles community.&nbsp\; Get ready for a night of glitz and sparkle as we celebrate business community leaders and award two students with Niles Chamber scholarships on this special 20th Anniversary!&nbsp\;
LOCATION:White Eagle Banquets 6839 Milwaukee Ave. Niles\, IL
UID:e.151.5697
SEQUENCE:3
DTSTAMP:20260423T183459Z
URL:http://business.nileschamber.com/events/details/night-of-roses-gala-platinum-20th-anniversary-5697
END:VEVENT

END:VCALENDAR
