BEGIN:VCALENDAR
VERSION:2.0
PRODID:-//ChamberMaster//Event Calendar 2.0//EN
METHOD:PUBLISH
X-PUBLISHED-TTL:P3D
REFRESH-INTERVAL:P3D
CALSCALE:GREGORIAN
BEGIN:VEVENT
DTSTART:20241023T130000Z
DTEND:20241023T141500Z
X-MICROSOFT-CDO-ALLDAYEVENT:FALSE
SUMMARY:NCEC - Passing the Torch: Strategic Succession Planning for Business Owners
DESCRIPTION:
X-ALT-DESC;FMTTYPE=text/html:
LOCATION:Niles Chamber of Commerce Conference Room
UID:e.151.5739
SEQUENCE:3
DTSTAMP:20260421T130237Z
URL:http://business.nileschamber.com/events/details/ncec-passing-the-torch-strategic-succession-planning-for-business-owners-5739
END:VEVENT

END:VCALENDAR
